BEGIN:VCALENDAR
VERSION:2.0
PRODID:-//Detroit Cristo Rey High School - ECPv6.15.20//NONSGML v1.0//EN
CALSCALE:GREGORIAN
METHOD:PUBLISH
X-ORIGINAL-URL:https://detroitcristorey.org/es/
X-WR-CALDESC:Eventos para Detroit Cristo Rey High School
REFRESH-INTERVAL;VALUE=DURATION:PT1H
X-Robots-Tag:noindex
X-PUBLISHED-TTL:PT1H
BEGIN:VTIMEZONE
TZID:America/Detroit
BEGIN:DAYLIGHT
TZOFFSETFROM:-0500
TZOFFSETTO:-0400
TZNAME:EDT
DTSTART:20230312T070000
END:DAYLIGHT
BEGIN:STANDARD
TZOFFSETFROM:-0400
TZOFFSETTO:-0500
TZNAME:EST
DTSTART:20231105T060000
END:STANDARD
BEGIN:DAYLIGHT
TZOFFSETFROM:-0500
TZOFFSETTO:-0400
TZNAME:EDT
DTSTART:20240310T070000
END:DAYLIGHT
BEGIN:STANDARD
TZOFFSETFROM:-0400
TZOFFSETTO:-0500
TZNAME:EST
DTSTART:20241103T060000
END:STANDARD
BEGIN:DAYLIGHT
TZOFFSETFROM:-0500
TZOFFSETTO:-0400
TZNAME:EDT
DTSTART:20250309T070000
END:DAYLIGHT
BEGIN:STANDARD
TZOFFSETFROM:-0400
TZOFFSETTO:-0500
TZNAME:EST
DTSTART:20251102T060000
END:STANDARD
BEGIN:DAYLIGHT
TZOFFSETFROM:-0500
TZOFFSETTO:-0400
TZNAME:EDT
DTSTART:20260308T070000
END:DAYLIGHT
BEGIN:STANDARD
TZOFFSETFROM:-0400
TZOFFSETTO:-0500
TZNAME:EST
DTSTART:20261101T060000
END:STANDARD
END:VTIMEZONE
BEGIN:VEVENT
DTSTART;TZID=America/Detroit:20250108T180000
DTEND;TZID=America/Detroit:20250108T180000
DTSTAMP:20260422T065509
CREATED:20241215T182215Z
LAST-MODIFIED:20241215T182215Z
UID:10001175-1736359200-1736359200@detroitcristorey.org
SUMMARY:Lucha masculina Spot Light Dual en Bishop Foley High School
DESCRIPTION:
URL:https://detroitcristorey.org/es/event/lucha-masculina-spot-light-dual-en-bishop-foley-high-school/
LOCATION:Instituto Bishop Foley\, 32000 N Campbell Road\, Madison Heights\, MI\, 48071\, United States
CATEGORIES:Atletismo
END:VEVENT
BEGIN:VEVENT
DTSTART;TZID=America/Detroit:20240410T163000
DTEND;TZID=America/Detroit:20240410T163000
DTSTAMP:20260422T065509
CREATED:20240324T154923Z
LAST-MODIFIED:20240324T154923Z
UID:10000439-1712766600-1712766600@detroitcristorey.org
SUMMARY:Encuentro de atletismo
DESCRIPTION:
URL:https://detroitcristorey.org/es/event/encuentro-de-atletismo/
LOCATION:Instituto Bishop Foley\, 32000 N Campbell Road\, Madison Heights\, MI\, 48071\, United States
CATEGORIES:Atletismo
END:VEVENT
BEGIN:VEVENT
DTSTART;TZID=America/Detroit:20240110T180000
DTEND;TZID=America/Detroit:20240110T180000
DTSTAMP:20260422T065509
CREATED:20240103T174329Z
LAST-MODIFIED:20240103T174329Z
UID:10000369-1704909600-1704909600@detroitcristorey.org
SUMMARY:Lucha masculina en Bishop Foley High School
DESCRIPTION:Encuentro doble
URL:https://detroitcristorey.org/es/event/lucha-masculina-en-bishop-foley-high-school/
LOCATION:Instituto Bishop Foley\, 32000 N Campbell Road\, Madison Heights\, MI\, 48071\, United States
CATEGORIES:Atletismo
END:VEVENT
END:VCALENDAR