BEGIN:VCALENDAR
VERSION:2.0
PRODID:-//Detroit Cristo Rey High School - ECPv6.15.20//NONSGML v1.0//EN
CALSCALE:GREGORIAN
METHOD:PUBLISH
X-ORIGINAL-URL:https://detroitcristorey.org/es/
X-WR-CALDESC:Eventos para Detroit Cristo Rey High School
REFRESH-INTERVAL;VALUE=DURATION:PT1H
X-Robots-Tag:noindex
X-PUBLISHED-TTL:PT1H
BEGIN:VTIMEZONE
TZID:America/Detroit
BEGIN:DAYLIGHT
TZOFFSETFROM:-0500
TZOFFSETTO:-0400
TZNAME:EDT
DTSTART:20250309T070000
END:DAYLIGHT
BEGIN:STANDARD
TZOFFSETFROM:-0400
TZOFFSETTO:-0500
TZNAME:EST
DTSTART:20251102T060000
END:STANDARD
BEGIN:DAYLIGHT
TZOFFSETFROM:-0500
TZOFFSETTO:-0400
TZNAME:EDT
DTSTART:20260308T070000
END:DAYLIGHT
BEGIN:STANDARD
TZOFFSETFROM:-0400
TZOFFSETTO:-0500
TZNAME:EST
DTSTART:20261101T060000
END:STANDARD
BEGIN:DAYLIGHT
TZOFFSETFROM:-0500
TZOFFSETTO:-0400
TZNAME:EDT
DTSTART:20270314T070000
END:DAYLIGHT
BEGIN:STANDARD
TZOFFSETFROM:-0400
TZOFFSETTO:-0500
TZNAME:EST
DTSTART:20271107T060000
END:STANDARD
END:VTIMEZONE
BEGIN:VEVENT
DTSTART;TZID=America/Detroit:20260421T093000
DTEND;TZID=America/Detroit:20260421T120000
DTSTAMP:20260421T104342
CREATED:20260413T182336Z
LAST-MODIFIED:20260413T182336Z
UID:10001832-1776763800-1776772800@detroitcristorey.org
SUMMARY:Excursión de los alumnos de español de primer año
DESCRIPTION:
URL:https://detroitcristorey.org/es/event/excursion-de-los-alumnos-de-espanol-de-primer-ano/
CATEGORIES:Actividades estudiantiles
END:VEVENT
BEGIN:VEVENT
DTSTART;TZID=America/Detroit:20260421T120000
DTEND;TZID=America/Detroit:20260421T143000
DTSTAMP:20260421T104342
CREATED:20260413T182503Z
LAST-MODIFIED:20260413T182503Z
UID:10001834-1776772800-1776781800@detroitcristorey.org
SUMMARY:Excursión de español para estudiantes de segundo año
DESCRIPTION:
URL:https://detroitcristorey.org/es/event/excursion-de-espanol-para-estudiantes-de-segundo-ano/
CATEGORIES:Actividades estudiantiles
END:VEVENT
BEGIN:VEVENT
DTSTART;VALUE=DATE:20260422
DTEND;VALUE=DATE:20260423
DTSTAMP:20260421T104342
CREATED:20250729T184649Z
LAST-MODIFIED:20250729T184649Z
UID:10001535-1776816000-1776902399@detroitcristorey.org
SUMMARY:Día de la Tierra
DESCRIPTION:
URL:https://detroitcristorey.org/es/event/dia-de-la-tierra-2/
CATEGORIES:Vacaciones
END:VEVENT
BEGIN:VEVENT
DTSTART;VALUE=DATE:20260422
DTEND;VALUE=DATE:20260423
DTSTAMP:20260421T104342
CREATED:20250729T185134Z
LAST-MODIFIED:20250729T185134Z
UID:10001537-1776816000-1776902399@detroitcristorey.org
SUMMARY:Día de los Profesionales Administrativos
DESCRIPTION:
URL:https://detroitcristorey.org/es/event/dia-de-los-profesionales-administrativos/
CATEGORIES:Vacaciones
END:VEVENT
BEGIN:VEVENT
DTSTART;VALUE=DATE:20260423
DTEND;VALUE=DATE:20260425
DTSTAMP:20260421T104342
CREATED:20260326T203806Z
LAST-MODIFIED:20260326T203806Z
UID:10001818-1776902400-1777075199@detroitcristorey.org
SUMMARY:Detroit Prep - Visita de logros
DESCRIPTION:
URL:https://detroitcristorey.org/es/event/detroit-prep-visita-de-logros/
CATEGORIES:Académicos
END:VEVENT
BEGIN:VEVENT
DTSTART;TZID=America/Detroit:20260423T180000
DTEND;TZID=America/Detroit:20260423T190000
DTSTAMP:20260421T104342
CREATED:20251021T174456Z
LAST-MODIFIED:20260323T131400Z
UID:10001712-1776967200-1776970800@detroitcristorey.org
SUMMARY:Ceremonia de incorporación al NHS
DESCRIPTION:
URL:https://detroitcristorey.org/es/event/ceremonia-de-incorporacion-al-nhs-3/
LOCATION:Detroit Cristo Rey High School\, 5679 W. Vernor Highway\, Detroit\, MI\, 48209\, United States
CATEGORIES:Académicos
END:VEVENT
BEGIN:VEVENT
DTSTART;TZID=America/Detroit:20260424T090000
DTEND;TZID=America/Detroit:20260424T160000
DTSTAMP:20260421T104342
CREATED:20250724T155236Z
LAST-MODIFIED:20260121T185506Z
UID:10001641-1777021200-1777046400@detroitcristorey.org
SUMMARY:Jornada de trabajo de 9º curso
DESCRIPTION:
URL:https://detroitcristorey.org/es/event/jornada-de-trabajo-de-9o-curso-10/2026-04-24/
CATEGORIES:Estudio laboral
END:VEVENT
BEGIN:VEVENT
DTSTART;TZID=America/Detroit:20260424T093000
DTEND;TZID=America/Detroit:20260424T093000
DTSTAMP:20260421T104342
CREATED:20250724T155633Z
LAST-MODIFIED:20260415T172541Z
UID:10001533-1777023000-1777023000@detroitcristorey.org
SUMMARY:Inicio tardío
DESCRIPTION:
URL:https://detroitcristorey.org/es/event/inicio-tardio-8/2026-04-24/
LOCATION:Detroit Cristo Rey High School\, 5679 W. Vernor Highway\, Detroit\, MI\, 48209\, United States
CATEGORIES:Académicos
END:VEVENT
BEGIN:VEVENT
DTSTART;VALUE=DATE:20260429
DTEND;VALUE=DATE:20260503
DTSTAMP:20260421T104342
CREATED:20260219T184557Z
LAST-MODIFIED:20260219T184557Z
UID:10001776-1777420800-1777766399@detroitcristorey.org
SUMMARY:Campeonato FIRST de robótica
DESCRIPTION:
URL:https://detroitcristorey.org/es/event/campeonato-first-de-robotica/
LOCATION:Centro de Convenciones George R. Brown\, 1001 Avenida De Las Américas\, Houston\, TX\, 77010\, United States
CATEGORIES:Actividades estudiantiles
END:VEVENT
BEGIN:VEVENT
DTSTART;TZID=America/Detroit:20260430T080000
DTEND;TZID=America/Detroit:20260430T100000
DTSTAMP:20260421T104342
CREATED:20250729T185257Z
LAST-MODIFIED:20250729T185257Z
UID:10001539-1777536000-1777543200@detroitcristorey.org
SUMMARY:Desayuno para mayores
DESCRIPTION:
URL:https://detroitcristorey.org/es/event/desayuno-para-mayores-3/
CATEGORIES:Actividades estudiantiles
END:VEVENT
BEGIN:VEVENT
DTSTART;TZID=America/Detroit:20260430T093000
DTEND;TZID=America/Detroit:20260430T093000
DTSTAMP:20260421T104342
CREATED:20250724T155633Z
LAST-MODIFIED:20260415T172541Z
UID:10001838-1777541400-1777541400@detroitcristorey.org
SUMMARY:Inicio tardío
DESCRIPTION:
URL:https://detroitcristorey.org/es/event/inicio-tardio-8/2026-04-30/
LOCATION:Detroit Cristo Rey High School\, 5679 W. Vernor Highway\, Detroit\, MI\, 48209\, United States
CATEGORIES:Académicos
END:VEVENT
BEGIN:VEVENT
DTSTART;TZID=America/Detroit:20260430T190000
DTEND;TZID=America/Detroit:20260430T230000
DTSTAMP:20260421T104342
CREATED:20250729T185443Z
LAST-MODIFIED:20250729T185443Z
UID:10001541-1777575600-1777590000@detroitcristorey.org
SUMMARY:Baile de graduación
DESCRIPTION:
URL:https://detroitcristorey.org/es/event/baile-de-graduacion-3/
CATEGORIES:Actividades estudiantiles
END:VEVENT
END:VCALENDAR