BEGIN:VCALENDAR
VERSION:2.0
PRODID:-//Detroit Cristo Rey High School - ECPv6.15.20//NONSGML v1.0//EN
CALSCALE:GREGORIAN
METHOD:PUBLISH
X-WR-CALNAME:Detroit Cristo Rey High School
X-ORIGINAL-URL:https://detroitcristorey.org/es/
X-WR-CALDESC:Eventos para Detroit Cristo Rey High School
REFRESH-INTERVAL;VALUE=DURATION:PT1H
X-Robots-Tag:noindex
X-PUBLISHED-TTL:PT1H
BEGIN:VTIMEZONE
TZID:America/Detroit
BEGIN:DAYLIGHT
TZOFFSETFROM:-0500
TZOFFSETTO:-0400
TZNAME:EDT
DTSTART:20250309T070000
END:DAYLIGHT
BEGIN:STANDARD
TZOFFSETFROM:-0400
TZOFFSETTO:-0500
TZNAME:EST
DTSTART:20251102T060000
END:STANDARD
BEGIN:DAYLIGHT
TZOFFSETFROM:-0500
TZOFFSETTO:-0400
TZNAME:EDT
DTSTART:20260308T070000
END:DAYLIGHT
BEGIN:STANDARD
TZOFFSETFROM:-0400
TZOFFSETTO:-0500
TZNAME:EST
DTSTART:20261101T060000
END:STANDARD
BEGIN:DAYLIGHT
TZOFFSETFROM:-0500
TZOFFSETTO:-0400
TZNAME:EDT
DTSTART:20270314T070000
END:DAYLIGHT
BEGIN:STANDARD
TZOFFSETFROM:-0400
TZOFFSETTO:-0500
TZNAME:EST
DTSTART:20271107T060000
END:STANDARD
END:VTIMEZONE
BEGIN:VEVENT
DTSTART;TZID=America/Detroit:20260302T080000
DTEND;TZID=America/Detroit:20260302T123000
DTSTAMP:20260421T095120
CREATED:20260303T152640Z
LAST-MODIFIED:20260303T152640Z
UID:10001798-1772438400-1772454600@detroitcristorey.org
SUMMARY:Pruebas WIDA - 10º curso
DESCRIPTION:
URL:https://detroitcristorey.org/es/event/pruebas-wida-10o-curso-2/
LOCATION:Detroit Cristo Rey High School\, 5679 W. Vernor Highway\, Detroit\, MI\, 48209\, United States
CATEGORIES:Académicos
END:VEVENT
BEGIN:VEVENT
DTSTART;TZID=America/Detroit:20260303T080000
DTEND;TZID=America/Detroit:20260303T123000
DTSTAMP:20260421T095120
CREATED:20260303T152811Z
LAST-MODIFIED:20260303T152811Z
UID:10001800-1772524800-1772541000@detroitcristorey.org
SUMMARY:Pruebas WIDA - 9º curso
DESCRIPTION:
URL:https://detroitcristorey.org/es/event/pruebas-wida-9o-curso-2/
LOCATION:Detroit Cristo Rey High School\, 5679 W. Vernor Highway\, Detroit\, MI\, 48209\, United States
CATEGORIES:Académicos
END:VEVENT
BEGIN:VEVENT
DTSTART;TZID=America/Detroit:20260306T081500
DTEND;TZID=America/Detroit:20260306T081500
DTSTAMP:20260421T095120
CREATED:20251021T172528Z
LAST-MODIFIED:20251021T172528Z
UID:10001694-1772784900-1772784900@detroitcristorey.org
SUMMARY:Simulacro de tornado
DESCRIPTION:
URL:https://detroitcristorey.org/es/event/simulacro-de-tornado/2026-03-06/
LOCATION:Detroit Cristo Rey High School\, 5679 W. Vernor Highway\, Detroit\, MI\, 48209\, United States
CATEGORIES:General
END:VEVENT
BEGIN:VEVENT
DTSTART;TZID=America/Detroit:20260306T090000
DTEND;TZID=America/Detroit:20260306T160000
DTSTAMP:20260421T095120
CREATED:20250724T155236Z
LAST-MODIFIED:20260121T185506Z
UID:10001640-1772787600-1772812800@detroitcristorey.org
SUMMARY:Jornada de trabajo de 9º curso
DESCRIPTION:
URL:https://detroitcristorey.org/es/event/jornada-de-trabajo-de-9o-curso-10/2026-03-06/
CATEGORIES:Estudio laboral
END:VEVENT
BEGIN:VEVENT
DTSTART;TZID=America/Detroit:20260306T093000
DTEND;TZID=America/Detroit:20260306T093000
DTSTAMP:20260421T095120
CREATED:20250724T155633Z
LAST-MODIFIED:20260415T172541Z
UID:10001478-1772789400-1772789400@detroitcristorey.org
SUMMARY:Inicio tardío
DESCRIPTION:
URL:https://detroitcristorey.org/es/event/inicio-tardio-8/2026-03-06/
LOCATION:Detroit Cristo Rey High School\, 5679 W. Vernor Highway\, Detroit\, MI\, 48209\, United States
CATEGORIES:Académicos
END:VEVENT
BEGIN:VEVENT
DTSTART;VALUE=DATE:20260308
DTEND;VALUE=DATE:20260309
DTSTAMP:20260421T095120
CREATED:20250729T174713Z
LAST-MODIFIED:20250729T174713Z
UID:10001481-1772928000-1773014399@detroitcristorey.org
SUMMARY:Comienza el horario de verano
DESCRIPTION:
URL:https://detroitcristorey.org/es/event/comienza-el-horario-de-verano-3/
CATEGORIES:General
END:VEVENT
BEGIN:VEVENT
DTSTART;VALUE=DATE:20260309
DTEND;VALUE=DATE:20260314
DTSTAMP:20260421T095120
CREATED:20251021T172726Z
LAST-MODIFIED:20251021T172726Z
UID:10001696-1773014400-1773446399@detroitcristorey.org
SUMMARY:Semana de Concienciación sobre el Sueño
DESCRIPTION:
URL:https://detroitcristorey.org/es/event/semana-de-concienciacion-sobre-el-sueno/
LOCATION:Detroit Cristo Rey High School\, 5679 W. Vernor Highway\, Detroit\, MI\, 48209\, United States
CATEGORIES:General
END:VEVENT
BEGIN:VEVENT
DTSTART;VALUE=DATE:20260309
DTEND;VALUE=DATE:20260310
DTSTAMP:20260421T095120
CREATED:20251021T172839Z
LAST-MODIFIED:20251021T172839Z
UID:10001698-1773014400-1773100799@detroitcristorey.org
SUMMARY:Día del Pijama
DESCRIPTION:
URL:https://detroitcristorey.org/es/event/dia-del-pijama/
LOCATION:Detroit Cristo Rey High School\, 5679 W. Vernor Highway\, Detroit\, MI\, 48209\, United States
CATEGORIES:Actividades estudiantiles
END:VEVENT
BEGIN:VEVENT
DTSTART;TZID=America/Detroit:20260309T080000
DTEND;TZID=America/Detroit:20260309T123000
DTSTAMP:20260421T095120
CREATED:20260303T152934Z
LAST-MODIFIED:20260303T152934Z
UID:10001802-1773043200-1773059400@detroitcristorey.org
SUMMARY:Pruebas WIDA - Grado 11
DESCRIPTION:
URL:https://detroitcristorey.org/es/event/pruebas-wida-grado-11-2/
LOCATION:Detroit Cristo Rey High School\, 5679 W. Vernor Highway\, Detroit\, MI\, 48209\, United States
CATEGORIES:Académicos
END:VEVENT
BEGIN:VEVENT
DTSTART;TZID=America/Detroit:20260310T080000
DTEND;TZID=America/Detroit:20260310T123000
DTSTAMP:20260421T095120
CREATED:20260303T153054Z
LAST-MODIFIED:20260303T153054Z
UID:10001804-1773129600-1773145800@detroitcristorey.org
SUMMARY:Pruebas WIDA - Grado 12
DESCRIPTION:
URL:https://detroitcristorey.org/es/event/pruebas-wida-grado-12/
LOCATION:Detroit Cristo Rey High School\, 5679 W. Vernor Highway\, Detroit\, MI\, 48209\, United States
CATEGORIES:Académicos
END:VEVENT
BEGIN:VEVENT
DTSTART;VALUE=DATE:20260311
DTEND;VALUE=DATE:20260312
DTSTAMP:20260421T095120
CREATED:20260305T135622Z
LAST-MODIFIED:20260305T135622Z
UID:10001806-1773187200-1773273599@detroitcristorey.org
SUMMARY:Excursión de la clase de teatro
DESCRIPTION:
URL:https://detroitcristorey.org/es/event/excursion-de-la-clase-de-teatro/
CATEGORIES:Actividades estudiantiles
END:VEVENT
BEGIN:VEVENT
DTSTART;VALUE=DATE:20260312
DTEND;VALUE=DATE:20260315
DTSTAMP:20260421T095120
CREATED:20260219T182144Z
LAST-MODIFIED:20260219T182645Z
UID:10001770-1773273600-1773532799@detroitcristorey.org
SUMMARY:Robótica FIM Distrito Wayne Evento Estatal
DESCRIPTION:
URL:https://detroitcristorey.org/es/event/robotica-fim-distrito-wayne-evento-estatal/
LOCATION:Centro Matthaei de Wayne State\, 5101 Autopista John C Lodge\, Detroit\, 48208\, United States
CATEGORIES:Actividades estudiantiles
END:VEVENT
BEGIN:VEVENT
DTSTART;TZID=America/Detroit:20260312T134500
DTEND;TZID=America/Detroit:20260312T134500
DTSTAMP:20260421T095120
CREATED:20250724T160942Z
LAST-MODIFIED:20250729T175025Z
UID:10001483-1773323100-1773323100@detroitcristorey.org
SUMMARY:Salida anticipada
DESCRIPTION:
URL:https://detroitcristorey.org/es/event/salida-anticipada-7/2026-03-12/
CATEGORIES:Académicos
END:VEVENT
BEGIN:VEVENT
DTSTART;TZID=America/Detroit:20260312T150000
DTEND;TZID=America/Detroit:20260312T180000
DTSTAMP:20260421T095120
CREATED:20250724T173449Z
LAST-MODIFIED:20250729T175256Z
UID:10001485-1773327600-1773338400@detroitcristorey.org
SUMMARY:Reuniones de padres y profesores
DESCRIPTION:Asistencia obligatoria
URL:https://detroitcristorey.org/es/event/reuniones-de-padres-y-profesores/2026-03-12/
LOCATION:Detroit Cristo Rey High School\, 5679 W. Vernor Highway\, Detroit\, MI\, 48209\, United States
CATEGORIES:Académicos
END:VEVENT
BEGIN:VEVENT
DTSTART;TZID=America/Detroit:20260313T090000
DTEND;TZID=America/Detroit:20260313T150000
DTSTAMP:20260421T095120
CREATED:20250724T174122Z
LAST-MODIFIED:20250729T175444Z
UID:10001487-1773392400-1773414000@detroitcristorey.org
SUMMARY:Reunión del profesorado - Desarrollo profesional
DESCRIPTION:
URL:https://detroitcristorey.org/es/event/reunion-del-profesorado-desarrollo-profesional/2026-03-13/
LOCATION:Detroit Cristo Rey High School\, 5679 W. Vernor Highway\, Detroit\, MI\, 48209\, United States
CATEGORIES:Personal
END:VEVENT
BEGIN:VEVENT
DTSTART;VALUE=DATE:20260313
DTEND;VALUE=DATE:20260314
DTSTAMP:20260421T095120
CREATED:20250724T174628Z
LAST-MODIFIED:20250729T175724Z
UID:10001493-1773410241-1773410241@detroitcristorey.org
SUMMARY:No hay clases - Jornada de recuperación
DESCRIPTION:
URL:https://detroitcristorey.org/es/event/no-hay-clases-jornada-de-recuperacion/2026-03-13/
CATEGORIES:Académicos,Estudio laboral
END:VEVENT
BEGIN:VEVENT
DTSTART;VALUE=DATE:20260316
DTEND;VALUE=DATE:20260317
DTSTAMP:20260421T095120
CREATED:20250729T175955Z
LAST-MODIFIED:20250729T175955Z
UID:10001495-1773619200-1773705599@detroitcristorey.org
SUMMARY:Retiro para chicas jóvenes
DESCRIPTION:
URL:https://detroitcristorey.org/es/event/retiro-para-chicas-jovenes/
CATEGORIES:Actividades estudiantiles
END:VEVENT
BEGIN:VEVENT
DTSTART;VALUE=DATE:20260317
DTEND;VALUE=DATE:20260318
DTSTAMP:20260421T095120
CREATED:20250729T180458Z
LAST-MODIFIED:20250729T180458Z
UID:10001499-1773705600-1773791999@detroitcristorey.org
SUMMARY:Día de San Patricio
DESCRIPTION:
URL:https://detroitcristorey.org/es/event/dia-de-san-patricio-3/
CATEGORIES:Vacaciones
END:VEVENT
BEGIN:VEVENT
DTSTART;VALUE=DATE:20260318
DTEND;VALUE=DATE:20260319
DTSTAMP:20260421T095120
CREATED:20250729T180618Z
LAST-MODIFIED:20250729T180618Z
UID:10001501-1773792000-1773878399@detroitcristorey.org
SUMMARY:Retiro para mayores
DESCRIPTION:Asistencia obligatoria
URL:https://detroitcristorey.org/es/event/retiro-para-mayores-3/
CATEGORIES:Actividades estudiantiles
END:VEVENT
BEGIN:VEVENT
DTSTART;TZID=America/Detroit:20260318T080000
DTEND;TZID=America/Detroit:20260318T090000
DTSTAMP:20260421T095120
CREATED:20250724T160651Z
LAST-MODIFIED:20251020T191711Z
UID:10001700-1773820800-1773824400@detroitcristorey.org
SUMMARY:Reunión del Consejo de Administración
DESCRIPTION:
URL:https://detroitcristorey.org/es/event/reunion-del-consejo-de-administracion-6/2026-03-18/
LOCATION:Detroit Cristo Rey High School\, 5679 W. Vernor Highway\, Detroit\, MI\, 48209\, United States
CATEGORIES:Personal
END:VEVENT
BEGIN:VEVENT
DTSTART;TZID=America/Detroit:20260319T134500
DTEND;TZID=America/Detroit:20260319T134500
DTSTAMP:20260421T095120
CREATED:20251020T185642Z
LAST-MODIFIED:20251020T185642Z
UID:10001702-1773927900-1773927900@detroitcristorey.org
SUMMARY:Simulacro de incendio
DESCRIPTION:
URL:https://detroitcristorey.org/es/event/simulacro-de-incendio/2026-03-19/
LOCATION:Detroit Cristo Rey High School\, 5679 W. Vernor Highway\, Detroit\, MI\, 48209\, United States
CATEGORIES:General
END:VEVENT
BEGIN:VEVENT
DTSTART;VALUE=DATE:20260320
DTEND;VALUE=DATE:20260321
DTSTAMP:20260421T095120
CREATED:20250729T180800Z
LAST-MODIFIED:20250729T180800Z
UID:10001503-1773964800-1774051199@detroitcristorey.org
SUMMARY:Finaliza el Ramadán
DESCRIPTION:
URL:https://detroitcristorey.org/es/event/finaliza-el-ramadan/
CATEGORIES:Vacaciones
END:VEVENT
BEGIN:VEVENT
DTSTART;TZID=America/Detroit:20260320T090000
DTEND;TZID=America/Detroit:20260320T160000
DTSTAMP:20260421T095120
CREATED:20250728T202102Z
LAST-MODIFIED:20260211T205727Z
UID:10001661-1773997200-1774022400@detroitcristorey.org
SUMMARY:Jornada de trabajo del grado 12
DESCRIPTION:
URL:https://detroitcristorey.org/es/event/jornada-de-trabajo-del-grado-12-8/2026-03-20/
CATEGORIES:Estudio laboral
END:VEVENT
BEGIN:VEVENT
DTSTART;TZID=America/Detroit:20260320T093000
DTEND;TZID=America/Detroit:20260320T093000
DTSTAMP:20260421T095120
CREATED:20250724T155633Z
LAST-MODIFIED:20260415T172541Z
UID:10001479-1773999000-1773999000@detroitcristorey.org
SUMMARY:Inicio tardío
DESCRIPTION:
URL:https://detroitcristorey.org/es/event/inicio-tardio-8/2026-03-20/
LOCATION:Detroit Cristo Rey High School\, 5679 W. Vernor Highway\, Detroit\, MI\, 48209\, United States
CATEGORIES:Académicos
END:VEVENT
BEGIN:VEVENT
DTSTART;VALUE=DATE:20260323
DTEND;VALUE=DATE:20260324
DTSTAMP:20260421T095120
CREATED:20250729T180310Z
LAST-MODIFIED:20250729T180310Z
UID:10001497-1774224000-1774310399@detroitcristorey.org
SUMMARY:Retiro para jóvenes
DESCRIPTION:
URL:https://detroitcristorey.org/es/event/retiro-para-jovenes-2/
CATEGORIES:Actividades estudiantiles
END:VEVENT
BEGIN:VEVENT
DTSTART;VALUE=DATE:20260325
DTEND;VALUE=DATE:20260327
DTSTAMP:20260421T095120
CREATED:20250725T181030Z
LAST-MODIFIED:20251124T180954Z
UID:10001734-1774425600-1774544400@detroitcristorey.org
SUMMARY:Conciliación
DESCRIPTION:16 de diciembre - 13:45 a 15:30 h \n17 de diciembre - 14:15 a 15:30 h
URL:https://detroitcristorey.org/es/event/conciliacion-4/2026-03-25/
LOCATION:Detroit Cristo Rey High School\, 5679 W. Vernor Highway\, Detroit\, MI\, 48209\, United States
CATEGORIES:Fe
END:VEVENT
BEGIN:VEVENT
DTSTART;VALUE=DATE:20260327
DTEND;VALUE=DATE:20260328
DTSTAMP:20260421T095120
CREATED:20250729T181326Z
LAST-MODIFIED:20250729T181326Z
UID:10001507-1774569600-1774655999@detroitcristorey.org
SUMMARY:Termina el tercer trimestre
DESCRIPTION:
URL:https://detroitcristorey.org/es/event/termina-el-tercer-trimestre-2/
CATEGORIES:Académicos
END:VEVENT
BEGIN:VEVENT
DTSTART;VALUE=DATE:20260327
DTEND;VALUE=DATE:20260330
DTSTAMP:20260421T095120
CREATED:20260219T183207Z
LAST-MODIFIED:20260219T183207Z
UID:10001772-1774569600-1774828799@detroitcristorey.org
SUMMARY:Robótica FIM Distrito Battle Creek Evento
DESCRIPTION:
URL:https://detroitcristorey.org/es/event/robotica-fim-distrito-battle-creek-evento/
LOCATION:Escuela Secundaria Central de Battle Creek\, Calle Van Buren 100 W\, Battle Creek\, 49017\, United States
CATEGORIES:Actividades estudiantiles
END:VEVENT
BEGIN:VEVENT
DTSTART;TZID=America/Detroit:20260327T090000
DTEND;TZID=America/Detroit:20260327T160000
DTSTAMP:20260421T095120
CREATED:20250724T154847Z
LAST-MODIFIED:20260121T185229Z
UID:10001674-1774602000-1774627200@detroitcristorey.org
SUMMARY:Jornada de trabajo de 11º curso
DESCRIPTION:
URL:https://detroitcristorey.org/es/event/jornada-de-trabajo-de-11o-curso-10/2026-03-27/
CATEGORIES:Estudio laboral
END:VEVENT
BEGIN:VEVENT
DTSTART;VALUE=DATE:20260330
DTEND;VALUE=DATE:20260331
DTSTAMP:20260421T095120
CREATED:20250728T210938Z
LAST-MODIFIED:20251219T191539Z
UID:10001467-1774828800-1774915199@detroitcristorey.org
SUMMARY:Feria de empleo
DESCRIPTION:
URL:https://detroitcristorey.org/es/event/feria-de-empleo-3/
LOCATION:Detroit Cristo Rey High School\, 5679 W. Vernor Highway\, Detroit\, MI\, 48209\, United States
CATEGORIES:Actividades estudiantiles
END:VEVENT
END:VCALENDAR