BEGIN:VCALENDAR
VERSION:2.0
PRODID:-//Detroit Cristo Rey High School - ECPv6.15.20//NONSGML v1.0//EN
CALSCALE:GREGORIAN
METHOD:PUBLISH
X-ORIGINAL-URL:https://detroitcristorey.org/es/
X-WR-CALDESC:Eventos para Detroit Cristo Rey High School
REFRESH-INTERVAL;VALUE=DURATION:PT1H
X-Robots-Tag:noindex
X-PUBLISHED-TTL:PT1H
BEGIN:VTIMEZONE
TZID:America/Detroit
BEGIN:DAYLIGHT
TZOFFSETFROM:-0500
TZOFFSETTO:-0400
TZNAME:EDT
DTSTART:20240310T070000
END:DAYLIGHT
BEGIN:STANDARD
TZOFFSETFROM:-0400
TZOFFSETTO:-0500
TZNAME:EST
DTSTART:20241103T060000
END:STANDARD
BEGIN:DAYLIGHT
TZOFFSETFROM:-0500
TZOFFSETTO:-0400
TZNAME:EDT
DTSTART:20250309T070000
END:DAYLIGHT
BEGIN:STANDARD
TZOFFSETFROM:-0400
TZOFFSETTO:-0500
TZNAME:EST
DTSTART:20251102T060000
END:STANDARD
BEGIN:DAYLIGHT
TZOFFSETFROM:-0500
TZOFFSETTO:-0400
TZNAME:EDT
DTSTART:20260308T070000
END:DAYLIGHT
BEGIN:STANDARD
TZOFFSETFROM:-0400
TZOFFSETTO:-0500
TZNAME:EST
DTSTART:20261101T060000
END:STANDARD
BEGIN:DAYLIGHT
TZOFFSETFROM:-0500
TZOFFSETTO:-0400
TZNAME:EDT
DTSTART:20270314T070000
END:DAYLIGHT
BEGIN:STANDARD
TZOFFSETFROM:-0400
TZOFFSETTO:-0500
TZNAME:EST
DTSTART:20271107T060000
END:STANDARD
END:VTIMEZONE
BEGIN:VEVENT
DTSTART;VALUE=DATE:20251220
DTEND;VALUE=DATE:20260105
DTSTAMP:20260424T093430
CREATED:20250725T173857Z
LAST-MODIFIED:20250725T173857Z
UID:10001352-1766188800-1767571199@detroitcristorey.org
SUMMARY:Vacaciones de Navidad
DESCRIPTION:Sin clases no hay trabajo
URL:https://detroitcristorey.org/es/event/vacaciones-de-navidad-3/
CATEGORIES:Académicos,Estudio laboral,Vacaciones
END:VEVENT
BEGIN:VEVENT
DTSTART;VALUE=DATE:20260101
DTEND;VALUE=DATE:20260102
DTSTAMP:20260424T093430
CREATED:20250728T200126Z
LAST-MODIFIED:20250728T200126Z
UID:10001398-1767225600-1767311999@detroitcristorey.org
SUMMARY:Día de Año Nuevo
DESCRIPTION:
URL:https://detroitcristorey.org/es/event/dia-de-ano-nuevo/
CATEGORIES:Vacaciones
END:VEVENT
BEGIN:VEVENT
DTSTART;VALUE=DATE:20260105
DTEND;VALUE=DATE:20260110
DTSTAMP:20260424T093430
CREATED:20250728T200349Z
LAST-MODIFIED:20250728T200349Z
UID:10001402-1767571200-1768003199@detroitcristorey.org
SUMMARY:Repaso para los exámenes
DESCRIPTION:
URL:https://detroitcristorey.org/es/event/repaso-para-los-examenes/
CATEGORIES:Académicos
END:VEVENT
BEGIN:VEVENT
DTSTART;VALUE=DATE:20260105
DTEND;VALUE=DATE:20260106
DTSTAMP:20260424T093430
CREATED:20250728T200228Z
LAST-MODIFIED:20250729T184228Z
UID:10001400-1767571200-1767657599@detroitcristorey.org
SUMMARY:Resumen de las clases
DESCRIPTION:
URL:https://detroitcristorey.org/es/event/resumen-de-las-clases-4/2026-01-05/
CATEGORIES:Académicos
END:VEVENT
BEGIN:VEVENT
DTSTART;TZID=America/Detroit:20260109T090000
DTEND;TZID=America/Detroit:20260109T160000
DTSTAMP:20260424T093430
CREATED:20250728T202102Z
LAST-MODIFIED:20260211T205727Z
UID:10001659-1767949200-1767974400@detroitcristorey.org
SUMMARY:Jornada de trabajo del grado 12
DESCRIPTION:
URL:https://detroitcristorey.org/es/event/jornada-de-trabajo-del-grado-12-8/2026-01-09/
CATEGORIES:Estudio laboral
END:VEVENT
BEGIN:VEVENT
DTSTART;TZID=America/Detroit:20260109T134500
DTEND;TZID=America/Detroit:20260109T134500
DTSTAMP:20260424T093430
CREATED:20251020T190729Z
LAST-MODIFIED:20251020T190729Z
UID:10001688-1767966300-1767966300@detroitcristorey.org
SUMMARY:Simulacro de encierro
DESCRIPTION:
URL:https://detroitcristorey.org/es/event/simulacro-de-encierro/2026-01-09/
LOCATION:Detroit Cristo Rey High School\, 5679 W. Vernor Highway\, Detroit\, MI\, 48209\, United States
CATEGORIES:General
END:VEVENT
BEGIN:VEVENT
DTSTART;TZID=America/Detroit:20260116T090000
DTEND;TZID=America/Detroit:20260116T160000
DTSTAMP:20260424T093430
CREATED:20250724T154847Z
LAST-MODIFIED:20260121T185229Z
UID:10001672-1768554000-1768579200@detroitcristorey.org
SUMMARY:Jornada de trabajo de 11º curso
DESCRIPTION:
URL:https://detroitcristorey.org/es/event/jornada-de-trabajo-de-11o-curso-10/2026-01-16/
CATEGORIES:Estudio laboral
END:VEVENT
BEGIN:VEVENT
DTSTART;TZID=America/Detroit:20260116T093000
DTEND;TZID=America/Detroit:20260116T093000
DTSTAMP:20260424T093430
CREATED:20250724T155633Z
LAST-MODIFIED:20260415T172541Z
UID:10001404-1768555800-1768555800@detroitcristorey.org
SUMMARY:Inicio tardío
DESCRIPTION:
URL:https://detroitcristorey.org/es/event/inicio-tardio-8/2026-01-16/
LOCATION:Detroit Cristo Rey High School\, 5679 W. Vernor Highway\, Detroit\, MI\, 48209\, United States
CATEGORIES:Académicos
END:VEVENT
BEGIN:VEVENT
DTSTART;VALUE=DATE:20260119
DTEND;VALUE=DATE:20260120
DTSTAMP:20260424T093430
CREATED:20250728T200649Z
LAST-MODIFIED:20250728T200649Z
UID:10001406-1768780800-1768867199@detroitcristorey.org
SUMMARY:Día de Martin Luther King
DESCRIPTION:
URL:https://detroitcristorey.org/es/event/dia-de-martin-luther-king/
CATEGORIES:Vacaciones
END:VEVENT
BEGIN:VEVENT
DTSTART;VALUE=DATE:20260119
DTEND;VALUE=DATE:20260120
DTSTAMP:20260424T093430
CREATED:20250725T180735Z
LAST-MODIFIED:20250730T203912Z
UID:10001572-1768809600-1768842000@detroitcristorey.org
SUMMARY:Sin clases no hay trabajo
DESCRIPTION:
URL:https://detroitcristorey.org/es/event/sin-clases-no-hay-trabajo-4/2026-01-19/
CATEGORIES:Académicos,Estudio laboral
END:VEVENT
BEGIN:VEVENT
DTSTART;TZID=America/Detroit:20260120T090000
DTEND;TZID=America/Detroit:20260120T160000
DTSTAMP:20260424T093430
CREATED:20250724T154847Z
LAST-MODIFIED:20260121T185229Z
UID:10001412-1768899600-1768924800@detroitcristorey.org
SUMMARY:Jornada de trabajo de 11º curso
DESCRIPTION:
URL:https://detroitcristorey.org/es/event/jornada-de-trabajo-de-11o-curso-10/2026-01-20/
CATEGORIES:Estudio laboral
END:VEVENT
BEGIN:VEVENT
DTSTART;VALUE=DATE:20260121
DTEND;VALUE=DATE:20260124
DTSTAMP:20260424T093430
CREATED:20250728T201005Z
LAST-MODIFIED:20260121T184125Z
UID:10001410-1768953600-1769212799@detroitcristorey.org
SUMMARY:Repaso para los exámenes
DESCRIPTION:
URL:https://detroitcristorey.org/es/event/examenes-semestre-1/
LOCATION:Detroit Cristo Rey High School\, 5679 W. Vernor Highway\, Detroit\, MI\, 48209\, United States
CATEGORIES:Académicos
END:VEVENT
BEGIN:VEVENT
DTSTART;TZID=America/Detroit:20260121T080000
DTEND;TZID=America/Detroit:20260121T090000
DTSTAMP:20260424T093430
CREATED:20250724T160651Z
LAST-MODIFIED:20251020T191711Z
UID:10001690-1768982400-1768986000@detroitcristorey.org
SUMMARY:Reunión del Consejo de Administración
DESCRIPTION:
URL:https://detroitcristorey.org/es/event/reunion-del-consejo-de-administracion-6/2026-01-21/
LOCATION:Detroit Cristo Rey High School\, 5679 W. Vernor Highway\, Detroit\, MI\, 48209\, United States
CATEGORIES:Personal
END:VEVENT
BEGIN:VEVENT
DTSTART;TZID=America/Detroit:20260121T090000
DTEND;TZID=America/Detroit:20260121T160000
DTSTAMP:20260424T093430
CREATED:20250724T155111Z
LAST-MODIFIED:20260121T181026Z
UID:10001644-1768986000-1769011200@detroitcristorey.org
SUMMARY:Jornada de trabajo de 10º curso
DESCRIPTION:
URL:https://detroitcristorey.org/es/event/jornada-de-trabajo-de-10o-curso-9/2026-01-21/
CATEGORIES:Estudio laboral
END:VEVENT
BEGIN:VEVENT
DTSTART;TZID=America/Detroit:20260122T090000
DTEND;TZID=America/Detroit:20260122T160000
DTSTAMP:20260424T093430
CREATED:20250724T155236Z
LAST-MODIFIED:20260121T185506Z
UID:10001416-1769072400-1769097600@detroitcristorey.org
SUMMARY:Jornada de trabajo de 9º curso
DESCRIPTION:
URL:https://detroitcristorey.org/es/event/jornada-de-trabajo-de-9o-curso-10/2026-01-22/
CATEGORIES:Estudio laboral
END:VEVENT
BEGIN:VEVENT
DTSTART;TZID=America/Detroit:20260123T090000
DTEND;TZID=America/Detroit:20260123T160000
DTSTAMP:20260424T093430
CREATED:20250728T202102Z
LAST-MODIFIED:20260211T205727Z
UID:10001739-1769158800-1769184000@detroitcristorey.org
SUMMARY:Jornada de trabajo del grado 12
DESCRIPTION:
URL:https://detroitcristorey.org/es/event/jornada-de-trabajo-del-grado-12-8/2026-01-23/
CATEGORIES:Estudio laboral
END:VEVENT
BEGIN:VEVENT
DTSTART;VALUE=DATE:20260125
DTEND;VALUE=DATE:20260201
DTSTAMP:20260424T093430
CREATED:20250728T202451Z
LAST-MODIFIED:20250728T202451Z
UID:10001427-1769299200-1769903999@detroitcristorey.org
SUMMARY:Semana de las Escuelas Católicas
DESCRIPTION:
URL:https://detroitcristorey.org/es/event/semana-de-las-escuelas-catolicas/
CATEGORIES:General
END:VEVENT
BEGIN:VEVENT
DTSTART;TZID=America/Detroit:20260126T073000
DTEND;TZID=America/Detroit:20260126T112000
DTSTAMP:20260424T093430
CREATED:20260121T182821Z
LAST-MODIFIED:20260121T184435Z
UID:10001742-1769412600-1769426400@detroitcristorey.org
SUMMARY:Exámenes - Jornada de trabajo para exámenes perdidos
DESCRIPTION:Lengua y Literatura\, Inglés\, Geometría\, Español\, Física\, Teología \nSe proporcionan bocadillos.
URL:https://detroitcristorey.org/es/event/examenes-semestre-1-jornada-de-trabajo-para-examenes-perdidos/
LOCATION:Detroit Cristo Rey High School\, 5679 W. Vernor Highway\, Detroit\, MI\, 48209\, United States
CATEGORIES:Académicos
END:VEVENT
BEGIN:VEVENT
DTSTART;TZID=America/Detroit:20260126T090000
DTEND;TZID=America/Detroit:20260126T160000
DTSTAMP:20260424T093430
CREATED:20250728T202102Z
LAST-MODIFIED:20260211T205727Z
UID:10001423-1769418000-1769443200@detroitcristorey.org
SUMMARY:Jornada de trabajo del grado 12
DESCRIPTION:
URL:https://detroitcristorey.org/es/event/jornada-de-trabajo-del-grado-12-8/2026-01-26/
CATEGORIES:Estudio laboral
END:VEVENT
BEGIN:VEVENT
DTSTART;TZID=America/Detroit:20260127T073000
DTEND;TZID=America/Detroit:20260127T112000
DTSTAMP:20260424T093430
CREATED:20260121T182933Z
LAST-MODIFIED:20260121T184348Z
UID:10001744-1769499000-1769512800@detroitcristorey.org
SUMMARY:Exámenes - Inglés y Ciencias
DESCRIPTION:Se proporcionan bocadillos
URL:https://detroitcristorey.org/es/event/examenes-semestre-1-ingles-y-ciencias/
LOCATION:Detroit Cristo Rey High School\, 5679 W. Vernor Highway\, Detroit\, MI\, 48209\, United States
CATEGORIES:Académicos
END:VEVENT
BEGIN:VEVENT
DTSTART;TZID=America/Detroit:20260127T090000
DTEND;TZID=America/Detroit:20260127T160000
DTSTAMP:20260424T093430
CREATED:20250724T154847Z
LAST-MODIFIED:20260121T185229Z
UID:10001750-1769504400-1769529600@detroitcristorey.org
SUMMARY:Jornada de trabajo de 11º curso
DESCRIPTION:
URL:https://detroitcristorey.org/es/event/jornada-de-trabajo-de-11o-curso-10/2026-01-27/
CATEGORIES:Estudio laboral
END:VEVENT
BEGIN:VEVENT
DTSTART;TZID=America/Detroit:20260128T073000
DTEND;TZID=America/Detroit:20260128T112000
DTSTAMP:20260424T093430
CREATED:20260121T183107Z
LAST-MODIFIED:20260121T184307Z
UID:10001746-1769585400-1769599200@detroitcristorey.org
SUMMARY:Exámenes - Matemáticas y Teología
DESCRIPTION:Se proporcionan bocadillos
URL:https://detroitcristorey.org/es/event/examenes-semestre-1-matematicas-y-teologia/
LOCATION:Detroit Cristo Rey High School\, 5679 W. Vernor Highway\, Detroit\, MI\, 48209\, United States
CATEGORIES:Académicos
END:VEVENT
BEGIN:VEVENT
DTSTART;TZID=America/Detroit:20260128T090000
DTEND;TZID=America/Detroit:20260128T160000
DTSTAMP:20260424T093430
CREATED:20250724T155111Z
LAST-MODIFIED:20260121T181026Z
UID:10001752-1769590800-1769616000@detroitcristorey.org
SUMMARY:Jornada de trabajo de 10º curso
DESCRIPTION:
URL:https://detroitcristorey.org/es/event/jornada-de-trabajo-de-10o-curso-9/2026-01-28/
CATEGORIES:Estudio laboral
END:VEVENT
BEGIN:VEVENT
DTSTART;TZID=America/Detroit:20260128T130000
DTEND;TZID=America/Detroit:20260128T150000
DTSTAMP:20260424T093430
CREATED:20250731T164427Z
LAST-MODIFIED:20260121T190443Z
UID:10001756-1769605200-1769612400@detroitcristorey.org
SUMMARY:Reunión de profesores
DESCRIPTION:
URL:https://detroitcristorey.org/es/event/reunion-de-profesores/2026-01-28/
LOCATION:Detroit Cristo Rey High School\, 5679 W. Vernor Highway\, Detroit\, MI\, 48209\, United States
CATEGORIES:Personal
END:VEVENT
BEGIN:VEVENT
DTSTART;VALUE=DATE:20260129
DTEND;VALUE=DATE:20260130
DTSTAMP:20260424T093430
CREATED:20250729T192430Z
LAST-MODIFIED:20260121T184639Z
UID:10001543-1769644800-1769731199@detroitcristorey.org
SUMMARY:Termina el segundo trimestre
DESCRIPTION:
URL:https://detroitcristorey.org/es/event/termina-el-segundo-trimestre-2/
CATEGORIES:Académicos
END:VEVENT
BEGIN:VEVENT
DTSTART;TZID=America/Detroit:20260129T073000
DTEND;TZID=America/Detroit:20260129T112000
DTSTAMP:20260424T093430
CREATED:20260121T183323Z
LAST-MODIFIED:20260121T184220Z
UID:10001748-1769671800-1769685600@detroitcristorey.org
SUMMARY:Exámenes - Ciencias Sociales/Lengua y Literatura y Lenguas del Mundo
DESCRIPTION:Se proporcionan bocadillos
URL:https://detroitcristorey.org/es/event/examenes-del-semestre-1-ciencias-sociales-lengua-y-literatura-y-lenguas-del-mundo/
LOCATION:Detroit Cristo Rey High School\, 5679 W. Vernor Highway\, Detroit\, MI\, 48209\, United States
CATEGORIES:Académicos
END:VEVENT
BEGIN:VEVENT
DTSTART;TZID=America/Detroit:20260129T090000
DTEND;TZID=America/Detroit:20260129T160000
DTSTAMP:20260424T093430
CREATED:20250724T155236Z
LAST-MODIFIED:20260121T185506Z
UID:10001754-1769677200-1769702400@detroitcristorey.org
SUMMARY:Jornada de trabajo de 9º curso
DESCRIPTION:
URL:https://detroitcristorey.org/es/event/jornada-de-trabajo-de-9o-curso-10/2026-01-29/
CATEGORIES:Estudio laboral
END:VEVENT
BEGIN:VEVENT
DTSTART;VALUE=DATE:20260130
DTEND;VALUE=DATE:20260131
DTSTAMP:20260424T093430
CREATED:20250728T201813Z
LAST-MODIFIED:20260121T181946Z
UID:10001420-1769731200-1769817599@detroitcristorey.org
SUMMARY:No hay clases
DESCRIPTION:
URL:https://detroitcristorey.org/es/event/no-hay-clases-7/
CATEGORIES:Académicos
END:VEVENT
BEGIN:VEVENT
DTSTART;VALUE=DATE:20260130
DTEND;VALUE=DATE:20260131
DTSTAMP:20260424T093430
CREATED:20250728T201545Z
LAST-MODIFIED:20260121T181838Z
UID:10001418-1769731200-1769817599@detroitcristorey.org
SUMMARY:Día de los récords
DESCRIPTION:Las notas del segundo trimestre deben entregarse antes de las 23:59.
URL:https://detroitcristorey.org/es/event/dia-de-los-records-3/
CATEGORIES:Personal
END:VEVENT
BEGIN:VEVENT
DTSTART;TZID=America/Detroit:20260130T090000
DTEND;TZID=America/Detroit:20260130T160000
DTSTAMP:20260424T093430
CREATED:20250724T155236Z
LAST-MODIFIED:20260121T185506Z
UID:10001639-1769763600-1769788800@detroitcristorey.org
SUMMARY:Jornada de trabajo de 9º curso
DESCRIPTION:
URL:https://detroitcristorey.org/es/event/jornada-de-trabajo-de-9o-curso-10/2026-01-30/
CATEGORIES:Estudio laboral
END:VEVENT
END:VCALENDAR