BEGIN:VCALENDAR
VERSION:2.0
PRODID:-//Detroit Cristo Rey High School - ECPv6.15.20//NONSGML v1.0//EN
CALSCALE:GREGORIAN
METHOD:PUBLISH
X-WR-CALNAME:Detroit Cristo Rey High School
X-ORIGINAL-URL:https://detroitcristorey.org/es/
X-WR-CALDESC:Eventos para Detroit Cristo Rey High School
REFRESH-INTERVAL;VALUE=DURATION:PT1H
X-Robots-Tag:noindex
X-PUBLISHED-TTL:PT1H
BEGIN:VTIMEZONE
TZID:America/Detroit
BEGIN:DAYLIGHT
TZOFFSETFROM:-0500
TZOFFSETTO:-0400
TZNAME:EDT
DTSTART:20240310T070000
END:DAYLIGHT
BEGIN:STANDARD
TZOFFSETFROM:-0400
TZOFFSETTO:-0500
TZNAME:EST
DTSTART:20241103T060000
END:STANDARD
BEGIN:DAYLIGHT
TZOFFSETFROM:-0500
TZOFFSETTO:-0400
TZNAME:EDT
DTSTART:20250309T070000
END:DAYLIGHT
BEGIN:STANDARD
TZOFFSETFROM:-0400
TZOFFSETTO:-0500
TZNAME:EST
DTSTART:20251102T060000
END:STANDARD
BEGIN:DAYLIGHT
TZOFFSETFROM:-0500
TZOFFSETTO:-0400
TZNAME:EDT
DTSTART:20260308T070000
END:DAYLIGHT
BEGIN:STANDARD
TZOFFSETFROM:-0400
TZOFFSETTO:-0500
TZNAME:EST
DTSTART:20261101T060000
END:STANDARD
END:VTIMEZONE
BEGIN:VEVENT
DTSTART;VALUE=DATE:20250829
DTEND;VALUE=DATE:20250902
DTSTAMP:20260420T074843
CREATED:20250723T155813Z
LAST-MODIFIED:20250725T164848Z
UID:10001244-1756425600-1756771199@detroitcristorey.org
SUMMARY:Fin de semana del Día del Trabajo
DESCRIPTION:Sin clases no hay trabajo
URL:https://detroitcristorey.org/es/event/fin-de-semana-del-dia-del-trabajo/
CATEGORIES:Académicos,Estudio laboral,Vacaciones
END:VEVENT
BEGIN:VEVENT
DTSTART;VALUE=DATE:20250902
DTEND;VALUE=DATE:20250903
DTSTAMP:20260420T074843
CREATED:20250724T153318Z
LAST-MODIFIED:20250724T153318Z
UID:10001246-1756771200-1756857599@detroitcristorey.org
SUMMARY:Comienza el primer trimestre
DESCRIPTION:
URL:https://detroitcristorey.org/es/event/comienza-el-primer-trimestre-2/
CATEGORIES:Académicos
END:VEVENT
BEGIN:VEVENT
DTSTART;TZID=America/Detroit:20250902T090000
DTEND;TZID=America/Detroit:20250902T160000
DTSTAMP:20260420T074843
CREATED:20250724T154847Z
LAST-MODIFIED:20260121T185229Z
UID:10001250-1756803600-1756828800@detroitcristorey.org
SUMMARY:Jornada de trabajo de 11º curso
DESCRIPTION:
URL:https://detroitcristorey.org/es/event/jornada-de-trabajo-de-11o-curso-10/2025-09-02/
CATEGORIES:Estudio laboral
END:VEVENT
BEGIN:VEVENT
DTSTART;TZID=America/Detroit:20250903T090000
DTEND;TZID=America/Detroit:20250903T160000
DTSTAMP:20260420T074843
CREATED:20250724T155111Z
LAST-MODIFIED:20260121T181026Z
UID:10001252-1756890000-1756915200@detroitcristorey.org
SUMMARY:Jornada de trabajo de 10º curso
DESCRIPTION:
URL:https://detroitcristorey.org/es/event/jornada-de-trabajo-de-10o-curso-9/2025-09-03/
CATEGORIES:Estudio laboral
END:VEVENT
BEGIN:VEVENT
DTSTART;TZID=America/Detroit:20250904T090000
DTEND;TZID=America/Detroit:20250904T160000
DTSTAMP:20260420T074843
CREATED:20250724T155236Z
LAST-MODIFIED:20260121T185506Z
UID:10001254-1756976400-1757001600@detroitcristorey.org
SUMMARY:Jornada de trabajo de 9º curso
DESCRIPTION:
URL:https://detroitcristorey.org/es/event/jornada-de-trabajo-de-9o-curso-10/2025-09-04/
CATEGORIES:Estudio laboral
END:VEVENT
BEGIN:VEVENT
DTSTART;VALUE=DATE:20250906
DTEND;VALUE=DATE:20250907
DTSTAMP:20260420T074843
CREATED:20250724T153807Z
LAST-MODIFIED:20250724T153807Z
UID:10001248-1757116800-1757203199@detroitcristorey.org
SUMMARY:Inicio de la FTC - DCR Robotics
DESCRIPTION:
URL:https://detroitcristorey.org/es/event/inicio-de-la-ftc-dcr-robotics/
LOCATION:Detroit Cristo Rey High School\, 5679 W. Vernor Highway\, Detroit\, MI\, 48209\, United States
CATEGORIES:Actividades estudiantiles
END:VEVENT
BEGIN:VEVENT
DTSTART;VALUE=DATE:20250907
DTEND;VALUE=DATE:20250908
DTSTAMP:20260420T074843
CREATED:20250724T155324Z
LAST-MODIFIED:20250724T155324Z
UID:10001256-1757203200-1757289599@detroitcristorey.org
SUMMARY:Día de los abuelos
DESCRIPTION:
URL:https://detroitcristorey.org/es/event/dia-de-los-abuelos/
CATEGORIES:Vacaciones
END:VEVENT
BEGIN:VEVENT
DTSTART;VALUE=DATE:20250911
DTEND;VALUE=DATE:20250912
DTSTAMP:20260420T074843
CREATED:20250724T155449Z
LAST-MODIFIED:20250724T155449Z
UID:10001258-1757548800-1757635199@detroitcristorey.org
SUMMARY:Día del Patriota
DESCRIPTION:
URL:https://detroitcristorey.org/es/event/dia-del-patriota/
CATEGORIES:Vacaciones
END:VEVENT
BEGIN:VEVENT
DTSTART;TZID=America/Detroit:20250912T093000
DTEND;TZID=America/Detroit:20250912T093000
DTSTAMP:20260420T074843
CREATED:20250724T155633Z
LAST-MODIFIED:20260415T172541Z
UID:10001260-1757669400-1757669400@detroitcristorey.org
SUMMARY:Inicio tardío
DESCRIPTION:
URL:https://detroitcristorey.org/es/event/inicio-tardio-8/2025-09-12/
LOCATION:Detroit Cristo Rey High School\, 5679 W. Vernor Highway\, Detroit\, MI\, 48209\, United States
CATEGORIES:Académicos
END:VEVENT
BEGIN:VEVENT
DTSTART;VALUE=DATE:20250917
DTEND;VALUE=DATE:20250918
DTSTAMP:20260420T074843
CREATED:20250724T160404Z
LAST-MODIFIED:20250724T160404Z
UID:10001264-1758067200-1758153599@detroitcristorey.org
SUMMARY:Día de la Constitución
DESCRIPTION:
URL:https://detroitcristorey.org/es/event/dia-de-la-constitucion-2/
CATEGORIES:Vacaciones
END:VEVENT
BEGIN:VEVENT
DTSTART;TZID=America/Detroit:20250917T080000
DTEND;TZID=America/Detroit:20250917T090000
DTSTAMP:20260420T074843
CREATED:20250724T160651Z
LAST-MODIFIED:20251020T191711Z
UID:10001266-1758096000-1758099600@detroitcristorey.org
SUMMARY:Reunión del Consejo de Administración
DESCRIPTION:
URL:https://detroitcristorey.org/es/event/reunion-del-consejo-de-administracion-6/2025-09-17/
LOCATION:Detroit Cristo Rey High School\, 5679 W. Vernor Highway\, Detroit\, MI\, 48209\, United States
CATEGORIES:Personal
END:VEVENT
BEGIN:VEVENT
DTSTART;TZID=America/Detroit:20250918T134500
DTEND;TZID=America/Detroit:20250918T134500
DTSTAMP:20260420T074843
CREATED:20250724T160942Z
LAST-MODIFIED:20250729T175025Z
UID:10001268-1758203100-1758203100@detroitcristorey.org
SUMMARY:Salida anticipada
DESCRIPTION:
URL:https://detroitcristorey.org/es/event/salida-anticipada-7/2025-09-18/
CATEGORIES:Académicos
END:VEVENT
BEGIN:VEVENT
DTSTART;TZID=America/Detroit:20250918T150000
DTEND;TZID=America/Detroit:20250918T180000
DTSTAMP:20260420T074843
CREATED:20250724T161140Z
LAST-MODIFIED:20250724T161140Z
UID:10001270-1758207600-1758218400@detroitcristorey.org
SUMMARY:Noche "Conoce a los profesores
DESCRIPTION:
URL:https://detroitcristorey.org/es/event/noche-conoce-a-los-profesores/
LOCATION:Detroit Cristo Rey High School\, 5679 W. Vernor Highway\, Detroit\, MI\, 48209\, United States
CATEGORIES:Académicos
END:VEVENT
BEGIN:VEVENT
DTSTART;TZID=America/Detroit:20250919T093000
DTEND;TZID=America/Detroit:20250919T093000
DTSTAMP:20260420T074843
CREATED:20250724T155633Z
LAST-MODIFIED:20260415T172541Z
UID:10001605-1758274200-1758274200@detroitcristorey.org
SUMMARY:Inicio tardío
DESCRIPTION:
URL:https://detroitcristorey.org/es/event/inicio-tardio-8/2025-09-19/
LOCATION:Detroit Cristo Rey High School\, 5679 W. Vernor Highway\, Detroit\, MI\, 48209\, United States
CATEGORIES:Académicos
END:VEVENT
BEGIN:VEVENT
DTSTART;VALUE=DATE:20250922
DTEND;VALUE=DATE:20250925
DTSTAMP:20260420T074843
CREATED:20250724T162115Z
LAST-MODIFIED:20250724T162115Z
UID:10001274-1758499200-1758758399@detroitcristorey.org
SUMMARY:Rosh Hashaná
DESCRIPTION:
URL:https://detroitcristorey.org/es/event/rosh-hashana/
CATEGORIES:Vacaciones
END:VEVENT
BEGIN:VEVENT
DTSTART;TZID=America/Detroit:20250926T093000
DTEND;TZID=America/Detroit:20250926T093000
DTSTAMP:20260420T074844
CREATED:20250724T155633Z
LAST-MODIFIED:20260415T172541Z
UID:10001262-1758879000-1758879000@detroitcristorey.org
SUMMARY:Inicio tardío
DESCRIPTION:
URL:https://detroitcristorey.org/es/event/inicio-tardio-8/2025-09-26/
LOCATION:Detroit Cristo Rey High School\, 5679 W. Vernor Highway\, Detroit\, MI\, 48209\, United States
CATEGORIES:Académicos
END:VEVENT
BEGIN:VEVENT
DTSTART;TZID=America/Detroit:20250927T083000
DTEND;TZID=America/Detroit:20250927T160000
DTSTAMP:20260420T074844
CREATED:20250724T161527Z
LAST-MODIFIED:20251124T180641Z
UID:10001272-1758961800-1758988800@detroitcristorey.org
SUMMARY:Formación en Noviolencia
DESCRIPTION:En el Centro multimedia
URL:https://detroitcristorey.org/es/event/formacion-en-noviolencia/2025-09-27/
LOCATION:Detroit Cristo Rey High School\, 5679 W. Vernor Highway\, Detroit\, MI\, 48209\, United States
CATEGORIES:Personal
END:VEVENT
END:VCALENDAR