BEGIN:VCALENDAR
VERSION:2.0
PRODID:-//Detroit Cristo Rey High School - ECPv6.15.20//NONSGML v1.0//EN
CALSCALE:GREGORIAN
METHOD:PUBLISH
X-WR-CALNAME:Detroit Cristo Rey High School
X-ORIGINAL-URL:https://detroitcristorey.org/es/
X-WR-CALDESC:Eventos para Detroit Cristo Rey High School
REFRESH-INTERVAL;VALUE=DURATION:PT1H
X-Robots-Tag:noindex
X-PUBLISHED-TTL:PT1H
BEGIN:VTIMEZONE
TZID:America/Detroit
BEGIN:DAYLIGHT
TZOFFSETFROM:-0500
TZOFFSETTO:-0400
TZNAME:EDT
DTSTART:20230312T070000
END:DAYLIGHT
BEGIN:STANDARD
TZOFFSETFROM:-0400
TZOFFSETTO:-0500
TZNAME:EST
DTSTART:20231105T060000
END:STANDARD
BEGIN:DAYLIGHT
TZOFFSETFROM:-0500
TZOFFSETTO:-0400
TZNAME:EDT
DTSTART:20240310T070000
END:DAYLIGHT
BEGIN:STANDARD
TZOFFSETFROM:-0400
TZOFFSETTO:-0500
TZNAME:EST
DTSTART:20241103T060000
END:STANDARD
BEGIN:DAYLIGHT
TZOFFSETFROM:-0500
TZOFFSETTO:-0400
TZNAME:EDT
DTSTART:20250309T070000
END:DAYLIGHT
BEGIN:STANDARD
TZOFFSETFROM:-0400
TZOFFSETTO:-0500
TZNAME:EST
DTSTART:20251102T060000
END:STANDARD
END:VTIMEZONE
BEGIN:VEVENT
DTSTART;VALUE=DATE:20240830
DTEND;VALUE=DATE:20240903
DTSTAMP:20260423T104754
CREATED:20240725T161933Z
LAST-MODIFIED:20240725T161933Z
UID:10000667-1724976000-1725321599@detroitcristorey.org
SUMMARY:Fin de semana del Día del Trabajo - Todos los asociados de vacaciones
DESCRIPTION:
URL:https://detroitcristorey.org/es/event/fin-de-semana-del-dia-del-trabajo-todos-los-asociados-de-vacaciones/
CATEGORIES:Personal,Vacaciones
END:VEVENT
BEGIN:VEVENT
DTSTART;VALUE=DATE:20240902
DTEND;VALUE=DATE:20240903
DTSTAMP:20260423T104754
CREATED:20240725T162120Z
LAST-MODIFIED:20240807T185114Z
UID:10000669-1725235200-1725321599@detroitcristorey.org
SUMMARY:Sin clases no hay trabajo
DESCRIPTION:
URL:https://detroitcristorey.org/es/event/sin-clases-no-hay-trabajo-3/2024-09-02/
CATEGORIES:Académicos,Estudio laboral
END:VEVENT
BEGIN:VEVENT
DTSTART;VALUE=DATE:20240903
DTEND;VALUE=DATE:20240904
DTSTAMP:20260423T104754
CREATED:20240725T162703Z
LAST-MODIFIED:20240725T162703Z
UID:10000677-1725321600-1725407999@detroitcristorey.org
SUMMARY:Comienza el primer trimestre
DESCRIPTION:
URL:https://detroitcristorey.org/es/event/comienza-el-primer-trimestre/
CATEGORIES:Académicos
END:VEVENT
BEGIN:VEVENT
DTSTART;TZID=America/Detroit:20240903T090000
DTEND;TZID=America/Detroit:20240903T160000
DTSTAMP:20260423T104755
CREATED:20240725T162346Z
LAST-MODIFIED:20240808T180119Z
UID:10000671-1725354000-1725379200@detroitcristorey.org
SUMMARY:Jornada de trabajo de 11º curso
DESCRIPTION:
URL:https://detroitcristorey.org/es/event/jornada-de-trabajo-de-11o-curso-9/2024-09-03/
CATEGORIES:Estudio laboral
END:VEVENT
BEGIN:VEVENT
DTSTART;TZID=America/Detroit:20240904T083000
DTEND;TZID=America/Detroit:20240904T093000
DTSTAMP:20260423T104755
CREATED:20240808T172327Z
LAST-MODIFIED:20240809T143233Z
UID:10000823-1725438600-1725442200@detroitcristorey.org
SUMMARY:Pruebas visuales
DESCRIPTION:
URL:https://detroitcristorey.org/es/event/exploracion-visual/2024-09-04/
LOCATION:Detroit Cristo Rey High School\, 5679 W. Vernor Highway\, Detroit\, MI\, 48209\, United States
CATEGORIES:General
END:VEVENT
BEGIN:VEVENT
DTSTART;TZID=America/Detroit:20240904T090000
DTEND;TZID=America/Detroit:20240904T160000
DTSTAMP:20260423T104755
CREATED:20240725T162508Z
LAST-MODIFIED:20240808T180432Z
UID:10000673-1725440400-1725465600@detroitcristorey.org
SUMMARY:Jornada de trabajo de 10º curso
DESCRIPTION:
URL:https://detroitcristorey.org/es/event/jornada-de-trabajo-de-10o-curso-8/2024-09-04/
CATEGORIES:Estudio laboral
END:VEVENT
BEGIN:VEVENT
DTSTART;TZID=America/Detroit:20240905T090000
DTEND;TZID=America/Detroit:20240905T160000
DTSTAMP:20260423T104755
CREATED:20240725T162551Z
LAST-MODIFIED:20240808T180748Z
UID:10000675-1725526800-1725552000@detroitcristorey.org
SUMMARY:Jornada de trabajo de 9º curso
DESCRIPTION:
URL:https://detroitcristorey.org/es/event/jornada-de-trabajo-de-9o-curso-9/2024-09-05/
CATEGORIES:Estudio laboral
END:VEVENT
BEGIN:VEVENT
DTSTART;VALUE=DATE:20240906
DTEND;VALUE=DATE:20240907
DTSTAMP:20260423T104755
CREATED:20240725T162811Z
LAST-MODIFIED:20240725T162811Z
UID:10000679-1725580800-1725667199@detroitcristorey.org
SUMMARY:Rotación del primer viernes laborable
DESCRIPTION:
URL:https://detroitcristorey.org/es/event/rotacion-del-primer-viernes-laborable/
CATEGORIES:Estudio laboral
END:VEVENT
BEGIN:VEVENT
DTSTART;TZID=America/Detroit:20240906T090000
DTEND;TZID=America/Detroit:20240906T160000
DTSTAMP:20260423T104755
CREATED:20240808T175612Z
LAST-MODIFIED:20240814T202418Z
UID:10000835-1725613200-1725638400@detroitcristorey.org
SUMMARY:Jornada de trabajo del grado 12
DESCRIPTION:
URL:https://detroitcristorey.org/es/event/jornada-de-trabajo-del-grado-12-7/2024-09-06/
CATEGORIES:Estudio laboral
END:VEVENT
BEGIN:VEVENT
DTSTART;VALUE=DATE:20240907
DTEND;VALUE=DATE:20240908
DTSTAMP:20260423T104755
CREATED:20240725T163014Z
LAST-MODIFIED:20240725T163014Z
UID:10000681-1725667200-1725753599@detroitcristorey.org
SUMMARY:Lanzamiento de la FTC Robótica
DESCRIPTION:
URL:https://detroitcristorey.org/es/event/lanzamiento-de-la-ftc-robotica/
LOCATION:Detroit Cristo Rey High School\, 5679 W. Vernor Highway\, Detroit\, MI\, 48209\, United States
CATEGORIES:Actividades estudiantiles
END:VEVENT
BEGIN:VEVENT
DTSTART;VALUE=DATE:20240909
DTEND;VALUE=DATE:20240914
DTSTAMP:20260423T104755
CREATED:20240809T143733Z
LAST-MODIFIED:20240809T143733Z
UID:10000857-1725840000-1726271999@detroitcristorey.org
SUMMARY:Servicios dentales de Detroit Mercy para estudiantes
DESCRIPTION:
URL:https://detroitcristorey.org/es/event/servicios-dentales-de-detroit-mercy-para-estudiantes/
LOCATION:Detroit Cristo Rey High School\, 5679 W. Vernor Highway\, Detroit\, MI\, 48209\, United States
CATEGORIES:General
END:VEVENT
BEGIN:VEVENT
DTSTART;TZID=America/Detroit:20240913T090000
DTEND;TZID=America/Detroit:20240913T160000
DTSTAMP:20260423T104755
CREATED:20240725T162346Z
LAST-MODIFIED:20240808T180119Z
UID:10000841-1726218000-1726243200@detroitcristorey.org
SUMMARY:Jornada de trabajo de 11º curso
DESCRIPTION:
URL:https://detroitcristorey.org/es/event/jornada-de-trabajo-de-11o-curso-9/2024-09-13/
CATEGORIES:Estudio laboral
END:VEVENT
BEGIN:VEVENT
DTSTART;TZID=America/Detroit:20240917T113000
DTEND;TZID=America/Detroit:20240917T130000
DTSTAMP:20260423T104755
CREATED:20240710T173330Z
LAST-MODIFIED:20240710T173330Z
UID:10000601-1726572600-1726578000@detroitcristorey.org
SUMMARY:Serie de almuerzos de trabajo
DESCRIPTION:Acompáñanos en una visita a la Escuela Secundaria Cristo Rey de Detroit y aprende más sobre nuestro Programa de Capacitación Corporativa y sobre cómo ser socio. Si quieres asistir\, por favor\, confirma tu asistencia a Nicole Gize en ngize@detroitcristorey.org.
URL:https://detroitcristorey.org/es/event/serie-de-almuerzos-de-trabajo/2024-09-17/
LOCATION:Detroit Cristo Rey High School\, 5679 W. Vernor Highway\, Detroit\, MI\, 48209\, United States
CATEGORIES:Donaciones,Estudio laboral
END:VEVENT
BEGIN:VEVENT
DTSTART;TZID=America/Detroit:20240918T080000
DTEND;TZID=America/Detroit:20240918T090000
DTSTAMP:20260423T104755
CREATED:20240725T163512Z
LAST-MODIFIED:20240814T200437Z
UID:10000685-1726646400-1726650000@detroitcristorey.org
SUMMARY:Reunión del Consejo de Administración
DESCRIPTION:
URL:https://detroitcristorey.org/es/event/reunion-del-consejo-de-administracion-5/2024-09-18/
CATEGORIES:Personal
END:VEVENT
BEGIN:VEVENT
DTSTART;VALUE=DATE:20240920
DTEND;VALUE=DATE:20240922
DTSTAMP:20260423T104755
CREATED:20240725T165114Z
LAST-MODIFIED:20240725T165114Z
UID:10000691-1726790400-1726963199@detroitcristorey.org
SUMMARY:Concurso Kettering Kickoff
DESCRIPTION:
URL:https://detroitcristorey.org/es/event/concurso-kettering-kickoff/
CATEGORIES:Actividades estudiantiles
END:VEVENT
BEGIN:VEVENT
DTSTART;TZID=America/Detroit:20240920T090000
DTEND;TZID=America/Detroit:20240920T160000
DTSTAMP:20260423T104755
CREATED:20240725T162508Z
LAST-MODIFIED:20240808T180432Z
UID:10000847-1726822800-1726848000@detroitcristorey.org
SUMMARY:Jornada de trabajo de 10º curso
DESCRIPTION:
URL:https://detroitcristorey.org/es/event/jornada-de-trabajo-de-10o-curso-8/2024-09-20/
CATEGORIES:Estudio laboral
END:VEVENT
BEGIN:VEVENT
DTSTART;TZID=America/Detroit:20240920T134500
DTEND;TZID=America/Detroit:20240920T134500
DTSTAMP:20260423T104755
CREATED:20240725T164831Z
LAST-MODIFIED:20240731T151428Z
UID:10000687-1726839900-1726839900@detroitcristorey.org
SUMMARY:Salida anticipada
DESCRIPTION:
URL:https://detroitcristorey.org/es/event/salida-anticipada-6/2024-09-20/
LOCATION:Detroit Cristo Rey High School\, 5679 W. Vernor Highway\, Detroit\, MI\, 48209\, United States
CATEGORIES:Académicos
END:VEVENT
BEGIN:VEVENT
DTSTART;TZID=America/Detroit:20240920T160000
DTEND;TZID=America/Detroit:20240920T173000
DTSTAMP:20260423T104755
CREATED:20240725T165007Z
LAST-MODIFIED:20240725T165007Z
UID:10000689-1726848000-1726853400@detroitcristorey.org
SUMMARY:Noche de encuentro con el profesor
DESCRIPTION:
URL:https://detroitcristorey.org/es/event/noche-de-encuentro-con-el-profesor/
LOCATION:Detroit Cristo Rey High School\, 5679 W. Vernor Highway\, Detroit\, MI\, 48209\, United States
CATEGORIES:Académicos
END:VEVENT
BEGIN:VEVENT
DTSTART;VALUE=DATE:20240921
DTEND;VALUE=DATE:20240922
DTSTAMP:20260423T104755
CREATED:20240725T165212Z
LAST-MODIFIED:20240725T165212Z
UID:10000693-1726876800-1726963199@detroitcristorey.org
SUMMARY:Torneo Reina de las Cortes - Chicago
DESCRIPTION:
URL:https://detroitcristorey.org/es/event/torneo-reina-de-las-cortes-chicago/
CATEGORIES:Actividades estudiantiles
END:VEVENT
BEGIN:VEVENT
DTSTART;TZID=America/Detroit:20240927T090000
DTEND;TZID=America/Detroit:20240927T160000
DTSTAMP:20260423T104755
CREATED:20240725T162551Z
LAST-MODIFIED:20240808T180748Z
UID:10000853-1727427600-1727452800@detroitcristorey.org
SUMMARY:Jornada de trabajo de 9º curso
DESCRIPTION:
URL:https://detroitcristorey.org/es/event/jornada-de-trabajo-de-9o-curso-9/2024-09-27/
CATEGORIES:Estudio laboral
END:VEVENT
BEGIN:VEVENT
DTSTART;TZID=America/Detroit:20240927T093000
DTEND;TZID=America/Detroit:20240927T093000
DTSTAMP:20260423T104755
CREATED:20240725T165332Z
LAST-MODIFIED:20240807T202428Z
UID:10000695-1727429400-1727429400@detroitcristorey.org
SUMMARY:Inicio tardío
DESCRIPTION:
URL:https://detroitcristorey.org/es/event/inicio-tardio-7/2024-09-27/
LOCATION:Detroit Cristo Rey High School\, 5679 W. Vernor Highway\, Detroit\, MI\, 48209\, United States
CATEGORIES:Académicos
END:VEVENT
BEGIN:VEVENT
DTSTART;TZID=America/Detroit:20240927T143000
DTEND;TZID=America/Detroit:20240927T160000
DTSTAMP:20260423T104755
CREATED:20240911T210704Z
LAST-MODIFIED:20240911T210704Z
UID:10001133-1727447400-1727452800@detroitcristorey.org
SUMMARY:Clínica de vacunación antigripal
DESCRIPTION:
URL:https://detroitcristorey.org/es/event/clinica-de-vacunacion-antigripal/
LOCATION:Detroit Cristo Rey High School\, 5679 W. Vernor Highway\, Detroit\, MI\, 48209\, United States
CATEGORIES:General
END:VEVENT
BEGIN:VEVENT
DTSTART;VALUE=DATE:20240928
DTEND;VALUE=DATE:20240929
DTSTAMP:20260423T104755
CREATED:20240725T165521Z
LAST-MODIFIED:20240731T152738Z
UID:10000697-1727481600-1727567999@detroitcristorey.org
SUMMARY:Apoyo FTC-FLL - Robótica
DESCRIPTION:
URL:https://detroitcristorey.org/es/event/apoyo-ftc-fll-robotica/2024-09-28/
LOCATION:Universidad de Detroit Mercy\, 4001 W. McNichols Road\, Detroit\, MI\, 48221-3038\, United States
CATEGORIES:Actividades estudiantiles
END:VEVENT
BEGIN:VEVENT
DTSTART;TZID=America/Detroit:20240928T083000
DTEND;TZID=America/Detroit:20240928T160000
DTSTAMP:20260423T104755
CREATED:20240725T163127Z
LAST-MODIFIED:20240815T195929Z
UID:10000683-1727512200-1727539200@detroitcristorey.org
SUMMARY:Formación en No Violencia
DESCRIPTION:
URL:https://detroitcristorey.org/es/event/formacion-en-no-violencia/
LOCATION:Detroit Cristo Rey High School\, 5679 W. Vernor Highway\, Detroit\, MI\, 48209\, United States
CATEGORIES:Personal
END:VEVENT
END:VCALENDAR