BEGIN:VCALENDAR
VERSION:2.0
PRODID:-//Detroit Cristo Rey High School - ECPv6.15.20//NONSGML v1.0//EN
CALSCALE:GREGORIAN
METHOD:PUBLISH
X-ORIGINAL-URL:https://detroitcristorey.org/es/
X-WR-CALDESC:Eventos para Detroit Cristo Rey High School
REFRESH-INTERVAL;VALUE=DURATION:PT1H
X-Robots-Tag:noindex
X-PUBLISHED-TTL:PT1H
BEGIN:VTIMEZONE
TZID:America/Detroit
BEGIN:DAYLIGHT
TZOFFSETFROM:-0500
TZOFFSETTO:-0400
TZNAME:EDT
DTSTART:20250309T070000
END:DAYLIGHT
BEGIN:STANDARD
TZOFFSETFROM:-0400
TZOFFSETTO:-0500
TZNAME:EST
DTSTART:20251102T060000
END:STANDARD
BEGIN:DAYLIGHT
TZOFFSETFROM:-0500
TZOFFSETTO:-0400
TZNAME:EDT
DTSTART:20260308T070000
END:DAYLIGHT
BEGIN:STANDARD
TZOFFSETFROM:-0400
TZOFFSETTO:-0500
TZNAME:EST
DTSTART:20261101T060000
END:STANDARD
BEGIN:DAYLIGHT
TZOFFSETFROM:-0500
TZOFFSETTO:-0400
TZNAME:EDT
DTSTART:20270314T070000
END:DAYLIGHT
BEGIN:STANDARD
TZOFFSETFROM:-0400
TZOFFSETTO:-0500
TZNAME:EST
DTSTART:20271107T060000
END:STANDARD
END:VTIMEZONE
BEGIN:VEVENT
DTSTART;TZID=America/Detroit:20260511T143500
DTEND;TZID=America/Detroit:20260511T153000
DTSTAMP:20260425T083806
CREATED:20260421T203713Z
LAST-MODIFIED:20260423T133438Z
UID:10001846-1778510100-1778513400@detroitcristorey.org
SUMMARY:Día STEM de la Comunidad GM
DESCRIPTION:
URL:https://detroitcristorey.org/es/event/dia-stem-de-la-comunidad-gm/
LOCATION:Detroit Cristo Rey High School\, 5679 W. Vernor Highway\, Detroit\, MI\, 48209\, United States
CATEGORIES:Actividades estudiantiles
END:VEVENT
BEGIN:VEVENT
DTSTART;VALUE=DATE:20260511
DTEND;VALUE=DATE:20260512
DTSTAMP:20260425T083806
CREATED:20260323T131113Z
LAST-MODIFIED:20260421T203438Z
UID:10001844-1778517266-1778517266@detroitcristorey.org
SUMMARY:Horario de las campanas de la Asamblea
DESCRIPTION:
URL:https://detroitcristorey.org/es/event/horario-de-las-campanas-de-la-asamblea/2026-05-11/
LOCATION:Detroit Cristo Rey High School\, 5679 W. Vernor Highway\, Detroit\, MI\, 48209\, United States
CATEGORIES:Académicos
END:VEVENT
BEGIN:VEVENT
DTSTART;TZID=America/Detroit:20260512T080000
DTEND;TZID=America/Detroit:20260512T080000
DTSTAMP:20260425T083806
CREATED:20260219T191438Z
LAST-MODIFIED:20260219T191438Z
UID:10001788-1778572800-1778572800@detroitcristorey.org
SUMMARY:Examen AP de Precálculo
DESCRIPTION:
URL:https://detroitcristorey.org/es/event/examen-ap-de-precalculo-2/
LOCATION:Detroit Cristo Rey High School\, 5679 W. Vernor Highway\, Detroit\, MI\, 48209\, United States
CATEGORIES:Académicos
END:VEVENT
BEGIN:VEVENT
DTSTART;TZID=America/Detroit:20260512T120000
DTEND;TZID=America/Detroit:20260512T120000
DTSTAMP:20260425T083806
CREATED:20260219T191556Z
LAST-MODIFIED:20260219T191556Z
UID:10001790-1778587200-1778587200@detroitcristorey.org
SUMMARY:Examen AP de Psicología
DESCRIPTION:
URL:https://detroitcristorey.org/es/event/examen-ap-de-psicologia-2/
LOCATION:Detroit Cristo Rey High School\, 5679 W. Vernor Highway\, Detroit\, MI\, 48209\, United States
CATEGORIES:Académicos
END:VEVENT
BEGIN:VEVENT
DTSTART;TZID=America/Detroit:20260513T094500
DTEND;TZID=America/Detroit:20260513T094500
DTSTAMP:20260425T083806
CREATED:20251020T185642Z
LAST-MODIFIED:20251020T185642Z
UID:10001716-1778665500-1778665500@detroitcristorey.org
SUMMARY:Simulacro de incendio
DESCRIPTION:
URL:https://detroitcristorey.org/es/event/simulacro-de-incendio/2026-05-13/
LOCATION:Detroit Cristo Rey High School\, 5679 W. Vernor Highway\, Detroit\, MI\, 48209\, United States
CATEGORIES:General
END:VEVENT
BEGIN:VEVENT
DTSTART;TZID=America/Detroit:20260515T090000
DTEND;TZID=America/Detroit:20260515T160000
DTSTAMP:20260425T083806
CREATED:20250728T202102Z
LAST-MODIFIED:20260211T205727Z
UID:10001765-1778835600-1778860800@detroitcristorey.org
SUMMARY:Jornada de trabajo del grado 12
DESCRIPTION:
URL:https://detroitcristorey.org/es/event/jornada-de-trabajo-del-grado-12-8/2026-05-15/
CATEGORIES:Estudio laboral
END:VEVENT
BEGIN:VEVENT
DTSTART;VALUE=DATE:20260515
DTEND;VALUE=DATE:20260516
DTSTAMP:20260425T083806
CREATED:20260424T201708Z
LAST-MODIFIED:20260424T201708Z
UID:10001853-1778861844-1778861844@detroitcristorey.org
SUMMARY:Recaudación de fondos Día de Vestimenta Informal Gratuita
DESCRIPTION:
URL:https://detroitcristorey.org/es/event/recaudacion-de-fondos-dia-de-vestimenta-informal-gratuita/2026-05-15/
LOCATION:Detroit Cristo Rey High School\, 5679 W. Vernor Highway\, Detroit\, MI\, 48209\, United States
CATEGORIES:Fe
END:VEVENT
BEGIN:VEVENT
DTSTART;TZID=America/Detroit:20260515T173000
DTEND;TZID=America/Detroit:20260515T220000
DTSTAMP:20260425T083806
CREATED:20250730T203124Z
LAST-MODIFIED:20260205T182628Z
UID:10001561-1778866200-1778882400@detroitcristorey.org
SUMMARY:Gala de Primavera Rey de la Luz
DESCRIPTION:17:30 h - Apertura de la inscripción\, aperitivos y barras abiertas \n18:30 h - Cena de gala \n19:00 h - Programa y subasta en vivo \n22:00 h - Fin de la velada
URL:https://detroitcristorey.org/es/event/gala-de-primavera-rey-de-la-luz/
LOCATION:Teatro Bonstelle\, Avenida Woodward 3424\, Detroit\, 48201\, United States
CATEGORIES:Donaciones
END:VEVENT
BEGIN:VEVENT
DTSTART;VALUE=DATE:20260516
DTEND;VALUE=DATE:20260517
DTSTAMP:20260425T083806
CREATED:20251021T175315Z
LAST-MODIFIED:20251021T175315Z
UID:10001720-1778889600-1778975999@detroitcristorey.org
SUMMARY:Día de las Fuerzas Armadas
DESCRIPTION:
URL:https://detroitcristorey.org/es/event/dia-de-las-fuerzas-armadas/
CATEGORIES:Vacaciones
END:VEVENT
BEGIN:VEVENT
DTSTART;VALUE=DATE:20260518
DTEND;VALUE=DATE:20260519
DTSTAMP:20260425T083806
CREATED:20260219T192134Z
LAST-MODIFIED:20260219T192134Z
UID:10001792-1779062400-1779148799@detroitcristorey.org
SUMMARY:Último día de trabajo de los mayores
DESCRIPTION:
URL:https://detroitcristorey.org/es/event/ultimo-dia-de-trabajo-de-los-mayores/
CATEGORIES:Estudio laboral
END:VEVENT
BEGIN:VEVENT
DTSTART;TZID=America/Detroit:20260520T080000
DTEND;TZID=America/Detroit:20260520T090000
DTSTAMP:20260425T083806
CREATED:20250724T160651Z
LAST-MODIFIED:20251020T191711Z
UID:10001718-1779264000-1779267600@detroitcristorey.org
SUMMARY:Reunión del Consejo de Administración
DESCRIPTION:
URL:https://detroitcristorey.org/es/event/reunion-del-consejo-de-administracion-6/2026-05-20/
LOCATION:Detroit Cristo Rey High School\, 5679 W. Vernor Highway\, Detroit\, MI\, 48209\, United States
CATEGORIES:Personal
END:VEVENT
BEGIN:VEVENT
DTSTART;TZID=America/Detroit:20260522T090000
DTEND;TZID=America/Detroit:20260522T160000
DTSTAMP:20260425T083806
CREATED:20250724T155111Z
LAST-MODIFIED:20260121T181026Z
UID:10001622-1779440400-1779465600@detroitcristorey.org
SUMMARY:Jornada de trabajo de 10º curso
DESCRIPTION:
URL:https://detroitcristorey.org/es/event/jornada-de-trabajo-de-10o-curso-9/2026-05-22/
CATEGORIES:Estudio laboral
END:VEVENT
BEGIN:VEVENT
DTSTART;TZID=America/Detroit:20260522T093000
DTEND;TZID=America/Detroit:20260522T093000
DTSTAMP:20260425T083806
CREATED:20250724T155633Z
LAST-MODIFIED:20260415T172541Z
UID:10001549-1779442200-1779442200@detroitcristorey.org
SUMMARY:Inicio tardío
DESCRIPTION:
URL:https://detroitcristorey.org/es/event/inicio-tardio-8/2026-05-22/
LOCATION:Detroit Cristo Rey High School\, 5679 W. Vernor Highway\, Detroit\, MI\, 48209\, United States
CATEGORIES:Académicos
END:VEVENT
BEGIN:VEVENT
DTSTART;VALUE=DATE:20260522
DTEND;VALUE=DATE:20260523
DTSTAMP:20260425T083806
CREATED:20260424T201708Z
LAST-MODIFIED:20260424T201708Z
UID:10001854-1779466644-1779466644@detroitcristorey.org
SUMMARY:Recaudación de fondos Día de Vestimenta Informal Gratuita
DESCRIPTION:
URL:https://detroitcristorey.org/es/event/recaudacion-de-fondos-dia-de-vestimenta-informal-gratuita/2026-05-22/
LOCATION:Detroit Cristo Rey High School\, 5679 W. Vernor Highway\, Detroit\, MI\, 48209\, United States
CATEGORIES:Fe
END:VEVENT
BEGIN:VEVENT
DTSTART;VALUE=DATE:20260524
DTEND;VALUE=DATE:20260525
DTSTAMP:20260425T083806
CREATED:20250730T203542Z
LAST-MODIFIED:20250730T203542Z
UID:10001567-1779580800-1779667199@detroitcristorey.org
SUMMARY:Pentecostés
DESCRIPTION:
URL:https://detroitcristorey.org/es/event/pentecostes/
CATEGORIES:Fe,Vacaciones
END:VEVENT
BEGIN:VEVENT
DTSTART;VALUE=DATE:20260525
DTEND;VALUE=DATE:20260526
DTSTAMP:20260425T083806
CREATED:20250730T203653Z
LAST-MODIFIED:20250730T203751Z
UID:10001569-1779667200-1779753599@detroitcristorey.org
SUMMARY:Día de los Caídos
DESCRIPTION:Todos los asociados Vacaciones
URL:https://detroitcristorey.org/es/event/dia-de-los-caidos-2/
CATEGORIES:Vacaciones
END:VEVENT
BEGIN:VEVENT
DTSTART;VALUE=DATE:20260525
DTEND;VALUE=DATE:20260526
DTSTAMP:20260425T083806
CREATED:20250725T180735Z
LAST-MODIFIED:20250730T203912Z
UID:10001573-1779727149-1779727149@detroitcristorey.org
SUMMARY:Sin clases no hay trabajo
DESCRIPTION:
URL:https://detroitcristorey.org/es/event/sin-clases-no-hay-trabajo-4/2026-05-25/
CATEGORIES:Académicos,Estudio laboral
END:VEVENT
BEGIN:VEVENT
DTSTART;VALUE=DATE:20260526
DTEND;VALUE=DATE:20260530
DTSTAMP:20260425T083806
CREATED:20250730T204028Z
LAST-MODIFIED:20250730T204028Z
UID:10001575-1779753600-1780099199@detroitcristorey.org
SUMMARY:Exámenes finales de último curso
DESCRIPTION:
URL:https://detroitcristorey.org/es/event/examenes-finales-de-ultimo-curso-3/
CATEGORIES:Académicos
END:VEVENT
BEGIN:VEVENT
DTSTART;VALUE=DATE:20260527
DTEND;VALUE=DATE:20260528
DTSTAMP:20260425T083806
CREATED:20250730T204223Z
LAST-MODIFIED:20250730T204223Z
UID:10001577-1779840000-1779926399@detroitcristorey.org
SUMMARY:Senior Clap Out
DESCRIPTION:
URL:https://detroitcristorey.org/es/event/senior-clap-out-3/
CATEGORIES:Actividades estudiantiles
END:VEVENT
BEGIN:VEVENT
DTSTART;VALUE=DATE:20260529
DTEND;VALUE=DATE:20260530
DTSTAMP:20260425T083806
CREATED:20250730T204351Z
LAST-MODIFIED:20250730T204351Z
UID:10001579-1780012800-1780099199@detroitcristorey.org
SUMMARY:Retiro de despedida para mayores
DESCRIPTION:Asistencia obligatoria
URL:https://detroitcristorey.org/es/event/retiro-de-despedida-para-mayores-3/
CATEGORIES:Actividades estudiantiles
END:VEVENT
BEGIN:VEVENT
DTSTART;TZID=America/Detroit:20260529T090000
DTEND;TZID=America/Detroit:20260529T160000
DTSTAMP:20260425T083806
CREATED:20250724T155236Z
LAST-MODIFIED:20260121T185506Z
UID:10001642-1780045200-1780070400@detroitcristorey.org
SUMMARY:Jornada de trabajo de 9º curso
DESCRIPTION:
URL:https://detroitcristorey.org/es/event/jornada-de-trabajo-de-9o-curso-10/2026-05-29/
CATEGORIES:Estudio laboral
END:VEVENT
BEGIN:VEVENT
DTSTART;VALUE=DATE:20260529
DTEND;VALUE=DATE:20260530
DTSTAMP:20260425T083806
CREATED:20260424T201708Z
LAST-MODIFIED:20260424T201708Z
UID:10001855-1780071444-1780071444@detroitcristorey.org
SUMMARY:Recaudación de fondos Día de Vestimenta Informal Gratuita
DESCRIPTION:
URL:https://detroitcristorey.org/es/event/recaudacion-de-fondos-dia-de-vestimenta-informal-gratuita/2026-05-29/
LOCATION:Detroit Cristo Rey High School\, 5679 W. Vernor Highway\, Detroit\, MI\, 48209\, United States
CATEGORIES:Fe
END:VEVENT
BEGIN:VEVENT
DTSTART;VALUE=DATE:20260602
DTEND;VALUE=DATE:20260603
DTSTAMP:20260425T083806
CREATED:20250730T205003Z
LAST-MODIFIED:20250730T205003Z
UID:10001581-1780358400-1780444799@detroitcristorey.org
SUMMARY:Día de los récords - Seniors
DESCRIPTION:Las notas del cuarto trimestre del último curso deben enviarse antes de las 11:59 p.m.
URL:https://detroitcristorey.org/es/event/dia-de-los-records-seniors/
CATEGORIES:Personal
END:VEVENT
BEGIN:VEVENT
DTSTART;TZID=America/Detroit:20260604T093000
DTEND;TZID=America/Detroit:20260604T103000
DTSTAMP:20260425T083806
CREATED:20250730T205515Z
LAST-MODIFIED:20250730T205515Z
UID:10001583-1780565400-1780569000@detroitcristorey.org
SUMMARY:Prácticas de graduación
DESCRIPTION:Asistencia obligatoria
URL:https://detroitcristorey.org/es/event/practicas-de-graduacion-3/
CATEGORIES:Actividades estudiantiles
END:VEVENT
BEGIN:VEVENT
DTSTART;TZID=America/Detroit:20260605T090000
DTEND;TZID=America/Detroit:20260605T160000
DTSTAMP:20260425T083806
CREATED:20250724T154847Z
LAST-MODIFIED:20260121T185229Z
UID:10001676-1780650000-1780675200@detroitcristorey.org
SUMMARY:Jornada de trabajo de 11º curso
DESCRIPTION:
URL:https://detroitcristorey.org/es/event/jornada-de-trabajo-de-11o-curso-10/2026-06-05/
CATEGORIES:Estudio laboral
END:VEVENT
BEGIN:VEVENT
DTSTART;TZID=America/Detroit:20260605T180000
DTEND;TZID=America/Detroit:20260605T190000
DTSTAMP:20260425T083806
CREATED:20250730T205718Z
LAST-MODIFIED:20250730T205718Z
UID:10001585-1780682400-1780686000@detroitcristorey.org
SUMMARY:Misa de Bachillerato
DESCRIPTION:Asistencia obligatoria
URL:https://detroitcristorey.org/es/event/misa-de-bachillerato-3/
CATEGORIES:Fe
END:VEVENT
BEGIN:VEVENT
DTSTART;TZID=America/Detroit:20260607T163000
DTEND;TZID=America/Detroit:20260607T163000
DTSTAMP:20260425T083806
CREATED:20250730T205841Z
LAST-MODIFIED:20260312T142924Z
UID:10001587-1780849800-1780849800@detroitcristorey.org
SUMMARY:Graduación
DESCRIPTION:
URL:https://detroitcristorey.org/es/event/graduacion-2/
CATEGORIES:Actividades estudiantiles
END:VEVENT
BEGIN:VEVENT
DTSTART;VALUE=DATE:20260608
DTEND;VALUE=DATE:20260612
DTSTAMP:20260425T083806
CREATED:20250730T205957Z
LAST-MODIFIED:20250730T205957Z
UID:10001589-1780876800-1781222399@detroitcristorey.org
SUMMARY:Exámenes finales - Grados 9 a 11
DESCRIPTION:
URL:https://detroitcristorey.org/es/event/examenes-finales-grados-9-a-11/
CATEGORIES:Académicos
END:VEVENT
BEGIN:VEVENT
DTSTART;VALUE=DATE:20260609
DTEND;VALUE=DATE:20260612
DTSTAMP:20260425T083806
CREATED:20260219T192411Z
LAST-MODIFIED:20260219T192411Z
UID:10001794-1780963200-1781222399@detroitcristorey.org
SUMMARY:Sin jornada laboral
DESCRIPTION:
URL:https://detroitcristorey.org/es/event/sin-jornada-laboral/
CATEGORIES:Estudio laboral
END:VEVENT
BEGIN:VEVENT
DTSTART;TZID=America/Detroit:20260610T130000
DTEND;TZID=America/Detroit:20260610T150000
DTSTAMP:20260425T083806
CREATED:20250731T164427Z
LAST-MODIFIED:20260121T190443Z
UID:10001609-1781096400-1781103600@detroitcristorey.org
SUMMARY:Reunión de profesores
DESCRIPTION:
URL:https://detroitcristorey.org/es/event/reunion-de-profesores/2026-06-10/
LOCATION:Detroit Cristo Rey High School\, 5679 W. Vernor Highway\, Detroit\, MI\, 48209\, United States
CATEGORIES:Personal
END:VEVENT
END:VCALENDAR