BEGIN:VCALENDAR
VERSION:2.0
PRODID:-//Detroit Cristo Rey High School - ECPv6.15.20//NONSGML v1.0//EN
CALSCALE:GREGORIAN
METHOD:PUBLISH
X-WR-CALNAME:Detroit Cristo Rey High School
X-ORIGINAL-URL:https://detroitcristorey.org/es/
X-WR-CALDESC:Eventos para Detroit Cristo Rey High School
REFRESH-INTERVAL;VALUE=DURATION:PT1H
X-Robots-Tag:noindex
X-PUBLISHED-TTL:PT1H
BEGIN:VTIMEZONE
TZID:America/Detroit
BEGIN:DAYLIGHT
TZOFFSETFROM:-0500
TZOFFSETTO:-0400
TZNAME:EDT
DTSTART:20240310T070000
END:DAYLIGHT
BEGIN:STANDARD
TZOFFSETFROM:-0400
TZOFFSETTO:-0500
TZNAME:EST
DTSTART:20241103T060000
END:STANDARD
BEGIN:DAYLIGHT
TZOFFSETFROM:-0500
TZOFFSETTO:-0400
TZNAME:EDT
DTSTART:20250309T070000
END:DAYLIGHT
BEGIN:STANDARD
TZOFFSETFROM:-0400
TZOFFSETTO:-0500
TZNAME:EST
DTSTART:20251102T060000
END:STANDARD
BEGIN:DAYLIGHT
TZOFFSETFROM:-0500
TZOFFSETTO:-0400
TZNAME:EDT
DTSTART:20260308T070000
END:DAYLIGHT
BEGIN:STANDARD
TZOFFSETFROM:-0400
TZOFFSETTO:-0500
TZNAME:EST
DTSTART:20261101T060000
END:STANDARD
END:VTIMEZONE
BEGIN:VEVENT
DTSTART;TZID=America/Detroit:20251201T073000
DTEND;TZID=America/Detroit:20251201T073000
DTSTAMP:20260422T122006
CREATED:20250725T174814Z
LAST-MODIFIED:20251124T174401Z
UID:10001364-1764574200-1764574200@detroitcristorey.org
SUMMARY:Servicio de Oración de Adviento e Inicio de la Recogida de Alimentos
DESCRIPTION:Se recogerán alimentos enlatados en los Comunes durante todo el Adviento.
URL:https://detroitcristorey.org/es/event/recogida-de-alimentos-en-adviento/
CATEGORIES:Fe
END:VEVENT
BEGIN:VEVENT
DTSTART;VALUE=DATE:20251203
DTEND;VALUE=DATE:20251204
DTSTAMP:20260422T122006
CREATED:20251124T174621Z
LAST-MODIFIED:20251124T174621Z
UID:10001724-1764720000-1764806399@detroitcristorey.org
SUMMARY:Adviento morado y rosa 3$ Día de la vestimenta
DESCRIPTION:Los fondos se destinan a apoyar a la comunidad.
URL:https://detroitcristorey.org/es/event/adviento-morado-y-rosa-3-dia-de-la-vestimenta/
LOCATION:Detroit Cristo Rey High School\, 5679 W. Vernor Highway\, Detroit\, MI\, 48209\, United States
CATEGORIES:Fe
END:VEVENT
BEGIN:VEVENT
DTSTART;TZID=America/Detroit:20251207T153000
DTEND;TZID=America/Detroit:20251207T170000
DTSTAMP:20260422T122006
CREATED:20251124T174834Z
LAST-MODIFIED:20251124T174834Z
UID:10001726-1765121400-1765126800@detroitcristorey.org
SUMMARY:Reunión de Pax Christi
DESCRIPTION:Reunión celebrada en la Capilla
URL:https://detroitcristorey.org/es/event/reunion-de-pax-christi/
LOCATION:Detroit Cristo Rey High School\, 5679 W. Vernor Highway\, Detroit\, MI\, 48209\, United States
CATEGORIES:Fe
END:VEVENT
BEGIN:VEVENT
DTSTART;TZID=America/Detroit:20251209T173000
DTEND;TZID=America/Detroit:20251209T173000
DTSTAMP:20260422T122006
CREATED:20251124T175758Z
LAST-MODIFIED:20251125T161932Z
UID:10001728-1765301400-1765301400@detroitcristorey.org
SUMMARY:Oración vespertina por Tierra Santa
DESCRIPTION:Celebrado en la Capilla
URL:https://detroitcristorey.org/es/event/oracion-vespertina-por-tierra-santa/
LOCATION:Detroit Cristo Rey High School\, 5679 W. Vernor Highway\, Detroit\, MI\, 48209\, United States
CATEGORIES:Fe
END:VEVENT
BEGIN:VEVENT
DTSTART;VALUE=DATE:20251211
DTEND;VALUE=DATE:20251212
DTSTAMP:20260422T122006
CREATED:20251124T175939Z
LAST-MODIFIED:20251124T175939Z
UID:10001730-1765411200-1765497599@detroitcristorey.org
SUMMARY:Bastón de caramelo rojo y blanco 3 $ Día del Vestido Abajo
DESCRIPTION:Los fondos se destinan a apoyar a la comunidad
URL:https://detroitcristorey.org/es/event/baston-de-caramelo-rojo-y-blanco-3-dia-del-vestido-abajo/
LOCATION:Detroit Cristo Rey High School\, 5679 W. Vernor Highway\, Detroit\, MI\, 48209\, United States
CATEGORIES:Fe
END:VEVENT
BEGIN:VEVENT
DTSTART;VALUE=DATE:20251216
DTEND;VALUE=DATE:20251218
DTSTAMP:20260422T122006
CREATED:20250725T181030Z
LAST-MODIFIED:20251124T180954Z
UID:10001390-1765843200-1766015999@detroitcristorey.org
SUMMARY:Conciliación
DESCRIPTION:16 de diciembre - 13:45 a 15:30 h \n17 de diciembre - 14:15 a 15:30 h
URL:https://detroitcristorey.org/es/event/conciliacion-4/2025-12-16/
LOCATION:Detroit Cristo Rey High School\, 5679 W. Vernor Highway\, Detroit\, MI\, 48209\, United States
CATEGORIES:Fe
END:VEVENT
BEGIN:VEVENT
DTSTART;TZID=America/Detroit:20251219T073000
DTEND;TZID=America/Detroit:20251219T080000
DTSTAMP:20260422T122006
CREATED:20250725T180132Z
LAST-MODIFIED:20251125T162429Z
UID:10001394-1766129400-1766131200@detroitcristorey.org
SUMMARY:Oración de la mañana
DESCRIPTION:
URL:https://detroitcristorey.org/es/event/oracion-de-la-manana-4/2025-12-19/
CATEGORIES:Fe
END:VEVENT
BEGIN:VEVENT
DTSTART;VALUE=DATE:20251225
DTEND;VALUE=DATE:20251226
DTSTAMP:20260422T122006
CREATED:20250725T174047Z
LAST-MODIFIED:20250729T191558Z
UID:10001356-1766620800-1766707199@detroitcristorey.org
SUMMARY:Día de Navidad
DESCRIPTION:
URL:https://detroitcristorey.org/es/event/dia-de-navidad-2/
CATEGORIES:Fe,Vacaciones
END:VEVENT
END:VCALENDAR