BEGIN:VCALENDAR
VERSION:2.0
PRODID:-//Detroit Cristo Rey High School - ECPv6.15.20//NONSGML v1.0//EN
CALSCALE:GREGORIAN
METHOD:PUBLISH
X-WR-CALNAME:Detroit Cristo Rey High School
X-ORIGINAL-URL:https://detroitcristorey.org
X-WR-CALDESC:Events for Detroit Cristo Rey High School
REFRESH-INTERVAL;VALUE=DURATION:PT1H
X-Robots-Tag:noindex
X-PUBLISHED-TTL:PT1H
BEGIN:VTIMEZONE
TZID:America/Detroit
BEGIN:DAYLIGHT
TZOFFSETFROM:-0500
TZOFFSETTO:-0400
TZNAME:EDT
DTSTART:20240310T070000
END:DAYLIGHT
BEGIN:STANDARD
TZOFFSETFROM:-0400
TZOFFSETTO:-0500
TZNAME:EST
DTSTART:20241103T060000
END:STANDARD
BEGIN:DAYLIGHT
TZOFFSETFROM:-0500
TZOFFSETTO:-0400
TZNAME:EDT
DTSTART:20250309T070000
END:DAYLIGHT
BEGIN:STANDARD
TZOFFSETFROM:-0400
TZOFFSETTO:-0500
TZNAME:EST
DTSTART:20251102T060000
END:STANDARD
BEGIN:DAYLIGHT
TZOFFSETFROM:-0500
TZOFFSETTO:-0400
TZNAME:EDT
DTSTART:20260308T070000
END:DAYLIGHT
BEGIN:STANDARD
TZOFFSETFROM:-0400
TZOFFSETTO:-0500
TZNAME:EST
DTSTART:20261101T060000
END:STANDARD
END:VTIMEZONE
BEGIN:VEVENT
DTSTART;TZID=America/Detroit:20251204T134500
DTEND;TZID=America/Detroit:20251204T134500
DTSTAMP:20260421T182850
CREATED:20250724T160942Z
LAST-MODIFIED:20250729T175022Z
UID:10001365-1764855900-1764855900@detroitcristorey.org
SUMMARY:Early Dismissal
DESCRIPTION:
URL:https://detroitcristorey.org/event/early-dismissal-25-26/2025-12-04/
LOCATION:MI
CATEGORIES:Academics
END:VEVENT
BEGIN:VEVENT
DTSTART;VALUE=DATE:20251203
DTEND;VALUE=DATE:20251204
DTSTAMP:20260421T182850
CREATED:20251124T174621Z
LAST-MODIFIED:20251124T174621Z
UID:10001723-1764720000-1764806399@detroitcristorey.org
SUMMARY:Purple & Pink Advent $3 Dress Down Day
DESCRIPTION:Funds go towards supporting the community.
URL:https://detroitcristorey.org/event/purple-pink-advent-dress-down-day-2025/
LOCATION:Detroit Cristo Rey High School\, 5679 W. Vernor Highway\, Detroit\, MI\, 48209\, United States
CATEGORIES:Faith - Campus Ministry
END:VEVENT
BEGIN:VEVENT
DTSTART;TZID=America/Detroit:20251201T073000
DTEND;TZID=America/Detroit:20251201T073000
DTSTAMP:20260421T182850
CREATED:20250725T174814Z
LAST-MODIFIED:20251124T174352Z
UID:10001363-1764574200-1764574200@detroitcristorey.org
SUMMARY:Advent Prayer Service & Food Drive Kickoff
DESCRIPTION:Canned goods will be collected in the Commons throughout Advent.
URL:https://detroitcristorey.org/event/advent-prayer-service-food-drive-2025/
LOCATION:MI
CATEGORIES:Faith - Campus Ministry
END:VEVENT
BEGIN:VEVENT
DTSTART;VALUE=DATE:20251130
DTEND;VALUE=DATE:20251201
DTSTAMP:20260421T182850
CREATED:20250725T170839Z
LAST-MODIFIED:20250725T170839Z
UID:10001347-1764460800-1764547199@detroitcristorey.org
SUMMARY:Advent Begins
DESCRIPTION:
URL:https://detroitcristorey.org/event/advent-begins-2025/
LOCATION:MI
CATEGORIES:Faith - Campus Ministry
END:VEVENT
BEGIN:VEVENT
DTSTART;VALUE=DATE:20251127
DTEND;VALUE=DATE:20251128
DTSTAMP:20260421T182850
CREATED:20250725T170553Z
LAST-MODIFIED:20250725T170553Z
UID:10001343-1764201600-1764287999@detroitcristorey.org
SUMMARY:Thanksgiving
DESCRIPTION:
URL:https://detroitcristorey.org/event/thanksgiving-2025/
LOCATION:MI
CATEGORIES:Holidays & Breaks
END:VEVENT
BEGIN:VEVENT
DTSTART;VALUE=DATE:20251126
DTEND;VALUE=DATE:20251201
DTSTAMP:20260421T182850
CREATED:20250725T170735Z
LAST-MODIFIED:20250725T170735Z
UID:10001345-1764115200-1764547199@detroitcristorey.org
SUMMARY:Thanksgiving Break
DESCRIPTION:No Classes – No Work
URL:https://detroitcristorey.org/event/thanksgiving-break-2025/
LOCATION:MI
CATEGORIES:Academics,Holidays & Breaks,Work Study
END:VEVENT
BEGIN:VEVENT
DTSTART;TZID=America/Detroit:20251125T134500
DTEND;TZID=America/Detroit:20251125T150000
DTSTAMP:20260421T182850
CREATED:20250725T171136Z
LAST-MODIFIED:20250725T181542Z
UID:10001349-1764078300-1764082800@detroitcristorey.org
SUMMARY:Faculty & Staff Luncheon
DESCRIPTION:
URL:https://detroitcristorey.org/event/faculty-staff-luncheon-25-26/2025-11-25/
LOCATION:Detroit Cristo Rey High School\, 5679 W. Vernor Highway\, Detroit\, MI\, 48209\, United States
CATEGORIES:Faculty & Staff
END:VEVENT
BEGIN:VEVENT
DTSTART;TZID=America/Detroit:20251125T134500
DTEND;TZID=America/Detroit:20251125T134500
DTSTAMP:20260421T182850
CREATED:20250724T160942Z
LAST-MODIFIED:20250729T175022Z
UID:10001341-1764078300-1764078300@detroitcristorey.org
SUMMARY:Early Dismissal
DESCRIPTION:
URL:https://detroitcristorey.org/event/early-dismissal-25-26/2025-11-25/
LOCATION:MI
CATEGORIES:Academics
END:VEVENT
BEGIN:VEVENT
DTSTART;TZID=America/Detroit:20251122T083000
DTEND;TZID=America/Detroit:20251122T160000
DTSTAMP:20260421T182850
CREATED:20250724T161527Z
LAST-MODIFIED:20251124T180633Z
UID:10001683-1763800200-1763827200@detroitcristorey.org
SUMMARY:Nonviolence Training
DESCRIPTION:In the Media Center
URL:https://detroitcristorey.org/event/nonviolence-training-2025/2025-11-22/
LOCATION:Detroit Cristo Rey High School\, 5679 W. Vernor Highway\, Detroit\, MI\, 48209\, United States
CATEGORIES:Faculty & Staff
END:VEVENT
BEGIN:VEVENT
DTSTART;TZID=America/Detroit:20251122T080000
DTEND;TZID=America/Detroit:20251122T120000
DTSTAMP:20260421T182850
CREATED:20250725T170251Z
LAST-MODIFIED:20250725T175912Z
UID:10001339-1763798400-1763812800@detroitcristorey.org
SUMMARY:High School Placement Test
DESCRIPTION:
URL:https://detroitcristorey.org/event/high-school-placement-test-2025/2025-11-22/
LOCATION:Detroit Cristo Rey High School\, 5679 W. Vernor Highway\, Detroit\, MI\, 48209\, United States
CATEGORIES:Admissions
END:VEVENT
BEGIN:VEVENT
DTSTART;TZID=America/Detroit:20251121T160000
DTEND;TZID=America/Detroit:20251121T210000
DTSTAMP:20260421T182850
CREATED:20251020T191825Z
LAST-MODIFIED:20251020T191825Z
UID:10001681-1763740800-1763758800@detroitcristorey.org
SUMMARY:Lock In
DESCRIPTION:
URL:https://detroitcristorey.org/event/lock-in-25-26/
LOCATION:Detroit Cristo Rey High School\, 5679 W. Vernor Highway\, Detroit\, MI\, 48209\, United States
CATEGORIES:Student Activities
END:VEVENT
BEGIN:VEVENT
DTSTART;TZID=America/Detroit:20251121T093000
DTEND;TZID=America/Detroit:20251121T093000
DTSTAMP:20260421T182850
CREATED:20250724T155633Z
LAST-MODIFIED:20260415T172521Z
UID:10001324-1763717400-1763717400@detroitcristorey.org
SUMMARY:Late Start
DESCRIPTION:
URL:https://detroitcristorey.org/event/late-start-25-26/2025-11-21/
LOCATION:Detroit Cristo Rey High School\, 5679 W. Vernor Highway\, Detroit\, MI\, 48209\, United States
CATEGORIES:Academics
END:VEVENT
BEGIN:VEVENT
DTSTART;TZID=America/Detroit:20251121T090000
DTEND;TZID=America/Detroit:20251121T160000
DTSTAMP:20260421T182850
CREATED:20250724T155111Z
LAST-MODIFIED:20260121T185321Z
UID:10001612-1763715600-1763740800@detroitcristorey.org
SUMMARY:Grade 10 Workday
DESCRIPTION:
URL:https://detroitcristorey.org/event/grade-10-workday-25-26/2025-11-21/
LOCATION:MI
CATEGORIES:Work Study
END:VEVENT
BEGIN:VEVENT
DTSTART;TZID=America/Detroit:20251120T114500
DTEND;TZID=America/Detroit:20251120T140000
DTSTAMP:20260421T182850
CREATED:20250725T170125Z
LAST-MODIFIED:20250725T170125Z
UID:10001337-1763639100-1763647200@detroitcristorey.org
SUMMARY:Anatomy Lab Trip
DESCRIPTION:
URL:https://detroitcristorey.org/event/anatomy-lab-trip-2025/
LOCATION:MI
CATEGORIES:Academics
END:VEVENT
BEGIN:VEVENT
DTSTART;TZID=America/Detroit:20251119T173000
DTEND;TZID=America/Detroit:20251119T190000
DTSTAMP:20260421T182850
CREATED:20250724T170647Z
LAST-MODIFIED:20250728T211043Z
UID:10001335-1763573400-1763578800@detroitcristorey.org
SUMMARY:Mandatory Senior-Parent Meeting
DESCRIPTION:
URL:https://detroitcristorey.org/event/mandatory-senior-parent-meeting-2025/2025-11-19/
LOCATION:Detroit Cristo Rey High School\, 5679 W. Vernor Highway\, Detroit\, MI\, 48209\, United States
CATEGORIES:Academics
END:VEVENT
BEGIN:VEVENT
DTSTART;TZID=America/Detroit:20251119T150000
DTEND;TZID=America/Detroit:20251119T170000
DTSTAMP:20260421T182850
CREATED:20250724T160651Z
LAST-MODIFIED:20251021T175215Z
UID:10001679-1763564400-1763571600@detroitcristorey.org
SUMMARY:Board of Trustees Meeting
DESCRIPTION:
URL:https://detroitcristorey.org/event/board-of-trustees-meeting-25-26/2025-11-19/
LOCATION:Detroit Cristo Rey High School\, 5679 W. Vernor Highway\, Detroit\, MI\, 48209\, United States
CATEGORIES:Faculty & Staff
END:VEVENT
BEGIN:VEVENT
DTSTART;VALUE=DATE:20251118
DTEND;VALUE=DATE:20251119
DTSTAMP:20260421T182850
CREATED:20251020T191515Z
LAST-MODIFIED:20251020T191515Z
UID:10001677-1763424000-1763510399@detroitcristorey.org
SUMMARY:Surgical Field Trip - Grades 9 & 11
DESCRIPTION:
URL:https://detroitcristorey.org/event/surgical-field-trip-grades-9-11/
LOCATION:MI
CATEGORIES:Student Activities
END:VEVENT
BEGIN:VEVENT
DTSTART;TZID=America/Detroit:20251114T090000
DTEND;TZID=America/Detroit:20251114T160000
DTSTAMP:20260421T182850
CREATED:20250724T154847Z
LAST-MODIFIED:20260121T185218Z
UID:10001665-1763110800-1763136000@detroitcristorey.org
SUMMARY:Grade 11 Workday
DESCRIPTION:
URL:https://detroitcristorey.org/event/grade-11-workday-25-26/2025-11-14/
LOCATION:MI
CATEGORIES:Work Study
END:VEVENT
BEGIN:VEVENT
DTSTART;VALUE=DATE:20251113
DTEND;VALUE=DATE:20251114
DTSTAMP:20260421T182851
CREATED:20250725T165651Z
LAST-MODIFIED:20250729T180058Z
UID:10001333-1762992000-1763078399@detroitcristorey.org
SUMMARY:Sophomore Girls Retreat
DESCRIPTION:
URL:https://detroitcristorey.org/event/sophomore-girls-retreat-2025/
LOCATION:MI
CATEGORIES:Student Activities
END:VEVENT
BEGIN:VEVENT
DTSTART;TZID=America/Detroit:20251111T090000
DTEND;TZID=America/Detroit:20251111T090000
DTSTAMP:20260421T182851
CREATED:20251020T190729Z
LAST-MODIFIED:20251021T170914Z
UID:10001663-1762851600-1762851600@detroitcristorey.org
SUMMARY:Lockdown Drill
DESCRIPTION:
URL:https://detroitcristorey.org/event/lockdown-drill-25-26/2025-11-11/
LOCATION:Detroit Cristo Rey High School\, 5679 W. Vernor Highway\, Detroit\, MI\, 48209\, United States
CATEGORIES:General
END:VEVENT
BEGIN:VEVENT
DTSTART;VALUE=DATE:20251111
DTEND;VALUE=DATE:20251112
DTSTAMP:20260421T182851
CREATED:20250725T165557Z
LAST-MODIFIED:20250729T180149Z
UID:10001331-1762819200-1762905599@detroitcristorey.org
SUMMARY:Sophomore Boys Retreat
DESCRIPTION:
URL:https://detroitcristorey.org/event/sophomore-boys-retreat-2025/
LOCATION:MI
CATEGORIES:Student Activities
END:VEVENT
BEGIN:VEVENT
DTSTART;VALUE=DATE:20251111
DTEND;VALUE=DATE:20251112
DTSTAMP:20260421T182851
CREATED:20250725T165431Z
LAST-MODIFIED:20250725T165431Z
UID:10001329-1762819200-1762905599@detroitcristorey.org
SUMMARY:Veterans Day
DESCRIPTION:
URL:https://detroitcristorey.org/event/veterans-day-2025/
LOCATION:MI
CATEGORIES:Holidays & Breaks
END:VEVENT
BEGIN:VEVENT
DTSTART;TZID=America/Detroit:20251109T123000
DTEND;TZID=America/Detroit:20251109T153000
DTSTAMP:20260421T182851
CREATED:20250725T165323Z
LAST-MODIFIED:20251020T120534Z
UID:10001327-1762691400-1762702200@detroitcristorey.org
SUMMARY:Fall Open House
DESCRIPTION:Mandatory Faculty & Staff
URL:https://detroitcristorey.org/event/fall-open-house-2025/
LOCATION:Detroit Cristo Rey High School\, 5679 W. Vernor Highway\, Detroit\, MI\, 48209\, United States
CATEGORIES:General
END:VEVENT
BEGIN:VEVENT
DTSTART;TZID=America/Detroit:20251107T093000
DTEND;TZID=America/Detroit:20251107T093000
DTSTAMP:20260421T182851
CREATED:20250724T155633Z
LAST-MODIFIED:20260415T172521Z
UID:10001323-1762507800-1762507800@detroitcristorey.org
SUMMARY:Late Start
DESCRIPTION:
URL:https://detroitcristorey.org/event/late-start-25-26/2025-11-07/
LOCATION:Detroit Cristo Rey High School\, 5679 W. Vernor Highway\, Detroit\, MI\, 48209\, United States
CATEGORIES:Academics
END:VEVENT
BEGIN:VEVENT
DTSTART;TZID=America/Detroit:20251107T090000
DTEND;TZID=America/Detroit:20251107T160000
DTSTAMP:20260421T182851
CREATED:20250728T202102Z
LAST-MODIFIED:20260211T205714Z
UID:10001653-1762506000-1762531200@detroitcristorey.org
SUMMARY:Grade 12 Workday
DESCRIPTION:
URL:https://detroitcristorey.org/event/grade-12-workday-25-26/2025-11-07/
LOCATION:MI
CATEGORIES:Work Study
END:VEVENT
BEGIN:VEVENT
DTSTART;TZID=America/Detroit:20251106T090000
DTEND;TZID=America/Detroit:20251106T090000
DTSTAMP:20260421T182851
CREATED:20251020T185642Z
LAST-MODIFIED:20251021T175109Z
UID:10001651-1762419600-1762419600@detroitcristorey.org
SUMMARY:Fire Drill
DESCRIPTION:
URL:https://detroitcristorey.org/event/fire-drill-25-26/2025-11-06/
LOCATION:Detroit Cristo Rey High School\, 5679 W. Vernor Highway\, Detroit\, MI\, 48209\, United States
CATEGORIES:General
END:VEVENT
BEGIN:VEVENT
DTSTART;VALUE=DATE:20251106
DTEND;VALUE=DATE:20251107
DTSTAMP:20260421T182851
CREATED:20251020T185447Z
LAST-MODIFIED:20251020T185447Z
UID:10001649-1762387200-1762473599@detroitcristorey.org
SUMMARY:Student Bystander Training - Grades 11 & 12
DESCRIPTION:
URL:https://detroitcristorey.org/event/student-bystander-training-grades-11-12/
LOCATION:Detroit Cristo Rey High School\, 5679 W. Vernor Highway\, Detroit\, MI\, 48209\, United States
CATEGORIES:Student Activities
END:VEVENT
BEGIN:VEVENT
DTSTART;VALUE=DATE:20251105
DTEND;VALUE=DATE:20251106
DTSTAMP:20260421T182851
CREATED:20251020T185334Z
LAST-MODIFIED:20251020T185334Z
UID:10001647-1762300800-1762387199@detroitcristorey.org
SUMMARY:Student Bystander Training - Grade 9
DESCRIPTION:
URL:https://detroitcristorey.org/event/student-bystander-training-grade-9/
LOCATION:Detroit Cristo Rey High School\, 5679 W. Vernor Highway\, Detroit\, MI\, 48209\, United States
CATEGORIES:Student Activities
END:VEVENT
BEGIN:VEVENT
DTSTART;VALUE=DATE:20251104
DTEND;VALUE=DATE:20251105
DTSTAMP:20260421T182851
CREATED:20250725T164543Z
LAST-MODIFIED:20251020T184443Z
UID:10001321-1762214400-1762300799@detroitcristorey.org
SUMMARY:Election Day
DESCRIPTION:No Classes – No Work
URL:https://detroitcristorey.org/event/election-day-2025/
LOCATION:MI
CATEGORIES:Academics,Holidays & Breaks,Work Study
END:VEVENT
BEGIN:VEVENT
DTSTART;VALUE=DATE:20251103
DTEND;VALUE=DATE:20251104
DTSTAMP:20260421T182851
CREATED:20251020T185208Z
LAST-MODIFIED:20251020T185208Z
UID:10001645-1762128000-1762214399@detroitcristorey.org
SUMMARY:Student Bystander Training - Grade 10
DESCRIPTION:
URL:https://detroitcristorey.org/event/student-bystander-training-grade-10/
LOCATION:Detroit Cristo Rey High School\, 5679 W. Vernor Highway\, Detroit\, MI\, 48209\, United States
CATEGORIES:Student Activities
END:VEVENT
END:VCALENDAR