BEGIN:VCALENDAR
VERSION:2.0
PRODID:-//Detroit Cristo Rey High School - ECPv6.15.20//NONSGML v1.0//EN
CALSCALE:GREGORIAN
METHOD:PUBLISH
X-WR-CALNAME:Detroit Cristo Rey High School
X-ORIGINAL-URL:https://detroitcristorey.org
X-WR-CALDESC:Events for Detroit Cristo Rey High School
REFRESH-INTERVAL;VALUE=DURATION:PT1H
X-Robots-Tag:noindex
X-PUBLISHED-TTL:PT1H
BEGIN:VTIMEZONE
TZID:America/Detroit
BEGIN:DAYLIGHT
TZOFFSETFROM:-0500
TZOFFSETTO:-0400
TZNAME:EDT
DTSTART:20230312T070000
END:DAYLIGHT
BEGIN:STANDARD
TZOFFSETFROM:-0400
TZOFFSETTO:-0500
TZNAME:EST
DTSTART:20231105T060000
END:STANDARD
BEGIN:DAYLIGHT
TZOFFSETFROM:-0500
TZOFFSETTO:-0400
TZNAME:EDT
DTSTART:20240310T070000
END:DAYLIGHT
BEGIN:STANDARD
TZOFFSETFROM:-0400
TZOFFSETTO:-0500
TZNAME:EST
DTSTART:20241103T060000
END:STANDARD
BEGIN:DAYLIGHT
TZOFFSETFROM:-0500
TZOFFSETTO:-0400
TZNAME:EDT
DTSTART:20250309T070000
END:DAYLIGHT
BEGIN:STANDARD
TZOFFSETFROM:-0400
TZOFFSETTO:-0500
TZNAME:EST
DTSTART:20251102T060000
END:STANDARD
END:VTIMEZONE
BEGIN:VEVENT
DTSTART;VALUE=DATE:20240704
DTEND;VALUE=DATE:20240705
DTSTAMP:20260423T071205
CREATED:20240701T122319Z
LAST-MODIFIED:20240701T122319Z
UID:10000578-1720051200-1720137599@detroitcristorey.org
SUMMARY:All Associates Holiday
DESCRIPTION:
URL:https://detroitcristorey.org/event/all-associates-holiday/
LOCATION:MI
CATEGORIES:Faculty & Staff
END:VEVENT
BEGIN:VEVENT
DTSTART;VALUE=DATE:20240702
DTEND;VALUE=DATE:20240703
DTSTAMP:20260423T071205
CREATED:20240701T122131Z
LAST-MODIFIED:20240701T122131Z
UID:10000576-1719878400-1719964799@detroitcristorey.org
SUMMARY:GDYT DCR Robotics Orientation
DESCRIPTION:
URL:https://detroitcristorey.org/event/gdyt-dcr-robotics-orientation/
LOCATION:Detroit Cristo Rey High School\, 5679 W. Vernor Highway\, Detroit\, MI\, 48209\, United States
CATEGORIES:Student Activities
END:VEVENT
BEGIN:VEVENT
DTSTART;VALUE=DATE:20240607
DTEND;VALUE=DATE:20240608
DTSTAMP:20260423T071205
CREATED:20240102T190742Z
LAST-MODIFIED:20240102T190742Z
UID:10000300-1717718400-1717804799@detroitcristorey.org
SUMMARY:Fourth Quarter Ends
DESCRIPTION:
URL:https://detroitcristorey.org/event/fourth-quarter-ends/
LOCATION:MI
CATEGORIES:Academics
END:VEVENT
BEGIN:VEVENT
DTSTART;VALUE=DATE:20240607
DTEND;VALUE=DATE:20240608
DTSTAMP:20260423T071205
CREATED:20240102T190654Z
LAST-MODIFIED:20240102T190654Z
UID:10000298-1717718400-1717804799@detroitcristorey.org
SUMMARY:Last Day of School
DESCRIPTION:Mass\, Honors Ceremony & Community Luncheon
URL:https://detroitcristorey.org/event/last-day-of-school/
LOCATION:MI
CATEGORIES:Academics
END:VEVENT
BEGIN:VEVENT
DTSTART;TZID=America/Detroit:20240606T090000
DTEND;TZID=America/Detroit:20240606T160000
DTSTAMP:20260423T071205
CREATED:20240102T190514Z
LAST-MODIFIED:20240102T190514Z
UID:10000296-1717664400-1717689600@detroitcristorey.org
SUMMARY:Grade 9 Workday
DESCRIPTION:
URL:https://detroitcristorey.org/event/grade-9-workday-8/
LOCATION:MI
CATEGORIES:Work Study
END:VEVENT
BEGIN:VEVENT
DTSTART;TZID=America/Detroit:20240605T090000
DTEND;TZID=America/Detroit:20240605T160000
DTSTAMP:20260423T071205
CREATED:20240102T190411Z
LAST-MODIFIED:20240102T190411Z
UID:10000294-1717578000-1717603200@detroitcristorey.org
SUMMARY:Grade 10 Workday
DESCRIPTION:
URL:https://detroitcristorey.org/event/grade-10-workday-7/
LOCATION:MI
CATEGORIES:Work Study
END:VEVENT
BEGIN:VEVENT
DTSTART;TZID=America/Detroit:20240604T090000
DTEND;TZID=America/Detroit:20240604T160000
DTSTAMP:20260423T071205
CREATED:20240102T190323Z
LAST-MODIFIED:20240102T190323Z
UID:10000292-1717491600-1717516800@detroitcristorey.org
SUMMARY:Grade 11 Workday
DESCRIPTION:
URL:https://detroitcristorey.org/event/grade-11-workday-8/
LOCATION:MI
CATEGORIES:Work Study
END:VEVENT
BEGIN:VEVENT
DTSTART;VALUE=DATE:20240603
DTEND;VALUE=DATE:20240607
DTSTAMP:20260423T071205
CREATED:20240102T190117Z
LAST-MODIFIED:20240102T190117Z
UID:10000290-1717372800-1717718399@detroitcristorey.org
SUMMARY:Final Exams
DESCRIPTION:For Freshmen\, Sophomores and Juniors
URL:https://detroitcristorey.org/event/final-exams/
LOCATION:MI
CATEGORIES:Academics
END:VEVENT
BEGIN:VEVENT
DTSTART;TZID=America/Detroit:20240602T160000
DTEND;TZID=America/Detroit:20240602T180000
DTSTAMP:20260423T071205
CREATED:20240102T185949Z
LAST-MODIFIED:20240102T185949Z
UID:10000288-1717344000-1717351200@detroitcristorey.org
SUMMARY:Graduation for Class of 2024
DESCRIPTION:
URL:https://detroitcristorey.org/event/graduation-for-class-of-2024/
LOCATION:MI
CATEGORIES:Academics
END:VEVENT
BEGIN:VEVENT
DTSTART;VALUE=DATE:20240601
DTEND;VALUE=DATE:20240602
DTSTAMP:20260423T071205
CREATED:20240324T203950Z
LAST-MODIFIED:20240324T203950Z
UID:10000532-1717200000-1717286399@detroitcristorey.org
SUMMARY:Boys Varsity Baseball MHSAA Districts
DESCRIPTION:Schedule TBA
URL:https://detroitcristorey.org/event/boys-varsity-baseball-mhsaa-districts/
LOCATION:Saint Hedwig Park\, 5641-5827 Konkel St\, Detroit\, 48210\, United States
CATEGORIES:Athletics
END:VEVENT
BEGIN:VEVENT
DTSTART;VALUE=DATE:20240601
DTEND;VALUE=DATE:20240602
DTSTAMP:20260423T071205
CREATED:20240324T193824Z
LAST-MODIFIED:20240324T193824Z
UID:10000502-1717200000-1717286399@detroitcristorey.org
SUMMARY:Girls Varsity Softball MHSAA Districts
DESCRIPTION:Schedule TBA
URL:https://detroitcristorey.org/event/girls-varsity-softball-mhsaa-districts/
LOCATION:University Prep Art & Design\, 485 W. Milwaukee Ave.\, Detroit\, MI\, 48202\, United States
CATEGORIES:Athletics
END:VEVENT
BEGIN:VEVENT
DTSTART;TZID=America/Detroit:20240531T180000
DTEND;TZID=America/Detroit:20240531T190000
DTSTAMP:20260423T071205
CREATED:20240102T185452Z
LAST-MODIFIED:20240102T185452Z
UID:10000284-1717178400-1717182000@detroitcristorey.org
SUMMARY:Baccalaureate Mass for Seniors
DESCRIPTION:
URL:https://detroitcristorey.org/event/baccalaureate-mass-for-seniors/
LOCATION:MI
CATEGORIES:Faith - Campus Ministry
END:VEVENT
BEGIN:VEVENT
DTSTART;TZID=America/Detroit:20240531T090000
DTEND;TZID=America/Detroit:20240531T160000
DTSTAMP:20260423T071205
CREATED:20240102T185558Z
LAST-MODIFIED:20240102T185558Z
UID:10000286-1717146000-1717171200@detroitcristorey.org
SUMMARY:Grade 11 Workday
DESCRIPTION:
URL:https://detroitcristorey.org/event/grade-11-workday-7/
LOCATION:MI
CATEGORIES:Work Study
END:VEVENT
BEGIN:VEVENT
DTSTART;VALUE=DATE:20240531
DTEND;VALUE=DATE:20240601
DTSTAMP:20260423T071205
CREATED:20240510T151455Z
LAST-MODIFIED:20240510T151455Z
UID:10000566-1717113600-1717199999@detroitcristorey.org
SUMMARY:Scholarship Deadline
DESCRIPTION:
URL:https://detroitcristorey.org/event/scholarship-deadline/
LOCATION:MI
CATEGORIES:Admissions
END:VEVENT
BEGIN:VEVENT
DTSTART;TZID=America/Detroit:20240530T170000
DTEND;TZID=America/Detroit:20240530T170000
DTSTAMP:20260423T071205
CREATED:20240325T155741Z
LAST-MODIFIED:20240325T155741Z
UID:10000538-1717088400-1717088400@detroitcristorey.org
SUMMARY:Boys Varsity Baseball at Center Line HS
DESCRIPTION:
URL:https://detroitcristorey.org/event/boys-varsity-baseball-at-center-line-hs/
LOCATION:Center Line High School\, 26300 Arsenal St\, Center Line\, MI\, 48015\, United States
CATEGORIES:Athletics
END:VEVENT
BEGIN:VEVENT
DTSTART;TZID=America/Detroit:20240530T093000
DTEND;TZID=America/Detroit:20240530T103000
DTSTAMP:20260423T071205
CREATED:20240102T185317Z
LAST-MODIFIED:20240102T185317Z
UID:10000282-1717061400-1717065000@detroitcristorey.org
SUMMARY:Senior Graduation Practice
DESCRIPTION:Mandatory Event
URL:https://detroitcristorey.org/event/senior-graduation-practice/
LOCATION:MI
CATEGORIES:Academics
END:VEVENT
BEGIN:VEVENT
DTSTART;VALUE=DATE:20240530
DTEND;VALUE=DATE:20240531
DTSTAMP:20260423T071205
CREATED:20240510T151308Z
LAST-MODIFIED:20240510T151308Z
UID:10000564-1717027200-1717113599@detroitcristorey.org
SUMMARY:Career Day
DESCRIPTION:
URL:https://detroitcristorey.org/event/career-day/
LOCATION:Detroit Innovation Academy\, 18211 Plymouth Rd\, Detroit\, MI\, 48228\, United States
CATEGORIES:Admissions
END:VEVENT
BEGIN:VEVENT
DTSTART;TZID=America/Detroit:20240529T190000
DTEND;TZID=America/Detroit:20240529T220000
DTSTAMP:20260423T071205
CREATED:20240102T184859Z
LAST-MODIFIED:20240523T191440Z
UID:10000278-1717009200-1717020000@detroitcristorey.org
SUMMARY:Night of the Arts
DESCRIPTION:
URL:https://detroitcristorey.org/event/night-of-the-arts/
LOCATION:MI
CATEGORIES:Student Activities
END:VEVENT
BEGIN:VEVENT
DTSTART;TZID=America/Detroit:20240529T083000
DTEND;TZID=America/Detroit:20240529T133000
DTSTAMP:20260423T071205
CREATED:20240510T145837Z
LAST-MODIFIED:20240510T151830Z
UID:10000557-1716971400-1716989400@detroitcristorey.org
SUMMARY:Shadow Day
DESCRIPTION:
URL:https://detroitcristorey.org/event/shadow-day/2024-05-29/
LOCATION:Detroit Cristo Rey High School\, 5679 W. Vernor Highway\, Detroit\, MI\, 48209\, United States
CATEGORIES:Admissions
END:VEVENT
BEGIN:VEVENT
DTSTART;TZID=America/Detroit:20240528T083000
DTEND;TZID=America/Detroit:20240528T133000
DTSTAMP:20260423T071205
CREATED:20240510T145837Z
LAST-MODIFIED:20240510T151830Z
UID:10000556-1716885000-1716903000@detroitcristorey.org
SUMMARY:Shadow Day
DESCRIPTION:
URL:https://detroitcristorey.org/event/shadow-day/2024-05-28/
LOCATION:Detroit Cristo Rey High School\, 5679 W. Vernor Highway\, Detroit\, MI\, 48209\, United States
CATEGORIES:Admissions
END:VEVENT
BEGIN:VEVENT
DTSTART;VALUE=DATE:20240527
DTEND;VALUE=DATE:20240528
DTSTAMP:20260423T071205
CREATED:20240102T193121Z
LAST-MODIFIED:20240102T193121Z
UID:10000302-1716768000-1716854399@detroitcristorey.org
SUMMARY:No Classes - No Work
DESCRIPTION:
URL:https://detroitcristorey.org/event/no-classes-no-work/
LOCATION:MI
CATEGORIES:Academics,Work Study
END:VEVENT
BEGIN:VEVENT
DTSTART;VALUE=DATE:20240527
DTEND;VALUE=DATE:20240528
DTSTAMP:20260423T071205
CREATED:20240102T185011Z
LAST-MODIFIED:20240102T193001Z
UID:10000280-1716768000-1716854399@detroitcristorey.org
SUMMARY:Memorial Day
DESCRIPTION:
URL:https://detroitcristorey.org/event/memorial-day/
LOCATION:MI
CATEGORIES:Holidays & Breaks
END:VEVENT
BEGIN:VEVENT
DTSTART;TZID=America/Detroit:20240525T100000
DTEND;TZID=America/Detroit:20240525T120000
DTSTAMP:20260423T071205
CREATED:20240510T145426Z
LAST-MODIFIED:20240510T150957Z
UID:10000562-1716631200-1716638400@detroitcristorey.org
SUMMARY:Open High School Placement Test
DESCRIPTION:
URL:https://detroitcristorey.org/event/open-high-school-placement-test/2024-05-25/
LOCATION:Detroit Cristo Rey High School\, 5679 W. Vernor Highway\, Detroit\, MI\, 48209\, United States
CATEGORIES:Admissions
END:VEVENT
BEGIN:VEVENT
DTSTART;TZID=America/Detroit:20240524T163000
DTEND;TZID=America/Detroit:20240524T163000
DTSTAMP:20260423T071205
CREATED:20240325T154916Z
LAST-MODIFIED:20240325T154916Z
UID:10000536-1716568200-1716568200@detroitcristorey.org
SUMMARY:Girls Varsity Softball at Detroit Central HS
DESCRIPTION:
URL:https://detroitcristorey.org/event/girls-varsity-softball-at-detroit-central-hs/
LOCATION:Detroit Central High School\, 2425 Tuxedo St\, Detroit\, MI\, 48206\, United States
CATEGORIES:Athletics
END:VEVENT
BEGIN:VEVENT
DTSTART;TZID=America/Detroit:20240524T090000
DTEND;TZID=America/Detroit:20240524T160000
DTSTAMP:20260423T071205
CREATED:20240102T184621Z
LAST-MODIFIED:20240102T184621Z
UID:10000274-1716541200-1716566400@detroitcristorey.org
SUMMARY:Grade 9 Workday
DESCRIPTION:
URL:https://detroitcristorey.org/event/grade-9-workday-7/
LOCATION:MI
CATEGORIES:Work Study
END:VEVENT
BEGIN:VEVENT
DTSTART;VALUE=DATE:20240524
DTEND;VALUE=DATE:20240525
DTSTAMP:20260423T071205
CREATED:20240102T184731Z
LAST-MODIFIED:20240102T184731Z
UID:10000276-1716508800-1716595199@detroitcristorey.org
SUMMARY:Senior Send-Off Retreat
DESCRIPTION:
URL:https://detroitcristorey.org/event/senior-send-off-retreat/
LOCATION:MI
CATEGORIES:Student Activities
END:VEVENT
BEGIN:VEVENT
DTSTART;TZID=America/Detroit:20240523T163000
DTEND;TZID=America/Detroit:20240523T163000
DTSTAMP:20260423T071205
CREATED:20240324T192729Z
LAST-MODIFIED:20240326T120608Z
UID:10000500-1716481800-1716481800@detroitcristorey.org
SUMMARY:Girls Varsity Softball vs Henry Ford Academy
DESCRIPTION:Home Game: Double Header\, 2nd Game Starts at 6 p.m.
URL:https://detroitcristorey.org/event/girls-varsity-softball-vs-henry-ford-academy/
LOCATION:Saint Hedwig Park\, 5641-5827 Konkel St\, Detroit\, 48210\, United States
CATEGORIES:Athletics
END:VEVENT
BEGIN:VEVENT
DTSTART;TZID=America/Detroit:20240523T120000
DTEND;TZID=America/Detroit:20240523T150000
DTSTAMP:20260423T071205
CREATED:20240102T184504Z
LAST-MODIFIED:20240102T184504Z
UID:10000272-1716465600-1716476400@detroitcristorey.org
SUMMARY:AP Biology Exam
DESCRIPTION:
URL:https://detroitcristorey.org/event/ap-biology-exam/
LOCATION:MI
CATEGORIES:Academics
END:VEVENT
BEGIN:VEVENT
DTSTART;TZID=America/Detroit:20240523T083000
DTEND;TZID=America/Detroit:20240523T133000
DTSTAMP:20260423T071205
CREATED:20240510T145837Z
LAST-MODIFIED:20240510T151830Z
UID:10000555-1716453000-1716471000@detroitcristorey.org
SUMMARY:Shadow Day
DESCRIPTION:
URL:https://detroitcristorey.org/event/shadow-day/2024-05-23/
LOCATION:Detroit Cristo Rey High School\, 5679 W. Vernor Highway\, Detroit\, MI\, 48209\, United States
CATEGORIES:Admissions
END:VEVENT
BEGIN:VEVENT
DTSTART;VALUE=DATE:20240523
DTEND;VALUE=DATE:20240524
DTSTAMP:20260423T071205
CREATED:20240114T195113Z
LAST-MODIFIED:20240510T143823Z
UID:10000400-1716422400-1716508799@detroitcristorey.org
SUMMARY:Senior Clap Out
DESCRIPTION:
URL:https://detroitcristorey.org/event/senior-clap-out/
LOCATION:MI
CATEGORIES:Student Activities
END:VEVENT
END:VCALENDAR