BEGIN:VCALENDAR
VERSION:2.0
PRODID:-//Detroit Cristo Rey High School - ECPv6.15.20//NONSGML v1.0//EN
CALSCALE:GREGORIAN
METHOD:PUBLISH
X-ORIGINAL-URL:https://detroitcristorey.org
X-WR-CALDESC:Events for Detroit Cristo Rey High School
REFRESH-INTERVAL;VALUE=DURATION:PT1H
X-Robots-Tag:noindex
X-PUBLISHED-TTL:PT1H
BEGIN:VTIMEZONE
TZID:America/Detroit
BEGIN:DAYLIGHT
TZOFFSETFROM:-0500
TZOFFSETTO:-0400
TZNAME:EDT
DTSTART:20230312T070000
END:DAYLIGHT
BEGIN:STANDARD
TZOFFSETFROM:-0400
TZOFFSETTO:-0500
TZNAME:EST
DTSTART:20231105T060000
END:STANDARD
BEGIN:DAYLIGHT
TZOFFSETFROM:-0500
TZOFFSETTO:-0400
TZNAME:EDT
DTSTART:20240310T070000
END:DAYLIGHT
BEGIN:STANDARD
TZOFFSETFROM:-0400
TZOFFSETTO:-0500
TZNAME:EST
DTSTART:20241103T060000
END:STANDARD
BEGIN:DAYLIGHT
TZOFFSETFROM:-0500
TZOFFSETTO:-0400
TZNAME:EDT
DTSTART:20250309T070000
END:DAYLIGHT
BEGIN:STANDARD
TZOFFSETFROM:-0400
TZOFFSETTO:-0500
TZNAME:EST
DTSTART:20251102T060000
END:STANDARD
END:VTIMEZONE
BEGIN:VEVENT
DTSTART;VALUE=DATE:20240416
DTEND;VALUE=DATE:20240420
DTSTAMP:20260420T091856
CREATED:20240102T161513Z
LAST-MODIFIED:20240102T161513Z
UID:10000216-1713225600-1713571199@detroitcristorey.org
SUMMARY:Cristo Rey Network Annual Meeting 2024
DESCRIPTION:Meeting takes place in Dallas\, Texas. More details to follow.
URL:https://detroitcristorey.org/event/cristo-rey-network-annual-meeting-2024/
CATEGORIES:Faculty & Staff
END:VEVENT
BEGIN:VEVENT
DTSTART;TZID=America/Detroit:20240419T090000
DTEND;TZID=America/Detroit:20240419T160000
DTSTAMP:20260420T091856
CREATED:20240102T163011Z
LAST-MODIFIED:20240102T163011Z
UID:10000220-1713517200-1713542400@detroitcristorey.org
SUMMARY:Grade 10 Workday
DESCRIPTION:
URL:https://detroitcristorey.org/event/grade-10-workday-5/
CATEGORIES:Work Study
END:VEVENT
BEGIN:VEVENT
DTSTART;TZID=America/Detroit:20240419T163000
DTEND;TZID=America/Detroit:20240419T163000
DTSTAMP:20260420T091856
CREATED:20240324T181103Z
LAST-MODIFIED:20240325T152948Z
UID:10000478-1713544200-1713544200@detroitcristorey.org
SUMMARY:Girls Varsity Softball at Shrine Catholic HS
DESCRIPTION:Double Header\, 2nd Game Starts at 6 p.m.
URL:https://detroitcristorey.org/event/girls-varsity-softball-at-shrine-catholic-hs/
LOCATION:Shrine Catholic High School\, 3500 W 13 Mile Rd 48073\, Royal Oak\, MI\, 48073\, United States
CATEGORIES:Athletics
END:VEVENT
BEGIN:VEVENT
DTSTART;TZID=America/Detroit:20240420T120000
DTEND;TZID=America/Detroit:20240420T120000
DTSTAMP:20260420T091856
CREATED:20240324T181710Z
LAST-MODIFIED:20240326T120916Z
UID:10000480-1713614400-1713614400@detroitcristorey.org
SUMMARY:Girls Varsity Softball vs Cleveland CR
DESCRIPTION:Home Game
URL:https://detroitcristorey.org/event/girls-varsity-softball-vs-cleveland-cr/
LOCATION:Saint Hedwig Park\, 5641-5827 Konkel St\, Detroit\, 48210\, United States
CATEGORIES:Athletics
END:VEVENT
BEGIN:VEVENT
DTSTART;VALUE=DATE:20240422
DTEND;VALUE=DATE:20240423
DTSTAMP:20260420T091856
CREATED:20240102T163108Z
LAST-MODIFIED:20240102T163108Z
UID:10000222-1713744000-1713830399@detroitcristorey.org
SUMMARY:Passover Begins at Sunset
DESCRIPTION:
URL:https://detroitcristorey.org/event/passover-begins-at-sunset/
CATEGORIES:Holidays & Breaks
END:VEVENT
BEGIN:VEVENT
DTSTART;VALUE=DATE:20240422
DTEND;VALUE=DATE:20240423
DTSTAMP:20260420T091856
CREATED:20240102T163159Z
LAST-MODIFIED:20240102T163159Z
UID:10000224-1713744000-1713830399@detroitcristorey.org
SUMMARY:Earth Day
DESCRIPTION:
URL:https://detroitcristorey.org/event/earth-day/
CATEGORIES:Holidays & Breaks
END:VEVENT
BEGIN:VEVENT
DTSTART;VALUE=DATE:20240422
DTEND;VALUE=DATE:20240423
DTSTAMP:20260420T091856
CREATED:20240324T172138Z
LAST-MODIFIED:20240325T132754Z
UID:10000456-1713744000-1713830399@detroitcristorey.org
SUMMARY:Girls JV Soccer at Canton HS
DESCRIPTION:Timing TBA
URL:https://detroitcristorey.org/event/girls-jv-soccer-at-canton-hs/
LOCATION:Canton High School\, 8415 N Canton Center Rd\, Canton\, MI\, 48187\, United States
CATEGORIES:Athletics
END:VEVENT
BEGIN:VEVENT
DTSTART;TZID=America/Detroit:20240422T163000
DTEND;TZID=America/Detroit:20240422T163000
DTSTAMP:20260420T091856
CREATED:20240324T181846Z
LAST-MODIFIED:20240325T153104Z
UID:10000482-1713803400-1713803400@detroitcristorey.org
SUMMARY:Girls Varsity Softball at OPEN
DESCRIPTION:Double Header\, 2nd Game Starts at 6 p.m.
URL:https://detroitcristorey.org/event/girls-varsity-softball-at-open/
CATEGORIES:Athletics
END:VEVENT
BEGIN:VEVENT
DTSTART;TZID=America/Detroit:20240423T170000
DTEND;TZID=America/Detroit:20240423T170000
DTSTAMP:20260420T091856
CREATED:20240324T172441Z
LAST-MODIFIED:20240324T172441Z
UID:10000458-1713891600-1713891600@detroitcristorey.org
SUMMARY:Girls Soccer at Austin Academy
DESCRIPTION:
URL:https://detroitcristorey.org/event/girls-soccer-at-austin-academy/
LOCATION:Austin Academy\, 22505 26 Mile Road\, Ray\, MI\, 48096\, United States
CATEGORIES:Athletics
END:VEVENT
BEGIN:VEVENT
DTSTART;VALUE=DATE:20240424
DTEND;VALUE=DATE:20240425
DTSTAMP:20260420T091856
CREATED:20240102T163329Z
LAST-MODIFIED:20240318T163126Z
UID:10000226-1713916800-1714003199@detroitcristorey.org
SUMMARY:Junior Girls Retreat
DESCRIPTION:
URL:https://detroitcristorey.org/event/junior-girls-retreat/
CATEGORIES:Student Activities
END:VEVENT
BEGIN:VEVENT
DTSTART;TZID=America/Detroit:20240424T113000
DTEND;TZID=America/Detroit:20240424T130000
DTSTAMP:20260420T091856
CREATED:20240223T160840Z
LAST-MODIFIED:20240223T160840Z
UID:10000411-1713958200-1713963600@detroitcristorey.org
SUMMARY:Lunch and Learn
DESCRIPTION:Join us for a tour and lunch to learn more about Detroit Cristo Rey High School and our Corporate Work Study Program. \n\nTour: 11:30 a.m. to noon\nLunch: Noon to 1 p.m.\n\nRSVP to Nicole Gize at ngize@detroitcristorey.org \n 
URL:https://detroitcristorey.org/event/lunch-and-learn/2024-04-24/
LOCATION:Detroit Cristo Rey High School\, 5679 W. Vernor Highway\, Detroit\, MI\, 48209\, United States
CATEGORIES:Giving,Work Study
END:VEVENT
BEGIN:VEVENT
DTSTART;TZID=America/Detroit:20240425T163000
DTEND;TZID=America/Detroit:20240425T163000
DTSTAMP:20260420T091856
CREATED:20240324T155437Z
LAST-MODIFIED:20240324T155437Z
UID:10000440-1714062600-1714062600@detroitcristorey.org
SUMMARY:Track and Field Meet
DESCRIPTION:
URL:https://detroitcristorey.org/event/track-and-field-meet-2/
LOCATION:University Liggett School\, 1045 Cook Rd\, Grosse Pointe Woods\, MI\, 48236\, United States
CATEGORIES:Athletics
END:VEVENT
BEGIN:VEVENT
DTSTART;TZID=America/Detroit:20240425T163000
DTEND;TZID=America/Detroit:20240425T163000
DTSTAMP:20260420T091856
CREATED:20240324T200747Z
LAST-MODIFIED:20240324T200747Z
UID:10000514-1714062600-1714062600@detroitcristorey.org
SUMMARY:Boys Varsity Baseball at Loyola High School
DESCRIPTION:
URL:https://detroitcristorey.org/event/boys-varsity-baseball-at-loyola-high-school/
LOCATION:Loyola High School\, 15325 Pinehurst St\, Detroit\, MI\, 48238\, United States
CATEGORIES:Athletics
END:VEVENT
BEGIN:VEVENT
DTSTART;TZID=America/Detroit:20240425T170000
DTEND;TZID=America/Detroit:20240425T170000
DTSTAMP:20260420T091856
CREATED:20240324T172647Z
LAST-MODIFIED:20240325T152133Z
UID:10000460-1714064400-1714064400@detroitcristorey.org
SUMMARY:Girls Soccer vs OPEN
DESCRIPTION:Home Game
URL:https://detroitcristorey.org/event/girls-soccer-vs-open/
LOCATION:Fort Wayne
CATEGORIES:Athletics
END:VEVENT
BEGIN:VEVENT
DTSTART;VALUE=DATE:20240426
DTEND;VALUE=DATE:20240427
DTSTAMP:20260420T091856
CREATED:20231129T163851Z
LAST-MODIFIED:20231129T163851Z
UID:10000156-1714089600-1714175999@detroitcristorey.org
SUMMARY:PSAT 8/9 & 10 Testing Window Ends
DESCRIPTION:All students will be dismissed after testing.
URL:https://detroitcristorey.org/event/psat-8-9-10-testing-window-ends/
CATEGORIES:Academics
END:VEVENT
BEGIN:VEVENT
DTSTART;TZID=America/Detroit:20240426T073000
DTEND;TZID=America/Detroit:20240426T093000
DTSTAMP:20260420T091856
CREATED:20240102T163550Z
LAST-MODIFIED:20240102T163550Z
UID:10000230-1714116600-1714123800@detroitcristorey.org
SUMMARY:Curriculum Department Meeting
DESCRIPTION:
URL:https://detroitcristorey.org/event/curriculum-department-meeting-5/
CATEGORIES:Faculty & Staff
END:VEVENT
BEGIN:VEVENT
DTSTART;TZID=America/Detroit:20240426T090000
DTEND;TZID=America/Detroit:20240426T160000
DTSTAMP:20260420T091856
CREATED:20240102T163641Z
LAST-MODIFIED:20240102T163641Z
UID:10000232-1714122000-1714147200@detroitcristorey.org
SUMMARY:Grade 9 Workday
DESCRIPTION:
URL:https://detroitcristorey.org/event/grade-9-workday-6/
CATEGORIES:Work Study
END:VEVENT
BEGIN:VEVENT
DTSTART;TZID=America/Detroit:20240426T093000
DTEND;TZID=America/Detroit:20240426T093000
DTSTAMP:20260420T091856
CREATED:20240102T163443Z
LAST-MODIFIED:20240102T163443Z
UID:10000228-1714123800-1714123800@detroitcristorey.org
SUMMARY:Late Start
DESCRIPTION:
URL:https://detroitcristorey.org/event/late-start-5/
CATEGORIES:Academics
END:VEVENT
BEGIN:VEVENT
DTSTART;TZID=America/Detroit:20240426T163000
DTEND;TZID=America/Detroit:20240426T163000
DTSTAMP:20260420T091856
CREATED:20240324T182327Z
LAST-MODIFIED:20240326T121030Z
UID:10000484-1714149000-1714149000@detroitcristorey.org
SUMMARY:Girls Varsity Softball vs Allen Park Cabrini
DESCRIPTION:Home Game: Double Header\, 2nd Game Starts at 6 p.m.
URL:https://detroitcristorey.org/event/girls-varsity-softball-vs-allen-park-cabrini/
LOCATION:Saint Hedwig Park\, 5641-5827 Konkel St\, Detroit\, 48210\, United States
CATEGORIES:Athletics
END:VEVENT
BEGIN:VEVENT
DTSTART;TZID=America/Detroit:20240429T143500
DTEND;TZID=America/Detroit:20240429T153000
DTSTAMP:20260420T091856
CREATED:20240315T195414Z
LAST-MODIFIED:20240315T195414Z
UID:10000434-1714401300-1714404600@detroitcristorey.org
SUMMARY:Mozart to Les Musical Performance
DESCRIPTION:
URL:https://detroitcristorey.org/event/mozart-to-les-musical-performance/
LOCATION:Detroit Cristo Rey High School\, 5679 W. Vernor Highway\, Detroit\, MI\, 48209\, United States
CATEGORIES:Student Activities
END:VEVENT
BEGIN:VEVENT
DTSTART;TZID=America/Detroit:20240430T134500
DTEND;TZID=America/Detroit:20240430T134500
DTSTAMP:20260420T091856
CREATED:20240102T163804Z
LAST-MODIFIED:20240102T163804Z
UID:10000234-1714484700-1714484700@detroitcristorey.org
SUMMARY:Early Dismissal
DESCRIPTION:
URL:https://detroitcristorey.org/event/early-dismissal-5/
CATEGORIES:Academics
END:VEVENT
BEGIN:VEVENT
DTSTART;TZID=America/Detroit:20240430T163000
DTEND;TZID=America/Detroit:20240430T163000
DTSTAMP:20260420T091856
CREATED:20240324T182625Z
LAST-MODIFIED:20240326T121126Z
UID:10000486-1714494600-1714494600@detroitcristorey.org
SUMMARY:Girls Varsity Softball vs Cardinal Mooney Catholic HS
DESCRIPTION:Home Game: Double Header\, 2nd Game Starts at 6 p.m.
URL:https://detroitcristorey.org/event/girls-varsity-softball-vs-cardinal-mooney-hs/
LOCATION:Saint Hedwig Park\, 5641-5827 Konkel St\, Detroit\, 48210\, United States
CATEGORIES:Athletics
END:VEVENT
BEGIN:VEVENT
DTSTART;TZID=America/Detroit:20240430T170000
DTEND;TZID=America/Detroit:20240430T170000
DTSTAMP:20260420T091856
CREATED:20240324T172909Z
LAST-MODIFIED:20240324T172909Z
UID:10000462-1714496400-1714496400@detroitcristorey.org
SUMMARY:Girls Soccer at Cardinal Mooney Catholic HS
DESCRIPTION:
URL:https://detroitcristorey.org/event/girls-soccer-at-cardinal-mooney-catholic-hs/
LOCATION:Cardinal Mooney Catholic HS\, 660 S Water Street\, Marine City\, MI\, 48039\, United States
CATEGORIES:Athletics
END:VEVENT
BEGIN:VEVENT
DTSTART;VALUE=DATE:20240501
DTEND;VALUE=DATE:20240502
DTSTAMP:20260420T091856
CREATED:20240102T174302Z
LAST-MODIFIED:20240102T174302Z
UID:10000236-1714521600-1714607999@detroitcristorey.org
SUMMARY:National College Decision Day
DESCRIPTION:
URL:https://detroitcristorey.org/event/national-college-decision-day/
CATEGORIES:Academics
END:VEVENT
BEGIN:VEVENT
DTSTART;VALUE=DATE:20240501
DTEND;VALUE=DATE:20240502
DTSTAMP:20260420T091856
CREATED:20240510T152759Z
LAST-MODIFIED:20240510T152759Z
UID:10000574-1714521600-1714607999@detroitcristorey.org
SUMMARY:Food Distribution at 180 Church
DESCRIPTION:
URL:https://detroitcristorey.org/event/food-distribution-at-180-church/
LOCATION:180 Church\, 13660 Stansbury Ave\, Detroit\, MI\, 48227\, United States
CATEGORIES:Admissions
END:VEVENT
BEGIN:VEVENT
DTSTART;TZID=America/Detroit:20240501T163000
DTEND;TZID=America/Detroit:20240501T163000
DTSTAMP:20260420T091856
CREATED:20240324T200929Z
LAST-MODIFIED:20240324T200929Z
UID:10000516-1714581000-1714581000@detroitcristorey.org
SUMMARY:Boys Varsity Baseball at Frankel Jewish Academy
DESCRIPTION:
URL:https://detroitcristorey.org/event/boys-varsity-baseball-at-frankel-jewish-academy/
LOCATION:Frankel Jewish Academy\, 6600 W Maple Road\, West Bloomfield Township\, MI\, 48322\, United States
CATEGORIES:Athletics
END:VEVENT
BEGIN:VEVENT
DTSTART;VALUE=DATE:20240502
DTEND;VALUE=DATE:20240503
DTSTAMP:20260420T091856
CREATED:20240102T174555Z
LAST-MODIFIED:20240102T174555Z
UID:10000238-1714608000-1714694399@detroitcristorey.org
SUMMARY:Day of Service
DESCRIPTION:
URL:https://detroitcristorey.org/event/day-of-service/
CATEGORIES:Student Activities
END:VEVENT
BEGIN:VEVENT
DTSTART;VALUE=DATE:20240502
DTEND;VALUE=DATE:20240503
DTSTAMP:20260420T091856
CREATED:20240102T175745Z
LAST-MODIFIED:20240102T180436Z
UID:10000242-1714608000-1714694399@detroitcristorey.org
SUMMARY:DRDFS Senior Field Trip
DESCRIPTION:Detroit Regional Dollars for Scholars (DRDFS) inspires and prepares students to succeed in life after high school by supporting and empowering them with the skills\, knowledge and resources to succeed in postsecondary education.
URL:https://detroitcristorey.org/event/drdfs-senior-field-trip-3/
CATEGORIES:Academics
END:VEVENT
BEGIN:VEVENT
DTSTART;VALUE=DATE:20240502
DTEND;VALUE=DATE:20240503
DTSTAMP:20260420T091856
CREATED:20240114T193839Z
LAST-MODIFIED:20240114T193839Z
UID:10000392-1714608000-1714694399@detroitcristorey.org
SUMMARY:Wolf Fest
DESCRIPTION:
URL:https://detroitcristorey.org/event/wolf-fest/
LOCATION:Detroit Cristo Rey High School\, 5679 W. Vernor Highway\, Detroit\, MI\, 48209\, United States
CATEGORIES:Student Activities
END:VEVENT
BEGIN:VEVENT
DTSTART;TZID=America/Detroit:20240502T073000
DTEND;TZID=America/Detroit:20240502T073000
DTSTAMP:20260420T091856
CREATED:20240114T194123Z
LAST-MODIFIED:20240114T194123Z
UID:10000394-1714635000-1714635000@detroitcristorey.org
SUMMARY:Morning Mass
DESCRIPTION:
URL:https://detroitcristorey.org/event/morning-mass/
CATEGORIES:Faith - Campus Ministry
END:VEVENT
END:VCALENDAR