BEGIN:VCALENDAR
VERSION:2.0
PRODID:-//Detroit Cristo Rey High School - ECPv6.15.20//NONSGML v1.0//EN
CALSCALE:GREGORIAN
METHOD:PUBLISH
X-WR-CALNAME:Detroit Cristo Rey High School
X-ORIGINAL-URL:https://detroitcristorey.org
X-WR-CALDESC:Events for Detroit Cristo Rey High School
REFRESH-INTERVAL;VALUE=DURATION:PT1H
X-Robots-Tag:noindex
X-PUBLISHED-TTL:PT1H
BEGIN:VTIMEZONE
TZID:America/Detroit
BEGIN:DAYLIGHT
TZOFFSETFROM:-0500
TZOFFSETTO:-0400
TZNAME:EDT
DTSTART:20230312T070000
END:DAYLIGHT
BEGIN:STANDARD
TZOFFSETFROM:-0400
TZOFFSETTO:-0500
TZNAME:EST
DTSTART:20231105T060000
END:STANDARD
BEGIN:DAYLIGHT
TZOFFSETFROM:-0500
TZOFFSETTO:-0400
TZNAME:EDT
DTSTART:20240310T070000
END:DAYLIGHT
BEGIN:STANDARD
TZOFFSETFROM:-0400
TZOFFSETTO:-0500
TZNAME:EST
DTSTART:20241103T060000
END:STANDARD
BEGIN:DAYLIGHT
TZOFFSETFROM:-0500
TZOFFSETTO:-0400
TZNAME:EDT
DTSTART:20250309T070000
END:DAYLIGHT
BEGIN:STANDARD
TZOFFSETFROM:-0400
TZOFFSETTO:-0500
TZNAME:EST
DTSTART:20251102T060000
END:STANDARD
BEGIN:DAYLIGHT
TZOFFSETFROM:-0500
TZOFFSETTO:-0400
TZNAME:EDT
DTSTART:20260308T070000
END:DAYLIGHT
BEGIN:STANDARD
TZOFFSETFROM:-0400
TZOFFSETTO:-0500
TZNAME:EST
DTSTART:20261101T060000
END:STANDARD
END:VTIMEZONE
BEGIN:VEVENT
DTSTART;VALUE=DATE:20250120
DTEND;VALUE=DATE:20250121
DTSTAMP:20260425T070127
CREATED:20240725T162120Z
LAST-MODIFIED:20240822T162446Z
UID:10000882-1737360000-1737392400@detroitcristorey.org
SUMMARY:No Classes - No Work
DESCRIPTION:
URL:https://detroitcristorey.org/event/no-classes-no-work-24-25/2025-01-20/
CATEGORIES:Academics,Work Study
END:VEVENT
BEGIN:VEVENT
DTSTART;TZID=America/Detroit:20250117T090000
DTEND;TZID=America/Detroit:20250117T160000
DTSTAMP:20260425T070127
CREATED:20240725T162551Z
LAST-MODIFIED:20240822T171859Z
UID:10000876-1737104400-1737129600@detroitcristorey.org
SUMMARY:Grade 9 Workday
DESCRIPTION:
URL:https://detroitcristorey.org/event/grade-9-workday-24-25/2025-01-17/
CATEGORIES:Work Study
END:VEVENT
BEGIN:VEVENT
DTSTART;TZID=America/Detroit:20250114T113000
DTEND;TZID=America/Detroit:20250114T130000
DTSTAMP:20260425T070127
CREATED:20240710T173330Z
LAST-MODIFIED:20240710T173330Z
UID:10000598-1736854200-1736859600@detroitcristorey.org
SUMMARY:Lunch and Learn Series
DESCRIPTION:Please join us for a tour of Detroit Cristo Rey HS and learn more about our Corporate Work Study Program and how to be a partner. If you’d like to attend\, please RSVP to Nicole Gize at ngize@detroitcristorey.org.
URL:https://detroitcristorey.org/event/lunch-and-learn-series/2025-01-14/
LOCATION:Detroit Cristo Rey High School\, 5679 W. Vernor Highway\, Detroit\, MI\, 48209\, United States
CATEGORIES:Giving,Work Study
END:VEVENT
BEGIN:VEVENT
DTSTART;TZID=America/Detroit:20250110T090000
DTEND;TZID=America/Detroit:20250110T160000
DTSTAMP:20260425T070127
CREATED:20240725T162508Z
LAST-MODIFIED:20240822T171757Z
UID:10000866-1736499600-1736524800@detroitcristorey.org
SUMMARY:Grade 10 Workday
DESCRIPTION:
URL:https://detroitcristorey.org/event/grade-10-workday-24-25/2025-01-10/
CATEGORIES:Work Study
END:VEVENT
BEGIN:VEVENT
DTSTART;VALUE=DATE:20241230
DTEND;VALUE=DATE:20250104
DTSTAMP:20260425T070127
CREATED:20240725T162120Z
LAST-MODIFIED:20240822T162446Z
UID:10000811-1735545600-1735923600@detroitcristorey.org
SUMMARY:No Classes - No Work
DESCRIPTION:
URL:https://detroitcristorey.org/event/no-classes-no-work-24-25/2024-12-30/
CATEGORIES:Academics,Work Study
END:VEVENT
BEGIN:VEVENT
DTSTART;VALUE=DATE:20241223
DTEND;VALUE=DATE:20241228
DTSTAMP:20260425T070127
CREATED:20240725T162120Z
LAST-MODIFIED:20240822T162446Z
UID:10000810-1734940800-1735318800@detroitcristorey.org
SUMMARY:No Classes - No Work
DESCRIPTION:
URL:https://detroitcristorey.org/event/no-classes-no-work-24-25/2024-12-23/
CATEGORIES:Academics,Work Study
END:VEVENT
BEGIN:VEVENT
DTSTART;TZID=America/Detroit:20241220T090000
DTEND;TZID=America/Detroit:20241220T160000
DTSTAMP:20260425T070127
CREATED:20240725T162551Z
LAST-MODIFIED:20240822T171859Z
UID:10000852-1734685200-1734710400@detroitcristorey.org
SUMMARY:Grade 9 Workday
DESCRIPTION:
URL:https://detroitcristorey.org/event/grade-9-workday-24-25/2024-12-20/
CATEGORIES:Work Study
END:VEVENT
BEGIN:VEVENT
DTSTART;TZID=America/Detroit:20241213T090000
DTEND;TZID=America/Detroit:20241213T160000
DTSTAMP:20260425T070127
CREATED:20240725T162508Z
LAST-MODIFIED:20240822T171757Z
UID:10000846-1734080400-1734105600@detroitcristorey.org
SUMMARY:Grade 10 Workday
DESCRIPTION:
URL:https://detroitcristorey.org/event/grade-10-workday-24-25/2024-12-13/
CATEGORIES:Work Study
END:VEVENT
BEGIN:VEVENT
DTSTART;VALUE=DATE:20241212
DTEND;VALUE=DATE:20241213
DTSTAMP:20260425T070127
CREATED:20240725T162120Z
LAST-MODIFIED:20240822T162446Z
UID:10000796-1733990400-1734022800@detroitcristorey.org
SUMMARY:No Classes - No Work
DESCRIPTION:
URL:https://detroitcristorey.org/event/no-classes-no-work-24-25/2024-12-12/
CATEGORIES:Academics,Work Study
END:VEVENT
BEGIN:VEVENT
DTSTART;TZID=America/Detroit:20241210T113000
DTEND;TZID=America/Detroit:20241210T130000
DTSTAMP:20260425T070127
CREATED:20240710T173330Z
LAST-MODIFIED:20240710T173330Z
UID:10000597-1733830200-1733835600@detroitcristorey.org
SUMMARY:Lunch and Learn Series
DESCRIPTION:Please join us for a tour of Detroit Cristo Rey HS and learn more about our Corporate Work Study Program and how to be a partner. If you’d like to attend\, please RSVP to Nicole Gize at ngize@detroitcristorey.org.
URL:https://detroitcristorey.org/event/lunch-and-learn-series/2024-12-10/
LOCATION:Detroit Cristo Rey High School\, 5679 W. Vernor Highway\, Detroit\, MI\, 48209\, United States
CATEGORIES:Giving,Work Study
END:VEVENT
BEGIN:VEVENT
DTSTART;TZID=America/Detroit:20241206T090000
DTEND;TZID=America/Detroit:20241206T160000
DTSTAMP:20260425T070127
CREATED:20240808T174107Z
LAST-MODIFIED:20240822T172416Z
UID:10000830-1733475600-1733500800@detroitcristorey.org
SUMMARY:Make-Up Workday
DESCRIPTION:
URL:https://detroitcristorey.org/event/make-up-workday-24-25/2024-12-06/
CATEGORIES:Work Study
END:VEVENT
BEGIN:VEVENT
DTSTART;VALUE=DATE:20241127
DTEND;VALUE=DATE:20241130
DTSTAMP:20260425T070127
CREATED:20240807T214012Z
LAST-MODIFIED:20240807T214012Z
UID:10000780-1732665600-1732924799@detroitcristorey.org
SUMMARY:Thanksgiving Break
DESCRIPTION:No Classes\, No Work
URL:https://detroitcristorey.org/event/thanksgiving-break-24-25/
CATEGORIES:Academics,Holidays & Breaks,Work Study
END:VEVENT
BEGIN:VEVENT
DTSTART;TZID=America/Detroit:20241122T090000
DTEND;TZID=America/Detroit:20241122T160000
DTSTAMP:20260425T070127
CREATED:20240725T162346Z
LAST-MODIFIED:20240822T171652Z
UID:10000840-1732266000-1732291200@detroitcristorey.org
SUMMARY:Grade 11 Workday
DESCRIPTION:
URL:https://detroitcristorey.org/event/grade-11-workday-24-25/2024-11-22/
CATEGORIES:Work Study
END:VEVENT
BEGIN:VEVENT
DTSTART;TZID=America/Detroit:20241115T090000
DTEND;TZID=America/Detroit:20241115T160000
DTSTAMP:20260425T070127
CREATED:20240808T175612Z
LAST-MODIFIED:20240822T161420Z
UID:10000834-1731661200-1731686400@detroitcristorey.org
SUMMARY:Grade 12 Workday
DESCRIPTION:
URL:https://detroitcristorey.org/event/grade-12-workday-24-25/2024-11-15/
CATEGORIES:Work Study
END:VEVENT
BEGIN:VEVENT
DTSTART;TZID=America/Detroit:20241112T113000
DTEND;TZID=America/Detroit:20241112T130000
DTSTAMP:20260425T070127
CREATED:20240710T173330Z
LAST-MODIFIED:20240710T173330Z
UID:10000596-1731411000-1731416400@detroitcristorey.org
SUMMARY:Lunch and Learn Series
DESCRIPTION:Please join us for a tour of Detroit Cristo Rey HS and learn more about our Corporate Work Study Program and how to be a partner. If you’d like to attend\, please RSVP to Nicole Gize at ngize@detroitcristorey.org.
URL:https://detroitcristorey.org/event/lunch-and-learn-series/2024-11-12/
LOCATION:Detroit Cristo Rey High School\, 5679 W. Vernor Highway\, Detroit\, MI\, 48209\, United States
CATEGORIES:Giving,Work Study
END:VEVENT
BEGIN:VEVENT
DTSTART;TZID=America/Detroit:20241108T090000
DTEND;TZID=America/Detroit:20241108T160000
DTSTAMP:20260425T070127
CREATED:20240725T162551Z
LAST-MODIFIED:20240822T171859Z
UID:10000851-1731056400-1731081600@detroitcristorey.org
SUMMARY:Grade 9 Workday
DESCRIPTION:
URL:https://detroitcristorey.org/event/grade-9-workday-24-25/2024-11-08/
CATEGORIES:Work Study
END:VEVENT
BEGIN:VEVENT
DTSTART;VALUE=DATE:20241105
DTEND;VALUE=DATE:20241106
DTSTAMP:20260425T070127
CREATED:20240725T162120Z
LAST-MODIFIED:20240822T162446Z
UID:10000748-1730793600-1730826000@detroitcristorey.org
SUMMARY:No Classes - No Work
DESCRIPTION:
URL:https://detroitcristorey.org/event/no-classes-no-work-24-25/2024-11-05/
CATEGORIES:Academics,Work Study
END:VEVENT
BEGIN:VEVENT
DTSTART;TZID=America/Detroit:20241101T090000
DTEND;TZID=America/Detroit:20241101T160000
DTSTAMP:20260425T070127
CREATED:20240725T162508Z
LAST-MODIFIED:20240822T171757Z
UID:10000845-1730451600-1730476800@detroitcristorey.org
SUMMARY:Grade 10 Workday
DESCRIPTION:
URL:https://detroitcristorey.org/event/grade-10-workday-24-25/2024-11-01/
CATEGORIES:Work Study
END:VEVENT
BEGIN:VEVENT
DTSTART;TZID=America/Detroit:20241025T090000
DTEND;TZID=America/Detroit:20241025T160000
DTSTAMP:20260425T070127
CREATED:20240725T162346Z
LAST-MODIFIED:20240822T171652Z
UID:10000839-1729846800-1729872000@detroitcristorey.org
SUMMARY:Grade 11 Workday
DESCRIPTION:
URL:https://detroitcristorey.org/event/grade-11-workday-24-25/2024-10-25/
CATEGORIES:Work Study
END:VEVENT
BEGIN:VEVENT
DTSTART;VALUE=DATE:20241018
DTEND;VALUE=DATE:20241019
DTSTAMP:20260425T070127
CREATED:20240725T162120Z
LAST-MODIFIED:20240822T162446Z
UID:10000826-1729238400-1729270800@detroitcristorey.org
SUMMARY:No Classes - No Work
DESCRIPTION:
URL:https://detroitcristorey.org/event/no-classes-no-work-24-25/2024-10-18/
CATEGORIES:Academics,Work Study
END:VEVENT
BEGIN:VEVENT
DTSTART;TZID=America/Detroit:20241015T113000
DTEND;TZID=America/Detroit:20241015T130000
DTSTAMP:20260425T070127
CREATED:20240710T173330Z
LAST-MODIFIED:20240710T173330Z
UID:10000595-1728991800-1728997200@detroitcristorey.org
SUMMARY:Lunch and Learn Series
DESCRIPTION:Please join us for a tour of Detroit Cristo Rey HS and learn more about our Corporate Work Study Program and how to be a partner. If you’d like to attend\, please RSVP to Nicole Gize at ngize@detroitcristorey.org.
URL:https://detroitcristorey.org/event/lunch-and-learn-series/2024-10-15/
LOCATION:Detroit Cristo Rey High School\, 5679 W. Vernor Highway\, Detroit\, MI\, 48209\, United States
CATEGORIES:Giving,Work Study
END:VEVENT
BEGIN:VEVENT
DTSTART;TZID=America/Detroit:20241011T090000
DTEND;TZID=America/Detroit:20241011T160000
DTSTAMP:20260425T070127
CREATED:20240808T174107Z
LAST-MODIFIED:20240822T172416Z
UID:10000824-1728637200-1728662400@detroitcristorey.org
SUMMARY:Make-Up Workday
DESCRIPTION:
URL:https://detroitcristorey.org/event/make-up-workday-24-25/2024-10-11/
CATEGORIES:Work Study
END:VEVENT
BEGIN:VEVENT
DTSTART;TZID=America/Detroit:20241004T090000
DTEND;TZID=America/Detroit:20241004T160000
DTSTAMP:20260425T070127
CREATED:20240808T175612Z
LAST-MODIFIED:20240822T161420Z
UID:10000833-1728032400-1728057600@detroitcristorey.org
SUMMARY:Grade 12 Workday
DESCRIPTION:
URL:https://detroitcristorey.org/event/grade-12-workday-24-25/2024-10-04/
CATEGORIES:Work Study
END:VEVENT
BEGIN:VEVENT
DTSTART;TZID=America/Detroit:20240927T090000
DTEND;TZID=America/Detroit:20240927T160000
DTSTAMP:20260425T070127
CREATED:20240725T162551Z
LAST-MODIFIED:20240822T171859Z
UID:10000850-1727427600-1727452800@detroitcristorey.org
SUMMARY:Grade 9 Workday
DESCRIPTION:
URL:https://detroitcristorey.org/event/grade-9-workday-24-25/2024-09-27/
CATEGORIES:Work Study
END:VEVENT
BEGIN:VEVENT
DTSTART;TZID=America/Detroit:20240920T090000
DTEND;TZID=America/Detroit:20240920T160000
DTSTAMP:20260425T070127
CREATED:20240725T162508Z
LAST-MODIFIED:20240822T171757Z
UID:10000844-1726822800-1726848000@detroitcristorey.org
SUMMARY:Grade 10 Workday
DESCRIPTION:
URL:https://detroitcristorey.org/event/grade-10-workday-24-25/2024-09-20/
CATEGORIES:Work Study
END:VEVENT
BEGIN:VEVENT
DTSTART;TZID=America/Detroit:20240917T113000
DTEND;TZID=America/Detroit:20240917T130000
DTSTAMP:20260425T070127
CREATED:20240710T173330Z
LAST-MODIFIED:20240710T173330Z
UID:10000594-1726572600-1726578000@detroitcristorey.org
SUMMARY:Lunch and Learn Series
DESCRIPTION:Please join us for a tour of Detroit Cristo Rey HS and learn more about our Corporate Work Study Program and how to be a partner. If you’d like to attend\, please RSVP to Nicole Gize at ngize@detroitcristorey.org.
URL:https://detroitcristorey.org/event/lunch-and-learn-series/2024-09-17/
LOCATION:Detroit Cristo Rey High School\, 5679 W. Vernor Highway\, Detroit\, MI\, 48209\, United States
CATEGORIES:Giving,Work Study
END:VEVENT
BEGIN:VEVENT
DTSTART;TZID=America/Detroit:20240913T090000
DTEND;TZID=America/Detroit:20240913T160000
DTSTAMP:20260425T070127
CREATED:20240725T162346Z
LAST-MODIFIED:20240822T171652Z
UID:10000838-1726218000-1726243200@detroitcristorey.org
SUMMARY:Grade 11 Workday
DESCRIPTION:
URL:https://detroitcristorey.org/event/grade-11-workday-24-25/2024-09-13/
CATEGORIES:Work Study
END:VEVENT
BEGIN:VEVENT
DTSTART;TZID=America/Detroit:20240906T090000
DTEND;TZID=America/Detroit:20240906T160000
DTSTAMP:20260425T070127
CREATED:20240808T175612Z
LAST-MODIFIED:20240822T161420Z
UID:10000832-1725613200-1725638400@detroitcristorey.org
SUMMARY:Grade 12 Workday
DESCRIPTION:
URL:https://detroitcristorey.org/event/grade-12-workday-24-25/2024-09-06/
CATEGORIES:Work Study
END:VEVENT
BEGIN:VEVENT
DTSTART;VALUE=DATE:20240906
DTEND;VALUE=DATE:20240907
DTSTAMP:20260425T070127
CREATED:20240725T162811Z
LAST-MODIFIED:20240725T162811Z
UID:10000678-1725580800-1725667199@detroitcristorey.org
SUMMARY:First Friday Workday Rotation
DESCRIPTION:
URL:https://detroitcristorey.org/event/first-friday-workday-rotation/
CATEGORIES:Work Study
END:VEVENT
BEGIN:VEVENT
DTSTART;TZID=America/Detroit:20240905T090000
DTEND;TZID=America/Detroit:20240905T160000
DTSTAMP:20260425T070127
CREATED:20240725T162551Z
LAST-MODIFIED:20240822T171859Z
UID:10000674-1725526800-1725552000@detroitcristorey.org
SUMMARY:Grade 9 Workday
DESCRIPTION:
URL:https://detroitcristorey.org/event/grade-9-workday-24-25/2024-09-05/
CATEGORIES:Work Study
END:VEVENT
END:VCALENDAR