BEGIN:VCALENDAR
VERSION:2.0
PRODID:-//Detroit Cristo Rey High School - ECPv6.15.20//NONSGML v1.0//EN
CALSCALE:GREGORIAN
METHOD:PUBLISH
X-WR-CALNAME:Detroit Cristo Rey High School
X-ORIGINAL-URL:https://detroitcristorey.org
X-WR-CALDESC:Events for Detroit Cristo Rey High School
REFRESH-INTERVAL;VALUE=DURATION:PT1H
X-Robots-Tag:noindex
X-PUBLISHED-TTL:PT1H
BEGIN:VTIMEZONE
TZID:America/Detroit
BEGIN:DAYLIGHT
TZOFFSETFROM:-0500
TZOFFSETTO:-0400
TZNAME:EDT
DTSTART:20240310T070000
END:DAYLIGHT
BEGIN:STANDARD
TZOFFSETFROM:-0400
TZOFFSETTO:-0500
TZNAME:EST
DTSTART:20241103T060000
END:STANDARD
BEGIN:DAYLIGHT
TZOFFSETFROM:-0500
TZOFFSETTO:-0400
TZNAME:EDT
DTSTART:20250309T070000
END:DAYLIGHT
BEGIN:STANDARD
TZOFFSETFROM:-0400
TZOFFSETTO:-0500
TZNAME:EST
DTSTART:20251102T060000
END:STANDARD
BEGIN:DAYLIGHT
TZOFFSETFROM:-0500
TZOFFSETTO:-0400
TZNAME:EDT
DTSTART:20260308T070000
END:DAYLIGHT
BEGIN:STANDARD
TZOFFSETFROM:-0400
TZOFFSETTO:-0500
TZNAME:EST
DTSTART:20261101T060000
END:STANDARD
BEGIN:DAYLIGHT
TZOFFSETFROM:-0500
TZOFFSETTO:-0400
TZNAME:EDT
DTSTART:20270314T070000
END:DAYLIGHT
BEGIN:STANDARD
TZOFFSETFROM:-0400
TZOFFSETTO:-0500
TZNAME:EST
DTSTART:20271107T060000
END:STANDARD
END:VTIMEZONE
BEGIN:VEVENT
DTSTART;VALUE=DATE:20251220
DTEND;VALUE=DATE:20260105
DTSTAMP:20260421T080149
CREATED:20250725T173857Z
LAST-MODIFIED:20250725T173857Z
UID:10001351-1766188800-1767571199@detroitcristorey.org
SUMMARY:Christmas Break
DESCRIPTION:No Classes – No Work
URL:https://detroitcristorey.org/event/christmas-break-2025/
CATEGORIES:Academics,Holidays & Breaks,Work Study
END:VEVENT
BEGIN:VEVENT
DTSTART;VALUE=DATE:20251212
DTEND;VALUE=DATE:20251213
DTSTAMP:20260421T080149
CREATED:20250725T180735Z
LAST-MODIFIED:20250730T203908Z
UID:10001385-1765497600-1765583999@detroitcristorey.org
SUMMARY:No Classes - No Work
DESCRIPTION:
URL:https://detroitcristorey.org/event/no-classes-no-work-25-26/2025-12-12/
CATEGORIES:Academics,Work Study
END:VEVENT
BEGIN:VEVENT
DTSTART;TZID=America/Detroit:20251205T090000
DTEND;TZID=America/Detroit:20251205T160000
DTSTAMP:20260421T080149
CREATED:20250724T155236Z
LAST-MODIFIED:20260121T185453Z
UID:10001632-1764925200-1764950400@detroitcristorey.org
SUMMARY:Grade 9 Workday
DESCRIPTION:
URL:https://detroitcristorey.org/event/grade-9-workday-25-26/2025-12-05/
CATEGORIES:Work Study
END:VEVENT
BEGIN:VEVENT
DTSTART;VALUE=DATE:20251205
DTEND;VALUE=DATE:20251206
DTSTAMP:20260421T080149
CREATED:20251020T121439Z
LAST-MODIFIED:20251020T121440Z
UID:10001442-1764892800-1764979199@detroitcristorey.org
SUMMARY:No Classes - Freshman Workday
DESCRIPTION:
URL:https://detroitcristorey.org/event/no-classes-freshman-workday-25-26-2/
CATEGORIES:Academics,Work Study
END:VEVENT
BEGIN:VEVENT
DTSTART;VALUE=DATE:20251126
DTEND;VALUE=DATE:20251201
DTSTAMP:20260421T080149
CREATED:20250725T170735Z
LAST-MODIFIED:20250725T170735Z
UID:10001345-1764115200-1764547199@detroitcristorey.org
SUMMARY:Thanksgiving Break
DESCRIPTION:No Classes – No Work
URL:https://detroitcristorey.org/event/thanksgiving-break-2025/
CATEGORIES:Academics,Holidays & Breaks,Work Study
END:VEVENT
BEGIN:VEVENT
DTSTART;TZID=America/Detroit:20251121T090000
DTEND;TZID=America/Detroit:20251121T160000
DTSTAMP:20260421T080149
CREATED:20250724T155111Z
LAST-MODIFIED:20260121T185321Z
UID:10001612-1763715600-1763740800@detroitcristorey.org
SUMMARY:Grade 10 Workday
DESCRIPTION:
URL:https://detroitcristorey.org/event/grade-10-workday-25-26/2025-11-21/
CATEGORIES:Work Study
END:VEVENT
BEGIN:VEVENT
DTSTART;TZID=America/Detroit:20251114T090000
DTEND;TZID=America/Detroit:20251114T160000
DTSTAMP:20260421T080150
CREATED:20250724T154847Z
LAST-MODIFIED:20260121T185218Z
UID:10001665-1763110800-1763136000@detroitcristorey.org
SUMMARY:Grade 11 Workday
DESCRIPTION:
URL:https://detroitcristorey.org/event/grade-11-workday-25-26/2025-11-14/
CATEGORIES:Work Study
END:VEVENT
BEGIN:VEVENT
DTSTART;TZID=America/Detroit:20251107T090000
DTEND;TZID=America/Detroit:20251107T160000
DTSTAMP:20260421T080150
CREATED:20250728T202102Z
LAST-MODIFIED:20260211T205714Z
UID:10001653-1762506000-1762531200@detroitcristorey.org
SUMMARY:Grade 12 Workday
DESCRIPTION:
URL:https://detroitcristorey.org/event/grade-12-workday-25-26/2025-11-07/
CATEGORIES:Work Study
END:VEVENT
BEGIN:VEVENT
DTSTART;VALUE=DATE:20251104
DTEND;VALUE=DATE:20251105
DTSTAMP:20260421T080150
CREATED:20250725T164543Z
LAST-MODIFIED:20251020T184443Z
UID:10001321-1762214400-1762300799@detroitcristorey.org
SUMMARY:Election Day
DESCRIPTION:No Classes – No Work
URL:https://detroitcristorey.org/event/election-day-2025/
CATEGORIES:Academics,Holidays & Breaks,Work Study
END:VEVENT
BEGIN:VEVENT
DTSTART;TZID=America/Detroit:20251031T090000
DTEND;TZID=America/Detroit:20251031T160000
DTSTAMP:20260421T080150
CREATED:20250724T155236Z
LAST-MODIFIED:20260121T185453Z
UID:10001631-1761901200-1761926400@detroitcristorey.org
SUMMARY:Grade 9 Workday
DESCRIPTION:
URL:https://detroitcristorey.org/event/grade-9-workday-25-26/2025-10-31/
CATEGORIES:Work Study
END:VEVENT
BEGIN:VEVENT
DTSTART;TZID=America/Detroit:20251024T090000
DTEND;TZID=America/Detroit:20251024T160000
DTSTAMP:20260421T080150
CREATED:20250724T155111Z
LAST-MODIFIED:20260121T185321Z
UID:10001611-1761296400-1761321600@detroitcristorey.org
SUMMARY:Grade 10 Workday
DESCRIPTION:
URL:https://detroitcristorey.org/event/grade-10-workday-25-26/2025-10-24/
CATEGORIES:Work Study
END:VEVENT
BEGIN:VEVENT
DTSTART;VALUE=DATE:20251010
DTEND;VALUE=DATE:20251011
DTSTAMP:20260421T080150
CREATED:20250724T174628Z
LAST-MODIFIED:20250729T175721Z
UID:10001291-1760054400-1760140799@detroitcristorey.org
SUMMARY:No Classes - Makeup Workday
DESCRIPTION:
URL:https://detroitcristorey.org/event/no-classes-makeup-workday-25-26/2025-10-10/
CATEGORIES:Academics,Work Study
END:VEVENT
BEGIN:VEVENT
DTSTART;TZID=America/Detroit:20250904T090000
DTEND;TZID=America/Detroit:20250904T160000
DTSTAMP:20260421T080150
CREATED:20250724T155236Z
LAST-MODIFIED:20260121T185453Z
UID:10001253-1756976400-1757001600@detroitcristorey.org
SUMMARY:Grade 9 Workday
DESCRIPTION:
URL:https://detroitcristorey.org/event/grade-9-workday-25-26/2025-09-04/
CATEGORIES:Work Study
END:VEVENT
BEGIN:VEVENT
DTSTART;TZID=America/Detroit:20250903T090000
DTEND;TZID=America/Detroit:20250903T160000
DTSTAMP:20260421T080150
CREATED:20250724T155111Z
LAST-MODIFIED:20260121T185321Z
UID:10001251-1756890000-1756915200@detroitcristorey.org
SUMMARY:Grade 10 Workday
DESCRIPTION:
URL:https://detroitcristorey.org/event/grade-10-workday-25-26/2025-09-03/
CATEGORIES:Work Study
END:VEVENT
BEGIN:VEVENT
DTSTART;TZID=America/Detroit:20250902T090000
DTEND;TZID=America/Detroit:20250902T160000
DTSTAMP:20260421T080150
CREATED:20250724T154847Z
LAST-MODIFIED:20260121T185218Z
UID:10001249-1756803600-1756828800@detroitcristorey.org
SUMMARY:Grade 11 Workday
DESCRIPTION:
URL:https://detroitcristorey.org/event/grade-11-workday-25-26/2025-09-02/
CATEGORIES:Work Study
END:VEVENT
BEGIN:VEVENT
DTSTART;VALUE=DATE:20250829
DTEND;VALUE=DATE:20250902
DTSTAMP:20260421T080150
CREATED:20250723T155813Z
LAST-MODIFIED:20250725T164845Z
UID:10001243-1756425600-1756771199@detroitcristorey.org
SUMMARY:Labor Day Weekend
DESCRIPTION:No Classes – No Work
URL:https://detroitcristorey.org/event/labor-day-weekend-2025/
CATEGORIES:Academics,Holidays & Breaks,Work Study
END:VEVENT
BEGIN:VEVENT
DTSTART;TZID=America/Detroit:20250820T073000
DTEND;TZID=America/Detroit:20250820T120000
DTSTAMP:20260421T080150
CREATED:20250723T151631Z
LAST-MODIFIED:20250723T151631Z
UID:10001217-1755675000-1755691200@detroitcristorey.org
SUMMARY:Work Study Business Training - Grade 10
DESCRIPTION:
URL:https://detroitcristorey.org/event/work-study-business-training-grade-10-2025/
LOCATION:Detroit Cristo Rey High School\, 5679 W. Vernor Highway\, Detroit\, MI\, 48209\, United States
CATEGORIES:Work Study
END:VEVENT
BEGIN:VEVENT
DTSTART;TZID=America/Detroit:20250819T073000
DTEND;TZID=America/Detroit:20250819T120000
DTSTAMP:20260421T080150
CREATED:20250723T151526Z
LAST-MODIFIED:20250723T151526Z
UID:10001215-1755588600-1755604800@detroitcristorey.org
SUMMARY:Work Study Business Training - Grade 11
DESCRIPTION:
URL:https://detroitcristorey.org/event/work-study-business-training-grade-11-2025/
LOCATION:Detroit Cristo Rey High School\, 5679 W. Vernor Highway\, Detroit\, MI\, 48209\, United States
CATEGORIES:Work Study
END:VEVENT
BEGIN:VEVENT
DTSTART;TZID=America/Detroit:20250818T073000
DTEND;TZID=America/Detroit:20250818T120000
DTSTAMP:20260421T080150
CREATED:20250723T151412Z
LAST-MODIFIED:20250723T151412Z
UID:10001213-1755502200-1755518400@detroitcristorey.org
SUMMARY:Work Study Business Training - Grade 12
DESCRIPTION:
URL:https://detroitcristorey.org/event/work-study-business-training-grade-12-2025/
LOCATION:Detroit Cristo Rey High School\, 5679 W. Vernor Highway\, Detroit\, MI\, 48209\, United States
CATEGORIES:Work Study
END:VEVENT
BEGIN:VEVENT
DTSTART;VALUE=DATE:20250811
DTEND;VALUE=DATE:20250815
DTSTAMP:20260421T080150
CREATED:20250723T145844Z
LAST-MODIFIED:20250723T145844Z
UID:10001203-1754870400-1755215999@detroitcristorey.org
SUMMARY:Work Study Business Training - Week 2
DESCRIPTION:For Grade 9 and Transfers \n7:30 a.m. to 12 p.m. daily
URL:https://detroitcristorey.org/event/work-study-business-training-week-2-2025/
LOCATION:Detroit Cristo Rey High School\, 5679 W. Vernor Highway\, Detroit\, MI\, 48209\, United States
CATEGORIES:Work Study
END:VEVENT
BEGIN:VEVENT
DTSTART;VALUE=DATE:20250804
DTEND;VALUE=DATE:20250809
DTSTAMP:20260421T080150
CREATED:20250723T145636Z
LAST-MODIFIED:20250723T145636Z
UID:10001201-1754265600-1754697599@detroitcristorey.org
SUMMARY:Work Study Business Training - Week 1
DESCRIPTION:For Grade 9 and Transfers \n7:30 a.m. to 12 p.m. daily
URL:https://detroitcristorey.org/event/work-study-business-training-week-1-2025/
LOCATION:Detroit Cristo Rey High School\, 5679 W. Vernor Highway\, Detroit\, MI\, 48209\, United States
CATEGORIES:Work Study
END:VEVENT
BEGIN:VEVENT
DTSTART;TZID=America/Detroit:20250617T090000
DTEND;TZID=America/Detroit:20250617T160000
DTSTAMP:20260421T080150
CREATED:20240808T174107Z
LAST-MODIFIED:20240822T172416Z
UID:10001115-1750150800-1750176000@detroitcristorey.org
SUMMARY:Make-Up Workday
DESCRIPTION:
URL:https://detroitcristorey.org/event/make-up-workday-24-25/2025-06-17/
CATEGORIES:Work Study
END:VEVENT
BEGIN:VEVENT
DTSTART;TZID=America/Detroit:20250616T090000
DTEND;TZID=America/Detroit:20250616T160000
DTSTAMP:20260421T080150
CREATED:20240808T174107Z
LAST-MODIFIED:20240822T172416Z
UID:10001114-1750064400-1750089600@detroitcristorey.org
SUMMARY:Make-Up Workday
DESCRIPTION:
URL:https://detroitcristorey.org/event/make-up-workday-24-25/2025-06-16/
CATEGORIES:Work Study
END:VEVENT
BEGIN:VEVENT
DTSTART;TZID=America/Detroit:20250612T090000
DTEND;TZID=America/Detroit:20250612T160000
DTSTAMP:20260421T080150
CREATED:20240725T162551Z
LAST-MODIFIED:20240822T171859Z
UID:10001106-1749718800-1749744000@detroitcristorey.org
SUMMARY:Grade 9 Workday
DESCRIPTION:
URL:https://detroitcristorey.org/event/grade-9-workday-24-25/2025-06-12/
CATEGORIES:Work Study
END:VEVENT
BEGIN:VEVENT
DTSTART;TZID=America/Detroit:20250611T090000
DTEND;TZID=America/Detroit:20250611T160000
DTSTAMP:20260421T080150
CREATED:20240725T162508Z
LAST-MODIFIED:20240822T171757Z
UID:10001104-1749632400-1749657600@detroitcristorey.org
SUMMARY:Grade 10 Workday
DESCRIPTION:
URL:https://detroitcristorey.org/event/grade-10-workday-24-25/2025-06-11/
CATEGORIES:Work Study
END:VEVENT
BEGIN:VEVENT
DTSTART;TZID=America/Detroit:20250610T090000
DTEND;TZID=America/Detroit:20250610T160000
DTSTAMP:20260421T080150
CREATED:20240725T162346Z
LAST-MODIFIED:20240822T171652Z
UID:10001102-1749546000-1749571200@detroitcristorey.org
SUMMARY:Grade 11 Workday
DESCRIPTION:
URL:https://detroitcristorey.org/event/grade-11-workday-24-25/2025-06-10/
CATEGORIES:Work Study
END:VEVENT
BEGIN:VEVENT
DTSTART;TZID=America/Detroit:20250606T090000
DTEND;TZID=America/Detroit:20250606T160000
DTSTAMP:20260421T080150
CREATED:20240725T162551Z
LAST-MODIFIED:20240822T171859Z
UID:10001096-1749200400-1749225600@detroitcristorey.org
SUMMARY:Grade 9 Workday
DESCRIPTION:
URL:https://detroitcristorey.org/event/grade-9-workday-24-25/2025-06-06/
CATEGORIES:Work Study
END:VEVENT
BEGIN:VEVENT
DTSTART;TZID=America/Detroit:20250602T090000
DTEND;TZID=America/Detroit:20250602T160000
DTSTAMP:20260421T080150
CREATED:20240822T162127Z
LAST-MODIFIED:20250501T195828Z
UID:10001072-1748854800-1748880000@detroitcristorey.org
SUMMARY:Senior Make-Up Workday
DESCRIPTION:
URL:https://detroitcristorey.org/event/senior-make-up-workday-24-25/
CATEGORIES:Work Study
END:VEVENT
BEGIN:VEVENT
DTSTART;TZID=America/Detroit:20250530T090000
DTEND;TZID=America/Detroit:20250530T160000
DTSTAMP:20260421T080150
CREATED:20240725T162508Z
LAST-MODIFIED:20240822T171757Z
UID:10001088-1748595600-1748620800@detroitcristorey.org
SUMMARY:Grade 10 Workday
DESCRIPTION:
URL:https://detroitcristorey.org/event/grade-10-workday-24-25/2025-05-30/
CATEGORIES:Work Study
END:VEVENT
BEGIN:VEVENT
DTSTART;VALUE=DATE:20250526
DTEND;VALUE=DATE:20250527
DTSTAMP:20260421T080150
CREATED:20240725T162120Z
LAST-MODIFIED:20240822T162446Z
UID:10001080-1748246400-1748278800@detroitcristorey.org
SUMMARY:No Classes - No Work
DESCRIPTION:
URL:https://detroitcristorey.org/event/no-classes-no-work-24-25/2025-05-26/
CATEGORIES:Academics,Work Study
END:VEVENT
END:VCALENDAR