BEGIN:VCALENDAR
VERSION:2.0
PRODID:-//Detroit Cristo Rey High School - ECPv6.15.20//NONSGML v1.0//EN
CALSCALE:GREGORIAN
METHOD:PUBLISH
X-WR-CALNAME:Detroit Cristo Rey High School
X-ORIGINAL-URL:https://detroitcristorey.org
X-WR-CALDESC:Events for Detroit Cristo Rey High School
REFRESH-INTERVAL;VALUE=DURATION:PT1H
X-Robots-Tag:noindex
X-PUBLISHED-TTL:PT1H
BEGIN:VTIMEZONE
TZID:America/Detroit
BEGIN:DAYLIGHT
TZOFFSETFROM:-0500
TZOFFSETTO:-0400
TZNAME:EDT
DTSTART:20240310T070000
END:DAYLIGHT
BEGIN:STANDARD
TZOFFSETFROM:-0400
TZOFFSETTO:-0500
TZNAME:EST
DTSTART:20241103T060000
END:STANDARD
BEGIN:DAYLIGHT
TZOFFSETFROM:-0500
TZOFFSETTO:-0400
TZNAME:EDT
DTSTART:20250309T070000
END:DAYLIGHT
BEGIN:STANDARD
TZOFFSETFROM:-0400
TZOFFSETTO:-0500
TZNAME:EST
DTSTART:20251102T060000
END:STANDARD
BEGIN:DAYLIGHT
TZOFFSETFROM:-0500
TZOFFSETTO:-0400
TZNAME:EDT
DTSTART:20260308T070000
END:DAYLIGHT
BEGIN:STANDARD
TZOFFSETFROM:-0400
TZOFFSETTO:-0500
TZNAME:EST
DTSTART:20261101T060000
END:STANDARD
BEGIN:DAYLIGHT
TZOFFSETFROM:-0500
TZOFFSETTO:-0400
TZNAME:EDT
DTSTART:20270314T070000
END:DAYLIGHT
BEGIN:STANDARD
TZOFFSETFROM:-0400
TZOFFSETTO:-0500
TZNAME:EST
DTSTART:20271107T060000
END:STANDARD
END:VTIMEZONE
BEGIN:VEVENT
DTSTART;VALUE=DATE:20251205
DTEND;VALUE=DATE:20251206
DTSTAMP:20260425T084239
CREATED:20251020T121439Z
LAST-MODIFIED:20251020T121440Z
UID:10001442-1764892800-1764979199@detroitcristorey.org
SUMMARY:No Classes - Freshman Workday
DESCRIPTION:
URL:https://detroitcristorey.org/event/no-classes-freshman-workday-25-26-2/
CATEGORIES:Academics,Work Study
END:VEVENT
BEGIN:VEVENT
DTSTART;TZID=America/Detroit:20251205T090000
DTEND;TZID=America/Detroit:20251205T160000
DTSTAMP:20260425T084239
CREATED:20250724T155236Z
LAST-MODIFIED:20260121T185453Z
UID:10001632-1764925200-1764950400@detroitcristorey.org
SUMMARY:Grade 9 Workday
DESCRIPTION:
URL:https://detroitcristorey.org/event/grade-9-workday-25-26/2025-12-05/
CATEGORIES:Work Study
END:VEVENT
BEGIN:VEVENT
DTSTART;VALUE=DATE:20251212
DTEND;VALUE=DATE:20251213
DTSTAMP:20260425T084239
CREATED:20250725T180735Z
LAST-MODIFIED:20250730T203908Z
UID:10001385-1765497600-1765583999@detroitcristorey.org
SUMMARY:No Classes - No Work
DESCRIPTION:
URL:https://detroitcristorey.org/event/no-classes-no-work-25-26/2025-12-12/
CATEGORIES:Academics,Work Study
END:VEVENT
BEGIN:VEVENT
DTSTART;VALUE=DATE:20251220
DTEND;VALUE=DATE:20260105
DTSTAMP:20260425T084239
CREATED:20250725T173857Z
LAST-MODIFIED:20250725T173857Z
UID:10001351-1766188800-1767571199@detroitcristorey.org
SUMMARY:Christmas Break
DESCRIPTION:No Classes – No Work
URL:https://detroitcristorey.org/event/christmas-break-2025/
CATEGORIES:Academics,Holidays & Breaks,Work Study
END:VEVENT
END:VCALENDAR