BEGIN:VCALENDAR
VERSION:2.0
PRODID:-//Detroit Cristo Rey High School - ECPv6.15.20//NONSGML v1.0//EN
CALSCALE:GREGORIAN
METHOD:PUBLISH
X-WR-CALNAME:Detroit Cristo Rey High School
X-ORIGINAL-URL:https://detroitcristorey.org
X-WR-CALDESC:Events for Detroit Cristo Rey High School
REFRESH-INTERVAL;VALUE=DURATION:PT1H
X-Robots-Tag:noindex
X-PUBLISHED-TTL:PT1H
BEGIN:VTIMEZONE
TZID:America/Detroit
BEGIN:DAYLIGHT
TZOFFSETFROM:-0500
TZOFFSETTO:-0400
TZNAME:EDT
DTSTART:20250309T070000
END:DAYLIGHT
BEGIN:STANDARD
TZOFFSETFROM:-0400
TZOFFSETTO:-0500
TZNAME:EST
DTSTART:20251102T060000
END:STANDARD
BEGIN:DAYLIGHT
TZOFFSETFROM:-0500
TZOFFSETTO:-0400
TZNAME:EDT
DTSTART:20260308T070000
END:DAYLIGHT
BEGIN:STANDARD
TZOFFSETFROM:-0400
TZOFFSETTO:-0500
TZNAME:EST
DTSTART:20261101T060000
END:STANDARD
BEGIN:DAYLIGHT
TZOFFSETFROM:-0500
TZOFFSETTO:-0400
TZNAME:EDT
DTSTART:20270314T070000
END:DAYLIGHT
BEGIN:STANDARD
TZOFFSETFROM:-0400
TZOFFSETTO:-0500
TZNAME:EST
DTSTART:20271107T060000
END:STANDARD
END:VTIMEZONE
BEGIN:VEVENT
DTSTART;VALUE=DATE:20260504
DTEND;VALUE=DATE:20260509
DTSTAMP:20260421T082913
CREATED:20250730T200912Z
LAST-MODIFIED:20250730T200912Z
UID:10001550-1777852800-1778284799@detroitcristorey.org
SUMMARY:Teacher Appreciation Week
DESCRIPTION:
URL:https://detroitcristorey.org/event/teacher-appreciation-week-2026/
LOCATION:MI
CATEGORIES:Faculty & Staff
END:VEVENT
BEGIN:VEVENT
DTSTART;TZID=America/Detroit:20260520T080000
DTEND;TZID=America/Detroit:20260520T090000
DTSTAMP:20260421T082913
CREATED:20250724T160651Z
LAST-MODIFIED:20251021T175215Z
UID:10001717-1779264000-1779267600@detroitcristorey.org
SUMMARY:Board of Trustees Meeting
DESCRIPTION:
URL:https://detroitcristorey.org/event/board-of-trustees-meeting-25-26/2026-05-20/
LOCATION:Detroit Cristo Rey High School\, 5679 W. Vernor Highway\, Detroit\, MI\, 48209\, United States
CATEGORIES:Faculty & Staff
END:VEVENT
BEGIN:VEVENT
DTSTART;VALUE=DATE:20260602
DTEND;VALUE=DATE:20260603
DTSTAMP:20260421T082913
CREATED:20250730T205003Z
LAST-MODIFIED:20250730T205003Z
UID:10001580-1780358400-1780444799@detroitcristorey.org
SUMMARY:Records Day - Seniors
DESCRIPTION:Fourth Quarter Senior Grades Due by 11:59 p.m.
URL:https://detroitcristorey.org/event/records-day-seniors-2026/
LOCATION:MI
CATEGORIES:Faculty & Staff
END:VEVENT
BEGIN:VEVENT
DTSTART;TZID=America/Detroit:20260610T130000
DTEND;TZID=America/Detroit:20260610T150000
DTSTAMP:20260421T082913
CREATED:20250731T164427Z
LAST-MODIFIED:20260121T185739Z
UID:10001608-1781096400-1781103600@detroitcristorey.org
SUMMARY:Faculty Meeting
DESCRIPTION:
URL:https://detroitcristorey.org/event/faculty-meeting-25-26/2026-06-10/
LOCATION:Detroit Cristo Rey High School\, 5679 W. Vernor Highway\, Detroit\, MI\, 48209\, United States
CATEGORIES:Faculty & Staff
END:VEVENT
BEGIN:VEVENT
DTSTART;VALUE=DATE:20260615
DTEND;VALUE=DATE:20260616
DTSTAMP:20260421T082913
CREATED:20250730T210703Z
LAST-MODIFIED:20250730T210703Z
UID:10001594-1781481600-1781567999@detroitcristorey.org
SUMMARY:Records Day - Grades 9 to 11
DESCRIPTION:Fourth Quarter Grades Due by 11:59 p.m.
URL:https://detroitcristorey.org/event/records-day-grades-9-to-11-2026/
LOCATION:MI
CATEGORIES:Faculty & Staff
END:VEVENT
BEGIN:VEVENT
DTSTART;VALUE=DATE:20260615
DTEND;VALUE=DATE:20260616
DTSTAMP:20260421T082913
CREATED:20250730T211606Z
LAST-MODIFIED:20250730T211606Z
UID:10001602-1781481600-1781567999@detroitcristorey.org
SUMMARY:Summer Hours Begin
DESCRIPTION:Monday to Thursday: 8am to 2pm in the building\, 2pm to 4pm working from home\nFriday: 8am to 12pm working from home
URL:https://detroitcristorey.org/event/summer-hours-begin-2026/
LOCATION:MI
CATEGORIES:Faculty & Staff
END:VEVENT
END:VCALENDAR