BEGIN:VCALENDAR
VERSION:2.0
PRODID:-//Detroit Cristo Rey High School - ECPv6.15.20//NONSGML v1.0//EN
CALSCALE:GREGORIAN
METHOD:PUBLISH
X-WR-CALNAME:Detroit Cristo Rey High School
X-ORIGINAL-URL:https://detroitcristorey.org
X-WR-CALDESC:Events for Detroit Cristo Rey High School
REFRESH-INTERVAL;VALUE=DURATION:PT1H
X-Robots-Tag:noindex
X-PUBLISHED-TTL:PT1H
BEGIN:VTIMEZONE
TZID:America/Detroit
BEGIN:DAYLIGHT
TZOFFSETFROM:-0500
TZOFFSETTO:-0400
TZNAME:EDT
DTSTART:20250309T070000
END:DAYLIGHT
BEGIN:STANDARD
TZOFFSETFROM:-0400
TZOFFSETTO:-0500
TZNAME:EST
DTSTART:20251102T060000
END:STANDARD
BEGIN:DAYLIGHT
TZOFFSETFROM:-0500
TZOFFSETTO:-0400
TZNAME:EDT
DTSTART:20260308T070000
END:DAYLIGHT
BEGIN:STANDARD
TZOFFSETFROM:-0400
TZOFFSETTO:-0500
TZNAME:EST
DTSTART:20261101T060000
END:STANDARD
BEGIN:DAYLIGHT
TZOFFSETFROM:-0500
TZOFFSETTO:-0400
TZNAME:EDT
DTSTART:20270314T070000
END:DAYLIGHT
BEGIN:STANDARD
TZOFFSETFROM:-0400
TZOFFSETTO:-0500
TZNAME:EST
DTSTART:20271107T060000
END:STANDARD
END:VTIMEZONE
BEGIN:VEVENT
DTSTART;TZID=America/Detroit:20260204T153000
DTEND;TZID=America/Detroit:20260204T173000
DTSTAMP:20260421T191009
CREATED:20260107T145452Z
LAST-MODIFIED:20260109T160940Z
UID:10001735-1770219000-1770226200@detroitcristorey.org
SUMMARY:Black History Month Family Celebration
DESCRIPTION:
URL:https://detroitcristorey.org/event/black-history-month-family-celebration-2026/
LOCATION:Detroit Cristo Rey High School\, 5679 W. Vernor Highway\, Detroit\, MI\, 48209\, United States
CATEGORIES:General
END:VEVENT
BEGIN:VEVENT
DTSTART;TZID=America/Detroit:20260211T094500
DTEND;TZID=America/Detroit:20260211T094500
DTSTAMP:20260421T191009
CREATED:20251020T190729Z
LAST-MODIFIED:20251021T170914Z
UID:10001691-1770803100-1770803100@detroitcristorey.org
SUMMARY:Lockdown Drill
DESCRIPTION:
URL:https://detroitcristorey.org/event/lockdown-drill-25-26/2026-02-11/
LOCATION:Detroit Cristo Rey High School\, 5679 W. Vernor Highway\, Detroit\, MI\, 48209\, United States
CATEGORIES:General
END:VEVENT
BEGIN:VEVENT
DTSTART;VALUE=DATE:20260212
DTEND;VALUE=DATE:20260213
DTSTAMP:20260421T191009
CREATED:20260203T160600Z
LAST-MODIFIED:20260203T160600Z
UID:10001759-1770854400-1770940799@detroitcristorey.org
SUMMARY:Morning Prayer Service Schedule
DESCRIPTION:
URL:https://detroitcristorey.org/event/morning-prayer-service-schedule-25-26/
LOCATION:Detroit Cristo Rey High School\, 5679 W. Vernor Highway\, Detroit\, MI\, 48209\, United States
CATEGORIES:General
END:VEVENT
BEGIN:VEVENT
DTSTART;TZID=America/Detroit:20260219T173000
DTEND;TZID=America/Detroit:20260219T190000
DTSTAMP:20260421T191009
CREATED:20260212T202548Z
LAST-MODIFIED:20260212T202656Z
UID:10001767-1771522200-1771527600@detroitcristorey.org
SUMMARY:Meet & Greet with Bill McGrail
DESCRIPTION:The DCR Board of Trustees Invites You to Meet New DCR President Bill McGrail \nRemarks at 6:30pm \nLight refreshments served \nRSVP to Event
URL:https://detroitcristorey.org/event/meet-and-greet-with-bill-mcgrail/
LOCATION:Detroit Cristo Rey High School\, 5679 W. Vernor Highway\, Detroit\, MI\, 48209\, United States
CATEGORIES:Faculty & Staff,General
END:VEVENT
END:VCALENDAR